BEGIN:VCALENDAR
VERSION:2.0
PRODID:-//East Lincoln Alliance Church - ECPv6.15.20//NONSGML v1.0//EN
CALSCALE:GREGORIAN
METHOD:PUBLISH
X-WR-CALNAME:East Lincoln Alliance Church
X-ORIGINAL-URL:https://eastlincolnalliance.com
X-WR-CALDESC:Events for East Lincoln Alliance Church
REFRESH-INTERVAL;VALUE=DURATION:PT1H
X-Robots-Tag:noindex
X-PUBLISHED-TTL:PT1H
BEGIN:VTIMEZONE
TZID:UTC
BEGIN:STANDARD
TZOFFSETFROM:+0000
TZOFFSETTO:+0000
TZNAME:UTC
DTSTART:20240101T000000
END:STANDARD
END:VTIMEZONE
BEGIN:VEVENT
DTSTART;TZID=UTC:20251202T183000
DTEND;TZID=UTC:20251202T193000
DTSTAMP:20260424T001704
CREATED:20250909T201650Z
LAST-MODIFIED:20250909T201650Z
UID:11034-1764700200-1764703800@eastlincolnalliance.com
SUMMARY:Prayer Gathering
DESCRIPTION:All are invited to join as we pray for each other\, our community and world.  Every Tuesday\, 6:30pm
URL:https://eastlincolnalliance.com/event/prayer-gathering-86/
LOCATION:East Lincoln Alliance Church\, 735 70th Avenue\, Amery\, WI\, 54001\, United States
END:VEVENT
BEGIN:VEVENT
DTSTART;TZID=UTC:20251203T151500
DTEND;TZID=UTC:20251203T163000
DTSTAMP:20260424T001704
CREATED:20250902T204745Z
LAST-MODIFIED:20250902T204745Z
UID:10918-1764774900-1764779400@eastlincolnalliance.com
SUMMARY:After School Good News Club
DESCRIPTION:All K-5th grade students are invited to After School Good News Club at Lien Elementary School (Amery) right after school (3:15pm) until 4:30pm every Wednesday that Amery Schools are in session. \nStudents attending the Intermediate School should ride the transfer bus to the Elementary School. Registration Forms must be filled out (below).   Questions? Contact Mary Schussman. \neastlincolnalliance.com/ninja-forms/10okpn/
URL:https://eastlincolnalliance.com/event/after-school-good-news-club-95/
LOCATION:Lien Elementary School\, 469 Minneapolis Ave S\, Amery\, WI\, 54001\, United States
END:VEVENT
BEGIN:VEVENT
DTSTART;TZID=UTC:20251203T180000
DTEND;TZID=UTC:20251203T200000
DTSTAMP:20260424T001704
CREATED:20250902T202743Z
LAST-MODIFIED:20250902T202743Z
UID:10864-1764784800-1764792000@eastlincolnalliance.com
SUMMARY:Recharge
DESCRIPTION:All students 6-12th grade are invited to attend.  Make sure to invite your friends!
URL:https://eastlincolnalliance.com/event/recharge-124/
LOCATION:East Lincoln Alliance Church\, 735 70th Avenue\, Amery\, WI\, 54001\, United States
END:VEVENT
BEGIN:VEVENT
DTSTART;TZID=UTC:20251203T180000
DTEND;TZID=UTC:20251203T200000
DTSTAMP:20260424T001704
CREATED:20250902T203829Z
LAST-MODIFIED:20250902T203829Z
UID:10890-1764784800-1764792000@eastlincolnalliance.com
SUMMARY:Son Seekers
DESCRIPTION:Son Seekers is a program for K-5th graders.  Programming is 6-8pm every Wednesday at East Lincoln Alliance Church. We will have games\, stories\, songs\, crafts.
URL:https://eastlincolnalliance.com/event/son-seekers-64/
LOCATION:East Lincoln Alliance Church\, 735 70th Avenue\, Amery\, WI\, 54001\, United States
END:VEVENT
BEGIN:VEVENT
DTSTART;TZID=UTC:20251205T180000
DTEND;TZID=UTC:20251205T200000
DTSTAMP:20260424T001704
CREATED:20251107T234625Z
LAST-MODIFIED:20251107T234625Z
UID:11116-1764957600-1764964800@eastlincolnalliance.com
SUMMARY:Ladies Christmas Cafe
DESCRIPTION:All ladies are invited to the Christmas Cafe.  Jo Kiel will be our speaker this year.  We will enjoy a soup supper together.  Register by e-mailing Kathy Schwanke (schwankekathy@gmail.com)\, the church office (elac@amerytel.net) or at the Information Table.
URL:https://eastlincolnalliance.com/event/ladies-christmas-cafe/
LOCATION:East Lincoln Alliance Church\, 735 70th Avenue\, Amery\, WI\, 54001\, United States
END:VEVENT
BEGIN:VEVENT
DTSTART;TZID=UTC:20251207T084500
DTEND;TZID=UTC:20251207T094500
DTSTAMP:20260424T001704
CREATED:20250909T193915Z
LAST-MODIFIED:20250909T193915Z
UID:10983-1765097100-1765100700@eastlincolnalliance.com
SUMMARY:Discipleship Hour
DESCRIPTION:Join us for Discipleship Hour from 8:45-9:45am.  All 6th grade and up are invited.
URL:https://eastlincolnalliance.com/event/discipleship-hour-83/
LOCATION:East Lincoln Alliance Church\, 735 70th Avenue\, Amery\, WI\, 54001\, United States
END:VEVENT
BEGIN:VEVENT
DTSTART;TZID=UTC:20251207T100000
DTEND;TZID=UTC:20251207T111500
DTSTAMP:20260424T001704
CREATED:20250909T195548Z
LAST-MODIFIED:20250909T195548Z
UID:11009-1765101600-1765106100@eastlincolnalliance.com
SUMMARY:Worship Service
DESCRIPTION:We welcome you to our regular worship service every Sunday @ 10:00am.\n\n\n\nWe offer the following services for kids during the Worship Service: \nEarly Childhood care for 1-3 year olds in the East Wing \n4 years old-Kindergarten in the West Wing (Discovery Land) \n1st-5th Grade in the East Wing (Discovery Land)
URL:https://eastlincolnalliance.com/event/worship-service-179/
LOCATION:East Lincoln Alliance Church\, 735 70th Avenue\, Amery\, WI\, 54001\, United States
END:VEVENT
BEGIN:VEVENT
DTSTART;TZID=UTC:20251207T173000
DTEND;TZID=UTC:20251207T200000
DTSTAMP:20260424T001704
CREATED:20251124T160052Z
LAST-MODIFIED:20251124T160052Z
UID:11145-1765128600-1765137600@eastlincolnalliance.com
SUMMARY:Small Group
DESCRIPTION:Kathy Schwanke
URL:https://eastlincolnalliance.com/event/small-group-3/
LOCATION:East Lincoln Alliance Church\, 735 70th Avenue\, Amery\, WI\, 54001\, United States
END:VEVENT
BEGIN:VEVENT
DTSTART;TZID=UTC:20251210T090000
DTEND;TZID=UTC:20251210T160000
DTSTAMP:20260424T001704
CREATED:20251201T144100Z
LAST-MODIFIED:20251201T144100Z
UID:11168-1765357200-1765382400@eastlincolnalliance.com
SUMMARY:Women's Craft Day
DESCRIPTION:Women are invited to join on Wednesday\, December 10th 9am-4pm at Jolene Wester’s for a day of crafting and fellowship. Bring whatever project you are working on or just come and visit! Pack a lunch. Contact Julie Anderson if you have questions\, 715-607-8022.
URL:https://eastlincolnalliance.com/event/womens-craft-day-42/
LOCATION:Jolene Wester’s
END:VEVENT
BEGIN:VEVENT
DTSTART;TZID=UTC:20251210T151500
DTEND;TZID=UTC:20251210T163000
DTSTAMP:20260424T001704
CREATED:20250902T204810Z
LAST-MODIFIED:20250902T204810Z
UID:10920-1765379700-1765384200@eastlincolnalliance.com
SUMMARY:After School Good News Club
DESCRIPTION:All K-5th grade students are invited to After School Good News Club at Lien Elementary School (Amery) right after school (3:15pm) until 4:30pm every Wednesday that Amery Schools are in session. \nStudents attending the Intermediate School should ride the transfer bus to the Elementary School. Registration Forms must be filled out (below).   Questions? Contact Mary Schussman. \neastlincolnalliance.com/ninja-forms/10okpn/
URL:https://eastlincolnalliance.com/event/after-school-good-news-club-96/
LOCATION:Lien Elementary School\, 469 Minneapolis Ave S\, Amery\, WI\, 54001\, United States
END:VEVENT
BEGIN:VEVENT
DTSTART;TZID=UTC:20251210T180000
DTEND;TZID=UTC:20251210T200000
DTSTAMP:20260424T001704
CREATED:20250902T203001Z
LAST-MODIFIED:20250902T203001Z
UID:10866-1765389600-1765396800@eastlincolnalliance.com
SUMMARY:Recharge
DESCRIPTION:All students 6-12th grade are invited to attend.  Make sure to invite your friends!
URL:https://eastlincolnalliance.com/event/recharge-125/
LOCATION:East Lincoln Alliance Church\, 735 70th Avenue\, Amery\, WI\, 54001\, United States
END:VEVENT
BEGIN:VEVENT
DTSTART;TZID=UTC:20251210T180000
DTEND;TZID=UTC:20251210T200000
DTSTAMP:20260424T001704
CREATED:20250902T203852Z
LAST-MODIFIED:20250902T203852Z
UID:10892-1765389600-1765396800@eastlincolnalliance.com
SUMMARY:Son Seekers
DESCRIPTION:Son Seekers is a program for K-5th graders.  Programming is 6-8pm every Wednesday at East Lincoln Alliance Church. We will have games\, stories\, songs\, crafts.
URL:https://eastlincolnalliance.com/event/son-seekers-65/
LOCATION:East Lincoln Alliance Church\, 735 70th Avenue\, Amery\, WI\, 54001\, United States
END:VEVENT
BEGIN:VEVENT
DTSTART;TZID=UTC:20251214T084500
DTEND;TZID=UTC:20251214T094500
DTSTAMP:20260424T001704
CREATED:20250909T193948Z
LAST-MODIFIED:20250909T193948Z
UID:10985-1765701900-1765705500@eastlincolnalliance.com
SUMMARY:Discipleship Hour
DESCRIPTION:Join us for Discipleship Hour from 8:45-9:45am.  All 6th grade and up are invited.
URL:https://eastlincolnalliance.com/event/discipleship-hour-84/
LOCATION:East Lincoln Alliance Church\, 735 70th Avenue\, Amery\, WI\, 54001\, United States
END:VEVENT
BEGIN:VEVENT
DTSTART;TZID=UTC:20251214T100000
DTEND;TZID=UTC:20251214T111500
DTSTAMP:20260424T001704
CREATED:20250909T195612Z
LAST-MODIFIED:20250909T195612Z
UID:11011-1765706400-1765710900@eastlincolnalliance.com
SUMMARY:Worship Service
DESCRIPTION:We welcome you to our regular worship service every Sunday @ 10:00am.\n\n\n\nWe offer the following services for kids during the Worship Service: \nEarly Childhood care for 1-3 year olds in the East Wing \n4 years old-Kindergarten in the West Wing (Discovery Land) \n1st-5th Grade in the East Wing (Discovery Land)
URL:https://eastlincolnalliance.com/event/worship-service-180/
LOCATION:East Lincoln Alliance Church\, 735 70th Avenue\, Amery\, WI\, 54001\, United States
END:VEVENT
BEGIN:VEVENT
DTSTART;TZID=UTC:20251214T110000
DTEND;TZID=UTC:20251214T120000
DTSTAMP:20260424T001704
CREATED:20251103T180608Z
LAST-MODIFIED:20251103T180608Z
UID:11109-1765710000-1765713600@eastlincolnalliance.com
SUMMARY:Fundraiser Bake Sale
DESCRIPTION:SAVE THE DATE!  December 14th following our church service! \nThere will be a “Free Will Offering” Christmas Bake Sale \nfor Rosemary and Erika on their upcoming Uganda Mission Trip \nin January\, 2026.  We are asking for donations of cookies\, bars\, and \nother goodies and crafts.  More details to follow later! \nPlease message or call Rita Bailey (601-946-4613) with any questions.
URL:https://eastlincolnalliance.com/event/fundraiser-bake-sale/
LOCATION:East Lincoln Alliance Church\, 735 70th Avenue\, Amery\, WI\, 54001\, United States
END:VEVENT
BEGIN:VEVENT
DTSTART;TZID=UTC:20251214T173000
DTEND;TZID=UTC:20251214T200000
DTSTAMP:20260424T001704
CREATED:20251124T160121Z
LAST-MODIFIED:20251124T160121Z
UID:11147-1765733400-1765742400@eastlincolnalliance.com
SUMMARY:Small Group
DESCRIPTION:Kathy Schwanke
URL:https://eastlincolnalliance.com/event/small-group-4/
LOCATION:East Lincoln Alliance Church\, 735 70th Avenue\, Amery\, WI\, 54001\, United States
END:VEVENT
BEGIN:VEVENT
DTSTART;TZID=UTC:20251215T180000
DTEND;TZID=UTC:20251215T203000
DTSTAMP:20260424T001704
CREATED:20250922T150537Z
LAST-MODIFIED:20250922T150537Z
UID:11057-1765821600-1765830600@eastlincolnalliance.com
SUMMARY:Elder Meeting
DESCRIPTION:
URL:https://eastlincolnalliance.com/event/elder-meeting-18/
LOCATION:East Lincoln Alliance Church\, 735 70th Avenue\, Amery\, WI\, 54001\, United States
END:VEVENT
BEGIN:VEVENT
DTSTART;TZID=UTC:20251217T180000
DTEND;TZID=UTC:20251217T200000
DTSTAMP:20260424T001704
CREATED:20250902T203029Z
LAST-MODIFIED:20250902T203029Z
UID:10868-1765994400-1766001600@eastlincolnalliance.com
SUMMARY:Recharge
DESCRIPTION:All students 6-12th grade are invited to attend.  Make sure to invite your friends!
URL:https://eastlincolnalliance.com/event/recharge-126/
LOCATION:East Lincoln Alliance Church\, 735 70th Avenue\, Amery\, WI\, 54001\, United States
END:VEVENT
BEGIN:VEVENT
DTSTART;TZID=UTC:20251217T180000
DTEND;TZID=UTC:20251217T200000
DTSTAMP:20260424T001704
CREATED:20250902T203917Z
LAST-MODIFIED:20250902T203917Z
UID:10894-1765994400-1766001600@eastlincolnalliance.com
SUMMARY:Son Seekers
DESCRIPTION:Son Seekers is a program for K-5th graders.  Programming is 6-8pm every Wednesday at East Lincoln Alliance Church. We will have games\, stories\, songs\, crafts.
URL:https://eastlincolnalliance.com/event/son-seekers-66/
LOCATION:East Lincoln Alliance Church\, 735 70th Avenue\, Amery\, WI\, 54001\, United States
END:VEVENT
BEGIN:VEVENT
DTSTART;TZID=UTC:20251218T143000
DTEND;TZID=UTC:20251218T160000
DTSTAMP:20260424T001704
CREATED:20251120T003925Z
LAST-MODIFIED:20251120T003925Z
UID:11130-1766068200-1766073600@eastlincolnalliance.com
SUMMARY:Private Event
DESCRIPTION:Student Christmas Party – Kayla Nelson
URL:https://eastlincolnalliance.com/event/private-event-17/
LOCATION:East Lincoln Alliance Church\, 735 70th Avenue\, Amery\, WI\, 54001\, United States
END:VEVENT
BEGIN:VEVENT
DTSTART;TZID=UTC:20251219T180000
DTEND;TZID=UTC:20251219T200000
DTSTAMP:20260424T001704
CREATED:20250721T132952Z
LAST-MODIFIED:20250721T132952Z
UID:10760-1766167200-1766174400@eastlincolnalliance.com
SUMMARY:Grace Marriage
DESCRIPTION:
URL:https://eastlincolnalliance.com/event/grace-marriage-11/
LOCATION:East Lincoln Alliance Church\, 735 70th Avenue\, Amery\, WI\, 54001\, United States
END:VEVENT
BEGIN:VEVENT
DTSTART;TZID=UTC:20251220T120000
DTEND;TZID=UTC:20251220T133000
DTSTAMP:20260424T001704
CREATED:20251208T151902Z
LAST-MODIFIED:20251208T151902Z
UID:11297-1766232000-1766237400@eastlincolnalliance.com
SUMMARY:Hi-Rise Meal
DESCRIPTION:We will be serving our monthly meal to the residents of the Amery Hi-Rise on Saturday\, December 20th at 12pm. We are looking for help with the meal. \nFood can be dropped off at the Hi-Rise (300 Harriman Ave N\, Amery) on the 16th at 11:30am or text Kim Davis for alternate arrangements (320-266-4859). \nWe are also needing 5-7 people to help set up\, serve food/mingle and clean up. Please arrive at the Hi-Rise at 11:30am and should be done between 1-1:30pm. \nThere is a sign-up sheet at the Information Table at church or contact the church office to get your name added.  Any questions\, contact Kim Davis at 320-266-4859 or any of the planning team.
URL:https://eastlincolnalliance.com/event/hi-rise-meal-13/
LOCATION:Amery Hi Rise\, 300 Harriman Ave\, Amery\, 54001\, United States
END:VEVENT
BEGIN:VEVENT
DTSTART;TZID=UTC:20251221T084500
DTEND;TZID=UTC:20251221T094500
DTSTAMP:20260424T001704
CREATED:20250909T194224Z
LAST-MODIFIED:20250909T194224Z
UID:10987-1766306700-1766310300@eastlincolnalliance.com
SUMMARY:Discipleship Hour
DESCRIPTION:Join us for Discipleship Hour from 8:45-9:45am.  All 6th grade and up are invited.
URL:https://eastlincolnalliance.com/event/discipleship-hour-85/
LOCATION:East Lincoln Alliance Church\, 735 70th Avenue\, Amery\, WI\, 54001\, United States
END:VEVENT
BEGIN:VEVENT
DTSTART;TZID=UTC:20251221T100000
DTEND;TZID=UTC:20251221T103000
DTSTAMP:20260424T001704
CREATED:20251027T152820Z
LAST-MODIFIED:20251027T152820Z
UID:11101-1766311200-1766313000@eastlincolnalliance.com
SUMMARY:Children's Christmas Program
DESCRIPTION:Ages 4 to 5th grade.
URL:https://eastlincolnalliance.com/event/childrens-christmas-program/
LOCATION:East Lincoln Alliance Church\, 735 70th Avenue\, Amery\, WI\, 54001\, United States
END:VEVENT
BEGIN:VEVENT
DTSTART;TZID=UTC:20251221T100000
DTEND;TZID=UTC:20251221T111500
DTSTAMP:20260424T001704
CREATED:20250909T195635Z
LAST-MODIFIED:20250909T195635Z
UID:11013-1766311200-1766315700@eastlincolnalliance.com
SUMMARY:Worship Service
DESCRIPTION:We welcome you to our regular worship service every Sunday @ 10:00am.\n\n\n\nWe offer the following services for kids during the Worship Service: \nEarly Childhood care for 1-3 year olds in the East Wing \n4 years old-Kindergarten in the West Wing (Discovery Land) \n1st-5th Grade in the East Wing (Discovery Land)
URL:https://eastlincolnalliance.com/event/worship-service-181/
LOCATION:East Lincoln Alliance Church\, 735 70th Avenue\, Amery\, WI\, 54001\, United States
END:VEVENT
BEGIN:VEVENT
DTSTART;TZID=UTC:20251221T173000
DTEND;TZID=UTC:20251221T200000
DTSTAMP:20260424T001704
CREATED:20251124T160916Z
LAST-MODIFIED:20251124T160916Z
UID:11149-1766338200-1766347200@eastlincolnalliance.com
SUMMARY:Small Group
DESCRIPTION:Kathy Schwanke
URL:https://eastlincolnalliance.com/event/small-group-5/
LOCATION:East Lincoln Alliance Church\, 735 70th Avenue\, Amery\, WI\, 54001\, United States
END:VEVENT
BEGIN:VEVENT
DTSTART;TZID=UTC:20251223T183000
DTEND;TZID=UTC:20251223T193000
DTSTAMP:20260424T001704
CREATED:20250909T202802Z
LAST-MODIFIED:20250909T202802Z
UID:11036-1766514600-1766518200@eastlincolnalliance.com
SUMMARY:Prayer Gathering
DESCRIPTION:All are invited to join as we pray for each other\, our community and world.  Every Tuesday\, 6:30pm
URL:https://eastlincolnalliance.com/event/prayer-gathering-87/
LOCATION:East Lincoln Alliance Church\, 735 70th Avenue\, Amery\, WI\, 54001\, United States
END:VEVENT
BEGIN:VEVENT
DTSTART;TZID=UTC:20251224T160000
DTEND;TZID=UTC:20251224T170000
DTSTAMP:20260424T001704
CREATED:20251202T205656Z
LAST-MODIFIED:20251202T205656Z
UID:11177-1766592000-1766595600@eastlincolnalliance.com
SUMMARY:Christmas Eve Service
DESCRIPTION:Join us this Christmas Eve at 4pm for a heartwarming service filled with joy\, hope\, and the spirit of Christmas!\nBring your family and friends as we celebrate the birth of Jesus with music\, reflection\, and community.\nLet’s gather together in faith and joy this holiday season!
URL:https://eastlincolnalliance.com/event/christmas-eve-service-7/
LOCATION:East Lincoln Alliance Church\, 735 70th Avenue\, Amery\, WI\, 54001\, United States
END:VEVENT
BEGIN:VEVENT
DTSTART;TZID=UTC:20251226T170000
DTEND;TZID=UTC:20251227T200000
DTSTAMP:20260424T001704
CREATED:20251208T171134Z
LAST-MODIFIED:20251208T171134Z
UID:11323-1766768400-1766865600@eastlincolnalliance.com
SUMMARY:Private Event
DESCRIPTION:Randy & Mary Schussman
URL:https://eastlincolnalliance.com/event/private-event-19/
LOCATION:East Lincoln Alliance Church\, 735 70th Avenue\, Amery\, WI\, 54001\, United States
END:VEVENT
BEGIN:VEVENT
DTSTART;TZID=UTC:20251228T084500
DTEND;TZID=UTC:20251228T094500
DTSTAMP:20260424T001704
CREATED:20250909T194326Z
LAST-MODIFIED:20250909T194326Z
UID:10989-1766911500-1766915100@eastlincolnalliance.com
SUMMARY:Discipleship Hour
DESCRIPTION:Join us for Discipleship Hour from 8:45-9:45am.  All 6th grade and up are invited.
URL:https://eastlincolnalliance.com/event/discipleship-hour-86/
LOCATION:East Lincoln Alliance Church\, 735 70th Avenue\, Amery\, WI\, 54001\, United States
END:VEVENT
END:VCALENDAR