BEGIN:VCALENDAR
VERSION:2.0
PRODID:-//East Lincoln Alliance Church - ECPv6.15.20//NONSGML v1.0//EN
CALSCALE:GREGORIAN
METHOD:PUBLISH
X-WR-CALNAME:East Lincoln Alliance Church
X-ORIGINAL-URL:https://eastlincolnalliance.com
X-WR-CALDESC:Events for East Lincoln Alliance Church
REFRESH-INTERVAL;VALUE=DURATION:PT1H
X-Robots-Tag:noindex
X-PUBLISHED-TTL:PT1H
BEGIN:VTIMEZONE
TZID:UTC
BEGIN:STANDARD
TZOFFSETFROM:+0000
TZOFFSETTO:+0000
TZNAME:UTC
DTSTART:20240101T000000
END:STANDARD
END:VTIMEZONE
BEGIN:VEVENT
DTSTART;TZID=UTC:20250401T183000
DTEND;TZID=UTC:20250401T193000
DTSTAMP:20260424T130949
CREATED:20250307T192029Z
LAST-MODIFIED:20250307T192029Z
UID:10295-1743532200-1743535800@eastlincolnalliance.com
SUMMARY:Prayer Gathering
DESCRIPTION:All are invited to join as we pray for each other\, our community and world.  Every Tuesday\, 6:30pm
URL:https://eastlincolnalliance.com/event/prayer-gathering-53/
LOCATION:East Lincoln Alliance Church\, 735 70th Avenue\, Amery\, WI\, 54001\, United States
END:VEVENT
BEGIN:VEVENT
DTSTART;TZID=UTC:20250402T151500
DTEND;TZID=UTC:20250402T163000
DTSTAMP:20260424T130949
CREATED:20250418T184953Z
LAST-MODIFIED:20250418T184953Z
UID:10450-1743606900-1743611400@eastlincolnalliance.com
SUMMARY:After School Good News Club
DESCRIPTION:After School Good News Club starts on Wednesday\, September 11th at Lien Elementary School (Amery) right after school (3:15pm) until 4:30pm and will continue every Wednesday that Amery Schools are in session. \nGood News Club is open to students Kindergarten to 5th grade. Students attending the Intermediate School should ride the transfer bus to the Elementary School. Registration Forms must be filled out (below).   Questions? Contact Mary Schussman. \neastlincolnalliance.com/ninja-forms/10okpn/
URL:https://eastlincolnalliance.com/event/after-school-good-news-club-79/
LOCATION:Lien Elementary School\, 469 Minneapolis Ave S\, Amery\, WI\, 54001\, United States
END:VEVENT
BEGIN:VEVENT
DTSTART;TZID=UTC:20250402T180000
DTEND;TZID=UTC:20250402T200000
DTSTAMP:20260424T130949
CREATED:20241227T230349Z
LAST-MODIFIED:20241227T230349Z
UID:10092-1743616800-1743624000@eastlincolnalliance.com
SUMMARY:Son Seekers
DESCRIPTION:Son Seekers is a program for K-5th graders.  Programming is 6-8pm every Wednesday at East Lincoln Alliance Church. We will have games\, stories\, songs\, crafts.
URL:https://eastlincolnalliance.com/event/son-seekers-45/
LOCATION:East Lincoln Alliance Church\, 735 70th Avenue\, Amery\, WI\, 54001\, United States
END:VEVENT
BEGIN:VEVENT
DTSTART;TZID=UTC:20250402T180000
DTEND;TZID=UTC:20250402T200000
DTSTAMP:20260424T130949
CREATED:20241227T231909Z
LAST-MODIFIED:20241227T231909Z
UID:10126-1743616800-1743624000@eastlincolnalliance.com
SUMMARY:Recharge
DESCRIPTION:All students 6-12th grade are invited to attend.  Make sure to invite your friends!
URL:https://eastlincolnalliance.com/event/recharge-108/
LOCATION:East Lincoln Alliance Church\, 735 70th Avenue\, Amery\, WI\, 54001\, United States
END:VEVENT
BEGIN:VEVENT
DTSTART;TZID=UTC:20250405T080000
DTEND;TZID=UTC:20250405T153000
DTSTAMP:20260424T130949
CREATED:20250117T190402Z
LAST-MODIFIED:20250221T203629Z
UID:10166-1743840000-1743867000@eastlincolnalliance.com
SUMMARY:Gather & Grow Day Conference for Women
DESCRIPTION:Gather and Grow is a day conference for women. Our aim is to offer encouragement and practical strategies for women to live whole and healthy lives. God wants us to have whole and healthy souls\, minds\, bodies\, relationships\, marriages\, and families.\n\n\nDate: 4/5/2025\nTime: 8:00am-3:30pm\nLocation: East Lincoln Alliance Church\, Amery\, WI\n\nRegister here: https://tithe.ly/event-registration/#/9829918
URL:https://eastlincolnalliance.com/event/gather-grow-day-conference-for-women/
LOCATION:East Lincoln Alliance Church\, 735 70th Avenue\, Amery\, WI\, 54001\, United States
END:VEVENT
BEGIN:VEVENT
DTSTART;TZID=UTC:20250406T084500
DTEND;TZID=UTC:20250406T094500
DTSTAMP:20260424T130949
CREATED:20250117T190943Z
LAST-MODIFIED:20250117T190943Z
UID:10176-1743929100-1743932700@eastlincolnalliance.com
SUMMARY:Discipleship Hour
DESCRIPTION:Join us for Discipleship Hour from 8:45-9:45am.  All 6th grade and up are invited.
URL:https://eastlincolnalliance.com/event/discipleship-hour-51/
LOCATION:East Lincoln Alliance Church\, 735 70th Avenue\, Amery\, WI\, 54001\, United States
END:VEVENT
BEGIN:VEVENT
DTSTART;TZID=UTC:20250406T100000
DTEND;TZID=UTC:20250406T111500
DTSTAMP:20260424T130949
CREATED:20250117T191430Z
LAST-MODIFIED:20250117T191430Z
UID:10190-1743933600-1743938100@eastlincolnalliance.com
SUMMARY:Worship Service
DESCRIPTION:We welcome you to our regular worship service every Sunday @ 10:00am.\n\n\n\nWe offer the following services for kids during the Worship Service: \nEarly Childhood care for 1-3 year olds in the East Wing \n4 years old-Kindergarten in the West Wing (Discovery Land) \n1st-5th Grade in the East Wing (Discovery Land)
URL:https://eastlincolnalliance.com/event/worship-service-146/
LOCATION:East Lincoln Alliance Church\, 735 70th Avenue\, Amery\, WI\, 54001\, United States
END:VEVENT
BEGIN:VEVENT
DTSTART;TZID=UTC:20250408T183000
DTEND;TZID=UTC:20250408T193000
DTSTAMP:20260424T130949
CREATED:20250307T192053Z
LAST-MODIFIED:20250307T192053Z
UID:10297-1744137000-1744140600@eastlincolnalliance.com
SUMMARY:Prayer Gathering
DESCRIPTION:All are invited to join as we pray for each other\, our community and world.  Every Tuesday\, 6:30pm
URL:https://eastlincolnalliance.com/event/prayer-gathering-54/
LOCATION:East Lincoln Alliance Church\, 735 70th Avenue\, Amery\, WI\, 54001\, United States
END:VEVENT
BEGIN:VEVENT
DTSTART;TZID=UTC:20250409T151500
DTEND;TZID=UTC:20250409T163000
DTSTAMP:20260424T130949
CREATED:20250418T185019Z
LAST-MODIFIED:20250418T185019Z
UID:10452-1744211700-1744216200@eastlincolnalliance.com
SUMMARY:After School Good News Club
DESCRIPTION:After School Good News Club starts on Wednesday\, September 11th at Lien Elementary School (Amery) right after school (3:15pm) until 4:30pm and will continue every Wednesday that Amery Schools are in session. \nGood News Club is open to students Kindergarten to 5th grade. Students attending the Intermediate School should ride the transfer bus to the Elementary School. Registration Forms must be filled out (below).   Questions? Contact Mary Schussman. \neastlincolnalliance.com/ninja-forms/10okpn/
URL:https://eastlincolnalliance.com/event/after-school-good-news-club-80/
LOCATION:Lien Elementary School\, 469 Minneapolis Ave S\, Amery\, WI\, 54001\, United States
END:VEVENT
BEGIN:VEVENT
DTSTART;TZID=UTC:20250409T180000
DTEND;TZID=UTC:20250409T200000
DTSTAMP:20260424T130949
CREATED:20241227T230409Z
LAST-MODIFIED:20241227T230409Z
UID:10094-1744221600-1744228800@eastlincolnalliance.com
SUMMARY:Son Seekers
DESCRIPTION:Son Seekers is a program for K-5th graders.  Programming is 6-8pm every Wednesday at East Lincoln Alliance Church. We will have games\, stories\, songs\, crafts.
URL:https://eastlincolnalliance.com/event/son-seekers-46/
LOCATION:East Lincoln Alliance Church\, 735 70th Avenue\, Amery\, WI\, 54001\, United States
END:VEVENT
BEGIN:VEVENT
DTSTART;TZID=UTC:20250409T180000
DTEND;TZID=UTC:20250409T200000
DTSTAMP:20260424T130949
CREATED:20241227T231933Z
LAST-MODIFIED:20241227T231933Z
UID:10128-1744221600-1744228800@eastlincolnalliance.com
SUMMARY:Recharge
DESCRIPTION:All students 6-12th grade are invited to attend.  Make sure to invite your friends!
URL:https://eastlincolnalliance.com/event/recharge-109/
LOCATION:East Lincoln Alliance Church\, 735 70th Avenue\, Amery\, WI\, 54001\, United States
END:VEVENT
BEGIN:VEVENT
DTSTART;TZID=UTC:20250411T180000
DTEND;TZID=UTC:20250411T200000
DTSTAMP:20260424T130949
CREATED:20250221T182649Z
LAST-MODIFIED:20250221T182649Z
UID:10252-1744394400-1744401600@eastlincolnalliance.com
SUMMARY:Grace Marriage
DESCRIPTION:
URL:https://eastlincolnalliance.com/event/grace-marriage-3/
LOCATION:East Lincoln Alliance Church\, 735 70th Avenue\, Amery\, WI\, 54001\, United States
END:VEVENT
BEGIN:VEVENT
DTSTART;TZID=UTC:20250412T103000
DTEND;TZID=UTC:20250412T133000
DTSTAMP:20260424T130949
CREATED:20250329T172806Z
LAST-MODIFIED:20250329T172806Z
UID:10394-1744453800-1744464600@eastlincolnalliance.com
SUMMARY:Easter Egg Hunt
DESCRIPTION:ELAC’s annual Easter Egg Hunt will be Saturday\, April 12th at 10:30am. \nThere will be a short program with songs and videos\, door prizes\, a hot dog lunch and an outdoor egg hunt. Kids 5th grade and younger are invited to participate in the egg hunt! Invite your neighbors\, friends & family!
URL:https://eastlincolnalliance.com/event/easter-egg-hunt-7/
LOCATION:East Lincoln Alliance Church\, 735 70th Avenue\, Amery\, WI\, 54001\, United States
END:VEVENT
BEGIN:VEVENT
DTSTART;TZID=UTC:20250413T084500
DTEND;TZID=UTC:20250413T094500
DTSTAMP:20260424T130949
CREATED:20250117T191011Z
LAST-MODIFIED:20250117T191011Z
UID:10178-1744533900-1744537500@eastlincolnalliance.com
SUMMARY:Discipleship Hour
DESCRIPTION:Join us for Discipleship Hour from 8:45-9:45am.  All 6th grade and up are invited.
URL:https://eastlincolnalliance.com/event/discipleship-hour-52/
LOCATION:East Lincoln Alliance Church\, 735 70th Avenue\, Amery\, WI\, 54001\, United States
END:VEVENT
BEGIN:VEVENT
DTSTART;TZID=UTC:20250413T100000
DTEND;TZID=UTC:20250413T111500
DTSTAMP:20260424T130949
CREATED:20250117T191453Z
LAST-MODIFIED:20250117T191453Z
UID:10192-1744538400-1744542900@eastlincolnalliance.com
SUMMARY:Worship Service
DESCRIPTION:We welcome you to our regular worship service every Sunday @ 10:00am.\n\n\n\nWe offer the following services for kids during the Worship Service: \nEarly Childhood care for 1-3 year olds in the East Wing \n4 years old-Kindergarten in the West Wing (Discovery Land) \n1st-5th Grade in the East Wing (Discovery Land)
URL:https://eastlincolnalliance.com/event/worship-service-147/
LOCATION:East Lincoln Alliance Church\, 735 70th Avenue\, Amery\, WI\, 54001\, United States
END:VEVENT
BEGIN:VEVENT
DTSTART;TZID=UTC:20250415T183000
DTEND;TZID=UTC:20250415T193000
DTSTAMP:20260424T130949
CREATED:20250307T192113Z
LAST-MODIFIED:20250307T192113Z
UID:10299-1744741800-1744745400@eastlincolnalliance.com
SUMMARY:Prayer Gathering
DESCRIPTION:All are invited to join as we pray for each other\, our community and world.  Every Tuesday\, 6:30pm
URL:https://eastlincolnalliance.com/event/prayer-gathering-55/
LOCATION:East Lincoln Alliance Church\, 735 70th Avenue\, Amery\, WI\, 54001\, United States
END:VEVENT
BEGIN:VEVENT
DTSTART;TZID=UTC:20250416T151500
DTEND;TZID=UTC:20250416T163000
DTSTAMP:20260424T130949
CREATED:20250418T185043Z
LAST-MODIFIED:20250418T185043Z
UID:10454-1744816500-1744821000@eastlincolnalliance.com
SUMMARY:After School Good News Club
DESCRIPTION:After School Good News Club starts on Wednesday\, September 11th at Lien Elementary School (Amery) right after school (3:15pm) until 4:30pm and will continue every Wednesday that Amery Schools are in session. \nGood News Club is open to students Kindergarten to 5th grade. Students attending the Intermediate School should ride the transfer bus to the Elementary School. Registration Forms must be filled out (below).   Questions? Contact Mary Schussman. \neastlincolnalliance.com/ninja-forms/10okpn/
URL:https://eastlincolnalliance.com/event/after-school-good-news-club-81/
LOCATION:Lien Elementary School\, 469 Minneapolis Ave S\, Amery\, WI\, 54001\, United States
END:VEVENT
BEGIN:VEVENT
DTSTART;TZID=UTC:20250416T180000
DTEND;TZID=UTC:20250416T200000
DTSTAMP:20260424T130949
CREATED:20241227T230506Z
LAST-MODIFIED:20241227T230506Z
UID:10098-1744826400-1744833600@eastlincolnalliance.com
SUMMARY:Son Seekers
DESCRIPTION:Son Seekers is a program for K-5th graders.  Programming is 6-8pm every Wednesday at East Lincoln Alliance Church. We will have games\, stories\, songs\, crafts.
URL:https://eastlincolnalliance.com/event/son-seekers-48/
LOCATION:East Lincoln Alliance Church\, 735 70th Avenue\, Amery\, WI\, 54001\, United States
END:VEVENT
BEGIN:VEVENT
DTSTART;TZID=UTC:20250416T180000
DTEND;TZID=UTC:20250416T200000
DTSTAMP:20260424T130949
CREATED:20241227T232004Z
LAST-MODIFIED:20241227T232004Z
UID:10130-1744826400-1744833600@eastlincolnalliance.com
SUMMARY:Recharge
DESCRIPTION:All students 6-12th grade are invited to attend.  Make sure to invite your friends!
URL:https://eastlincolnalliance.com/event/recharge-110/
LOCATION:East Lincoln Alliance Church\, 735 70th Avenue\, Amery\, WI\, 54001\, United States
END:VEVENT
BEGIN:VEVENT
DTSTART;TZID=UTC:20250418T190000
DTEND;TZID=UTC:20250418T200000
DTSTAMP:20260424T130949
CREATED:20250318T170756Z
LAST-MODIFIED:20250318T170756Z
UID:10389-1745002800-1745006400@eastlincolnalliance.com
SUMMARY:Good Friday Service
DESCRIPTION:Amery Free Lutheran Church (647 113th St\, Amery) will be hosting the Community Good Friday Service on Friday\, April 18th at 7:00pm. All are welcome to attend. \nJoin together with other churches as we begin our Easter celebrations.
URL:https://eastlincolnalliance.com/event/good-friday-service-2/
LOCATION:WI
END:VEVENT
BEGIN:VEVENT
DTSTART;TZID=UTC:20250419T120000
DTEND;TZID=UTC:20250419T140000
DTSTAMP:20260424T130949
CREATED:20250407T154028Z
LAST-MODIFIED:20250407T154028Z
UID:10413-1745064000-1745071200@eastlincolnalliance.com
SUMMARY:Hi-Rise Meal
DESCRIPTION:We will be serving our monthly meal to the residents of the Amery Hi-Rise on Saturday\, April 19th at 12pm. We are looking for help with the meal\, this month will be a traditional Easter meal. \nFood can be dropped off at the Hi-Rise (300 Harriman Ave N\, Amery) on the 19th at 11:30am or text Kim Davis for alternate arrangements (320-266-4859). \nWe are also needing 5-7 people to help set up\, serve food/mingle and clean up. Please arrive at the Hi-Rise at 11:30am and should be done between 1-1:30pm. \nThere is a sign-up sheet at the Information Table at church\, or contact the church office to get your name added.  Any questions\, contact Kim Davis at 320-266-4859 or any of the planning team.
URL:https://eastlincolnalliance.com/event/hi-rise-meal-5/
LOCATION:Amery Hi Rise\, 300 Harriman Ave\, Amery\, 54001\, United States
END:VEVENT
BEGIN:VEVENT
DTSTART;TZID=UTC:20250420T073000
DTEND;TZID=UTC:20250420T090000
DTSTAMP:20260424T130949
CREATED:20250318T170537Z
LAST-MODIFIED:20250318T170537Z
UID:10387-1745134200-1745139600@eastlincolnalliance.com
SUMMARY:Easter Breakfast
DESCRIPTION:The youth will be preparing Easter breakfast for all to enjoy Easter Sunday\, April 20th from 7:30-9:00am. Free will donation\, with proceeds going to the Youth Ministry. \nPlease make us part of your Easter morning!
URL:https://eastlincolnalliance.com/event/easter-breakfast-4/
LOCATION:East Lincoln Alliance Church\, 735 70th Avenue\, Amery\, WI\, 54001\, United States
END:VEVENT
BEGIN:VEVENT
DTSTART;TZID=UTC:20250420T084500
DTEND;TZID=UTC:20250420T094500
DTSTAMP:20260424T130949
CREATED:20250117T191054Z
LAST-MODIFIED:20250117T191054Z
UID:10180-1745138700-1745142300@eastlincolnalliance.com
SUMMARY:Discipleship Hour
DESCRIPTION:Join us for Discipleship Hour from 8:45-9:45am.  All 6th grade and up are invited.
URL:https://eastlincolnalliance.com/event/discipleship-hour-53/
LOCATION:East Lincoln Alliance Church\, 735 70th Avenue\, Amery\, WI\, 54001\, United States
END:VEVENT
BEGIN:VEVENT
DTSTART;TZID=UTC:20250420T100000
DTEND;TZID=UTC:20250420T111500
DTSTAMP:20260424T130949
CREATED:20250117T191605Z
LAST-MODIFIED:20250117T191605Z
UID:10194-1745143200-1745147700@eastlincolnalliance.com
SUMMARY:Worship Service - HAPPY EASTER!
DESCRIPTION:We welcome you to our regular worship service every Sunday @ 10:00am.\n\n\n\nThere will not be Children’s Ministry today\, but our typical offering for Children’s Ministry is: \nEarly Childhood care for 1-3 year olds in the East Wing \n4 years old-Kindergarten in the West Wing (Discovery Land) \n1st-5th Grade in the East Wing (Discovery Land)
URL:https://eastlincolnalliance.com/event/worship-service-happy-easter-2/
LOCATION:East Lincoln Alliance Church\, 735 70th Avenue\, Amery\, WI\, 54001\, United States
END:VEVENT
BEGIN:VEVENT
DTSTART;TZID=UTC:20250421T180000
DTEND;TZID=UTC:20250421T203000
DTSTAMP:20260424T130949
CREATED:20250113T191211Z
LAST-MODIFIED:20250113T191211Z
UID:10153-1745258400-1745267400@eastlincolnalliance.com
SUMMARY:Elder Meeting
DESCRIPTION:
URL:https://eastlincolnalliance.com/event/elder-meeting-10/
LOCATION:WI
END:VEVENT
BEGIN:VEVENT
DTSTART;TZID=UTC:20250422T183000
DTEND;TZID=UTC:20250422T193000
DTSTAMP:20260424T130949
CREATED:20250307T192135Z
LAST-MODIFIED:20250307T192135Z
UID:10301-1745346600-1745350200@eastlincolnalliance.com
SUMMARY:Prayer Gathering
DESCRIPTION:All are invited to join as we pray for each other\, our community and world.  Every Tuesday\, 6:30pm
URL:https://eastlincolnalliance.com/event/prayer-gathering-56/
LOCATION:East Lincoln Alliance Church\, 735 70th Avenue\, Amery\, WI\, 54001\, United States
END:VEVENT
BEGIN:VEVENT
DTSTART;TZID=UTC:20250423T151500
DTEND;TZID=UTC:20250423T163000
DTSTAMP:20260424T130949
CREATED:20250418T185137Z
LAST-MODIFIED:20250418T185137Z
UID:10456-1745421300-1745425800@eastlincolnalliance.com
SUMMARY:After School Good News Club
DESCRIPTION:After School Good News Club starts on Wednesday\, September 11th at Lien Elementary School (Amery) right after school (3:15pm) until 4:30pm and will continue every Wednesday that Amery Schools are in session. \nGood News Club is open to students Kindergarten to 5th grade. Students attending the Intermediate School should ride the transfer bus to the Elementary School. Registration Forms must be filled out (below).   Questions? Contact Mary Schussman. \neastlincolnalliance.com/ninja-forms/10okpn/
URL:https://eastlincolnalliance.com/event/after-school-good-news-club-82/
LOCATION:Lien Elementary School\, 469 Minneapolis Ave S\, Amery\, WI\, 54001\, United States
END:VEVENT
BEGIN:VEVENT
DTSTART;TZID=UTC:20250423T180000
DTEND;TZID=UTC:20250423T200000
DTSTAMP:20260424T130949
CREATED:20241227T230433Z
LAST-MODIFIED:20241227T230433Z
UID:10096-1745431200-1745438400@eastlincolnalliance.com
SUMMARY:Son Seekers
DESCRIPTION:Son Seekers is a program for K-5th graders.  Programming is 6-8pm every Wednesday at East Lincoln Alliance Church. We will have games\, stories\, songs\, crafts.
URL:https://eastlincolnalliance.com/event/son-seekers-47/
LOCATION:East Lincoln Alliance Church\, 735 70th Avenue\, Amery\, WI\, 54001\, United States
END:VEVENT
BEGIN:VEVENT
DTSTART;TZID=UTC:20250423T180000
DTEND;TZID=UTC:20250423T200000
DTSTAMP:20260424T130949
CREATED:20241227T232034Z
LAST-MODIFIED:20241227T232034Z
UID:10132-1745431200-1745438400@eastlincolnalliance.com
SUMMARY:Recharge
DESCRIPTION:All students 6-12th grade are invited to attend.  Make sure to invite your friends!
URL:https://eastlincolnalliance.com/event/recharge-111/
LOCATION:East Lincoln Alliance Church\, 735 70th Avenue\, Amery\, WI\, 54001\, United States
END:VEVENT
BEGIN:VEVENT
DTSTART;TZID=UTC:20250425T170000
DTEND;TZID=UTC:20250425T200000
DTSTAMP:20260424T130949
CREATED:20250412T164120Z
LAST-MODIFIED:20250412T164120Z
UID:10415-1745600400-1745611200@eastlincolnalliance.com
SUMMARY:RESERVED
DESCRIPTION:Homeschool set up \nLaura Deems
URL:https://eastlincolnalliance.com/event/reserved/
LOCATION:East Lincoln Alliance Church\, 735 70th Avenue\, Amery\, WI\, 54001\, United States
END:VEVENT
END:VCALENDAR