BEGIN:VCALENDAR
VERSION:2.0
PRODID:-//East Lincoln Alliance Church - ECPv6.15.20//NONSGML v1.0//EN
CALSCALE:GREGORIAN
METHOD:PUBLISH
X-ORIGINAL-URL:https://eastlincolnalliance.com
X-WR-CALDESC:Events for East Lincoln Alliance Church
REFRESH-INTERVAL;VALUE=DURATION:PT1H
X-Robots-Tag:noindex
X-PUBLISHED-TTL:PT1H
BEGIN:VTIMEZONE
TZID:UTC
BEGIN:STANDARD
TZOFFSETFROM:+0000
TZOFFSETTO:+0000
TZNAME:UTC
DTSTART:20220101T000000
END:STANDARD
END:VTIMEZONE
BEGIN:VEVENT
DTSTART;TZID=UTC:20231201T091500
DTEND;TZID=UTC:20231201T111500
DTSTAMP:20260425T154250
CREATED:20231113T153654Z
LAST-MODIFIED:20231113T153654Z
UID:8776-1701422100-1701429300@eastlincolnalliance.com
SUMMARY:Homeschool Group (Youth Room)
DESCRIPTION:Wendy Dietrich
URL:https://eastlincolnalliance.com/event/homeschool-group-youth-room/
LOCATION:East Lincoln Alliance Church\, 735 70th Avenue\, Amery\, WI\, 54001\, United States
END:VEVENT
BEGIN:VEVENT
DTSTART;TZID=UTC:20231202T110000
DTEND;TZID=UTC:20231202T140000
DTSTAMP:20260425T154250
CREATED:20230915T191735Z
LAST-MODIFIED:20231014T193211Z
UID:8695-1701514800-1701525600@eastlincolnalliance.com
SUMMARY:Beginning Sewing
DESCRIPTION:Rosemary Sheffel is offering beginning sewing every Saturday at the church. Please\, no youth under 12. Sewing machines are available\, but if you have one\, please bring it.  We will be making pillowcase dresses for little girls in Uganda.  Rosemary will bring the dresses with her when she travels to Uganda in January. \nIf you have any pillowcases to donate or are interested in joining\, please contact Rosemary.  (715) 220-8924 \nClass size is limited.
URL:https://eastlincolnalliance.com/event/beginning-sewing-6/
LOCATION:East Lincoln Alliance Church\, 735 70th Avenue\, Amery\, WI\, 54001\, United States
END:VEVENT
BEGIN:VEVENT
DTSTART;TZID=UTC:20231203T073000
DTEND;TZID=UTC:20231203T083000
DTSTAMP:20260425T154250
CREATED:20230919T141454Z
LAST-MODIFIED:20231130T172406Z
UID:8709-1701588600-1701592200@eastlincolnalliance.com
SUMMARY:Men's Breakfast
DESCRIPTION:1st Sunday of every month.
URL:https://eastlincolnalliance.com/event/mens-breakfast-3/
LOCATION:East Lincoln Alliance Church\, 735 70th Avenue\, Amery\, WI\, 54001\, United States
END:VEVENT
BEGIN:VEVENT
DTSTART;TZID=UTC:20231203T093000
DTEND;TZID=UTC:20231203T110000
DTSTAMP:20260425T154250
CREATED:20231117T235301Z
LAST-MODIFIED:20231117T235301Z
UID:8784-1701595800-1701601200@eastlincolnalliance.com
SUMMARY:Worship Service
DESCRIPTION:We welcome you to our regular worship service every Sunday @ 9:30am.\n\n\n\nWe offer the following services for kids during the Worship Service: \nEarly Childhood care for 1-3 year olds in the East Wing \n4 years old-Kindergarten in the West Wing (Discovery Land) \n1st-5th Grade in the East Wing (Discovery Land)
URL:https://eastlincolnalliance.com/event/worship-service-77/
LOCATION:East Lincoln Alliance Church\, 735 70th Avenue\, Amery\, WI\, 54001\, United States
END:VEVENT
BEGIN:VEVENT
DTSTART;TZID=UTC:20231203T111500
DTEND;TZID=UTC:20231203T123000
DTSTAMP:20260425T154250
CREATED:20231130T172649Z
LAST-MODIFIED:20231130T172649Z
UID:8835-1701602100-1701606600@eastlincolnalliance.com
SUMMARY:"How To..." Sunday Study
DESCRIPTION:Topics: \nDecember 3 – Standing Firm in Non-Christian Circles Part II \nDecember 10 & 17 – Encourage the Hurting \nJoin Perry Anderson\, Barry Iverson and esteemed colleagues on Sundays 11:15am-12:30pm in the East Wing Youth/Discovery Land room.  The study will focus on different “how to” topics.  This class will be in a discussion format and is intended for ages 6th grade to adult.  Bring a sack lunch if you want to eat during study. \nEach week one topic will be discussed\, and likely plan is to discuss that topic after study of scripture\, commentaries\, videos\, etc. in more depth the following week or weeks depending on need.  Each student is invited to study\, explore\, ask questions of others regarding the topic to share the following week.
URL:https://eastlincolnalliance.com/event/how-to-sunday-study-12/
LOCATION:East Lincoln Alliance Church\, 735 70th Avenue\, Amery\, WI\, 54001\, United States
END:VEVENT
BEGIN:VEVENT
DTSTART;TZID=UTC:20231203T183000
DTEND;TZID=UTC:20231203T203000
DTSTAMP:20260425T154250
CREATED:20231014T194955Z
LAST-MODIFIED:20231130T172451Z
UID:8744-1701628200-1701635400@eastlincolnalliance.com
SUMMARY:Ladies Christmas Cafe
DESCRIPTION:All ELAC ladies are invited to join for the Christmas Cafe. We are excited to have Jenni Thyng bring us a message: “Lighter Together” at this year’s Christmas Café! \nWe will enjoy a charcuterie board\, cozy beverages\, an inspirational message\, music\, laughter and JOY! \nTickets are $7.00. \n 
URL:https://eastlincolnalliance.com/event/elac-ladies-christmas-cafe-2/
LOCATION:East Lincoln Alliance Church\, 735 70th Avenue\, Amery\, WI\, 54001\, United States
END:VEVENT
BEGIN:VEVENT
DTSTART;TZID=UTC:20231206T090000
DTEND;TZID=UTC:20231206T160000
DTSTAMP:20260425T154250
CREATED:20231120T162427Z
LAST-MODIFIED:20231120T162427Z
UID:8808-1701853200-1701878400@eastlincolnalliance.com
SUMMARY:Women's Craft Day
DESCRIPTION:Women are invited to join on Wednesday\, December 6th from 9am-4pm for a day of crafting and fellowship. Bring whatever project you are working on\, or just come and visit! We will be meeting at Bonnie Williamson’s. Pack a lunch.\nContact Julie Anderson if you have questions or would like to host a craft day. 715-607-8022
URL:https://eastlincolnalliance.com/event/womens-craft-day-24/
LOCATION:Vern & Bonnie Williamson\, 759 Golf Way\, Amery\, WI\, 54001\, United States
END:VEVENT
BEGIN:VEVENT
DTSTART;TZID=UTC:20231206T151500
DTEND;TZID=UTC:20231206T163000
DTSTAMP:20260425T154250
CREATED:20230821T154440Z
LAST-MODIFIED:20230821T154440Z
UID:8443-1701875700-1701880200@eastlincolnalliance.com
SUMMARY:After School Good News Club
DESCRIPTION:After School Good News Club will be at Lien Elementary School (Amery) every Wednesday right after school until 4:30pm.  This is open to students Kindergarten to 5th grade.  Students attending the Intermediate School should ride the transfer bus to the Elementary School. Parent permission slips must be filled out.  Forms can be found here: Parent Permission Form \n*Note – if Amery Schools are closed on a Wednesday\, there will be no GNC
URL:https://eastlincolnalliance.com/event/after-school-good-news-club-46/
LOCATION:Lien Elementary School\, 469 Minneapolis Ave S\, Amery\, WI\, 54001\, United States
END:VEVENT
BEGIN:VEVENT
DTSTART;TZID=UTC:20231206T180000
DTEND;TZID=UTC:20231206T200000
DTSTAMP:20260425T154250
CREATED:20230821T153603Z
LAST-MODIFIED:20230821T153603Z
UID:8412-1701885600-1701892800@eastlincolnalliance.com
SUMMARY:Recharge/Youth Group
DESCRIPTION:All students 6-12th grade are invited to attend.  Make sure to invite your friends!
URL:https://eastlincolnalliance.com/event/recharge-youth-group-45/
LOCATION:East Lincoln Alliance Church\, 735 70th Avenue\, Amery\, WI\, 54001\, United States
END:VEVENT
BEGIN:VEVENT
DTSTART;TZID=UTC:20231206T180000
DTEND;TZID=UTC:20231206T200000
DTSTAMP:20260425T154250
CREATED:20230821T163749Z
LAST-MODIFIED:20230821T163749Z
UID:8480-1701885600-1701892800@eastlincolnalliance.com
SUMMARY:SonSeekers
DESCRIPTION:SonSeekers is a program for K-5th graders. We will be learning the 40 names of God. Programming will be from 6-8pm every Wednesday at East Lincoln Alliance Church. We will have games\, stories\, songs\, crafts.\nCost is $20 per child\, with a max amount of $40 per family
URL:https://eastlincolnalliance.com/event/sonseekers-13/
LOCATION:East Lincoln Alliance Church\, 735 70th Avenue\, Amery\, WI\, 54001\, United States
END:VEVENT
BEGIN:VEVENT
DTSTART;TZID=UTC:20231210T093000
DTEND;TZID=UTC:20231210T110000
DTSTAMP:20260425T154250
CREATED:20231117T235332Z
LAST-MODIFIED:20231117T235332Z
UID:8786-1702200600-1702206000@eastlincolnalliance.com
SUMMARY:Worship Service
DESCRIPTION:We welcome you to our regular worship service every Sunday @ 9:30am.\n\n\n\nWe offer the following services for kids during the Worship Service: \nEarly Childhood care for 1-3 year olds in the East Wing \n4 years old-Kindergarten in the West Wing (Discovery Land) \n1st-5th Grade in the East Wing (Discovery Land)
URL:https://eastlincolnalliance.com/event/worship-service-78/
LOCATION:East Lincoln Alliance Church\, 735 70th Avenue\, Amery\, WI\, 54001\, United States
END:VEVENT
BEGIN:VEVENT
DTSTART;TZID=UTC:20231210T111500
DTEND;TZID=UTC:20231210T123000
DTSTAMP:20260425T154250
CREATED:20231113T153305Z
LAST-MODIFIED:20231130T172738Z
UID:8772-1702206900-1702211400@eastlincolnalliance.com
SUMMARY:"How To..." Sunday Study
DESCRIPTION:Topic: \nDecember 10 & 17 – Encourage the Hurting \nJoin Perry Anderson\, Barry Iverson and esteemed colleagues on Sundays 11:15am-12:30pm in the East Wing Youth/Discovery Land room.  The study will focus on different “how to” topics.  This class will be in a discussion format and is intended for ages 6th grade to adult.  Bring a sack lunch if you want to eat during study. \nEach week one topic will be discussed\, and likely plan is to discuss that topic after study of scripture\, commentaries\, videos\, etc. in more depth the following week or weeks depending on need.  Each student is invited to study\, explore\, ask questions of others regarding the topic to share the following week.
URL:https://eastlincolnalliance.com/event/how-to-sunday-study-10/
LOCATION:East Lincoln Alliance Church\, 735 70th Avenue\, Amery\, WI\, 54001\, United States
END:VEVENT
BEGIN:VEVENT
DTSTART;TZID=UTC:20231213T151500
DTEND;TZID=UTC:20231213T163000
DTSTAMP:20260425T154250
CREATED:20230821T154506Z
LAST-MODIFIED:20230821T154506Z
UID:8445-1702480500-1702485000@eastlincolnalliance.com
SUMMARY:After School Good News Club
DESCRIPTION:After School Good News Club will be at Lien Elementary School (Amery) every Wednesday right after school until 4:30pm.  This is open to students Kindergarten to 5th grade.  Students attending the Intermediate School should ride the transfer bus to the Elementary School. Parent permission slips must be filled out.  Forms can be found here: Parent Permission Form \n*Note – if Amery Schools are closed on a Wednesday\, there will be no GNC
URL:https://eastlincolnalliance.com/event/after-school-good-news-club-47/
LOCATION:Lien Elementary School\, 469 Minneapolis Ave S\, Amery\, WI\, 54001\, United States
END:VEVENT
BEGIN:VEVENT
DTSTART;TZID=UTC:20231213T180000
DTEND;TZID=UTC:20231213T200000
DTSTAMP:20260425T154250
CREATED:20230821T153628Z
LAST-MODIFIED:20230821T153628Z
UID:8414-1702490400-1702497600@eastlincolnalliance.com
SUMMARY:Recharge/Youth Group
DESCRIPTION:All students 6-12th grade are invited to attend.  Make sure to invite your friends!
URL:https://eastlincolnalliance.com/event/recharge-youth-group-46/
LOCATION:East Lincoln Alliance Church\, 735 70th Avenue\, Amery\, WI\, 54001\, United States
END:VEVENT
BEGIN:VEVENT
DTSTART;TZID=UTC:20231213T180000
DTEND;TZID=UTC:20231213T200000
DTSTAMP:20260425T154250
CREATED:20230821T163849Z
LAST-MODIFIED:20230821T163849Z
UID:8482-1702490400-1702497600@eastlincolnalliance.com
SUMMARY:SonSeekers
DESCRIPTION:SonSeekers is a program for K-5th graders. We will be learning the 40 names of God. Programming will be from 6-8pm every Wednesday at East Lincoln Alliance Church. We will have games\, stories\, songs\, crafts.\nCost is $20 per child\, with a max amount of $40 per family
URL:https://eastlincolnalliance.com/event/sonseekers-14/
LOCATION:East Lincoln Alliance Church\, 735 70th Avenue\, Amery\, WI\, 54001\, United States
END:VEVENT
BEGIN:VEVENT
DTSTART;TZID=UTC:20231217T093000
DTEND;TZID=UTC:20231217T110000
DTSTAMP:20260425T154250
CREATED:20231117T235352Z
LAST-MODIFIED:20231117T235352Z
UID:8788-1702805400-1702810800@eastlincolnalliance.com
SUMMARY:Worship Service
DESCRIPTION:We welcome you to our regular worship service every Sunday @ 9:30am.\n\n\n\nWe offer the following services for kids during the Worship Service: \nEarly Childhood care for 1-3 year olds in the East Wing \n4 years old-Kindergarten in the West Wing (Discovery Land) \n1st-5th Grade in the East Wing (Discovery Land)
URL:https://eastlincolnalliance.com/event/worship-service-79/
LOCATION:East Lincoln Alliance Church\, 735 70th Avenue\, Amery\, WI\, 54001\, United States
END:VEVENT
BEGIN:VEVENT
DTSTART;TZID=UTC:20231217T111500
DTEND;TZID=UTC:20231217T123000
DTSTAMP:20260425T154250
CREATED:20231113T153355Z
LAST-MODIFIED:20231130T172803Z
UID:8774-1702811700-1702816200@eastlincolnalliance.com
SUMMARY:"How To..." Sunday Study
DESCRIPTION:Topic: \nDecember 10 & 17 – Encourage the Hurting \nJoin Perry Anderson\, Barry Iverson and esteemed colleagues on Sundays 11:15am-12:30pm in the East Wing Youth/Discovery Land room.  The study will focus on different “how to” topics.  This class will be in a discussion format and is intended for ages 6th grade to adult.  Bring a sack lunch if you want to eat during study. \nEach week one topic will be discussed\, and likely plan is to discuss that topic after study of scripture\, commentaries\, videos\, etc. in more depth the following week or weeks depending on need.  Each student is invited to study\, explore\, ask questions of others regarding the topic to share the following week.
URL:https://eastlincolnalliance.com/event/how-to-sunday-study-11/
LOCATION:East Lincoln Alliance Church\, 735 70th Avenue\, Amery\, WI\, 54001\, United States
END:VEVENT
BEGIN:VEVENT
DTSTART;TZID=UTC:20231220T180000
DTEND;TZID=UTC:20231220T200000
DTSTAMP:20260425T154250
CREATED:20230821T153656Z
LAST-MODIFIED:20230821T153656Z
UID:8416-1703095200-1703102400@eastlincolnalliance.com
SUMMARY:Recharge/Youth Group
DESCRIPTION:All students 6-12th grade are invited to attend.  Make sure to invite your friends!
URL:https://eastlincolnalliance.com/event/recharge-youth-group-47/
LOCATION:East Lincoln Alliance Church\, 735 70th Avenue\, Amery\, WI\, 54001\, United States
END:VEVENT
BEGIN:VEVENT
DTSTART;TZID=UTC:20231220T180000
DTEND;TZID=UTC:20231220T200000
DTSTAMP:20260425T154250
CREATED:20230821T163914Z
LAST-MODIFIED:20230821T163914Z
UID:8484-1703095200-1703102400@eastlincolnalliance.com
SUMMARY:SonSeekers
DESCRIPTION:SonSeekers is a program for K-5th graders. We will be learning the 40 names of God. Programming will be from 6-8pm every Wednesday at East Lincoln Alliance Church. We will have games\, stories\, songs\, crafts.\nCost is $20 per child\, with a max amount of $40 per family
URL:https://eastlincolnalliance.com/event/sonseekers-15/
LOCATION:East Lincoln Alliance Church\, 735 70th Avenue\, Amery\, WI\, 54001\, United States
END:VEVENT
BEGIN:VEVENT
DTSTART;TZID=UTC:20231224T093000
DTEND;TZID=UTC:20231224T110000
DTSTAMP:20260425T154250
CREATED:20231130T170528Z
LAST-MODIFIED:20231130T170528Z
UID:8816-1703410200-1703415600@eastlincolnalliance.com
SUMMARY:Worship Service
DESCRIPTION:We welcome you to our regular worship service every Sunday @ 9:30am.\n\n\n\nWe offer the following services for kids during the Worship Service: \nEarly Childhood care for 1-3 year olds in the East Wing \n4 years old-Kindergarten in the West Wing (Discovery Land) \n1st-5th Grade in the East Wing (Discovery Land)
URL:https://eastlincolnalliance.com/event/worship-service-82/
LOCATION:East Lincoln Alliance Church\, 735 70th Avenue\, Amery\, WI\, 54001\, United States
END:VEVENT
BEGIN:VEVENT
DTSTART;TZID=UTC:20231224T160000
DTEND;TZID=UTC:20231224T170000
DTSTAMP:20260425T154250
CREATED:20231120T162101Z
LAST-MODIFIED:20231120T162101Z
UID:8802-1703433600-1703437200@eastlincolnalliance.com
SUMMARY:Christmas Eve Service
DESCRIPTION:Join us for our Christmas Eve Service on Sunday\, December 24th at 4pm.
URL:https://eastlincolnalliance.com/event/christmas-eve-service-4/
LOCATION:East Lincoln Alliance Church\, 735 70th Avenue\, Amery\, WI\, 54001\, United States
END:VEVENT
BEGIN:VEVENT
DTSTART;TZID=UTC:20231229T120000
DTEND;TZID=UTC:20231230T220000
DTSTAMP:20260425T154250
CREATED:20231204T142944Z
LAST-MODIFIED:20231204T143022Z
UID:8839-1703851200-1703973600@eastlincolnalliance.com
SUMMARY:Private Event
DESCRIPTION:Church is rented – Mary Schussman
URL:https://eastlincolnalliance.com/event/private-event-8/
LOCATION:East Lincoln Alliance Church\, 735 70th Avenue\, Amery\, WI\, 54001\, United States
END:VEVENT
BEGIN:VEVENT
DTSTART;TZID=UTC:20231231T093000
DTEND;TZID=UTC:20231231T110000
DTSTAMP:20260425T154250
CREATED:20231117T235413Z
LAST-MODIFIED:20231117T235413Z
UID:8790-1704015000-1704020400@eastlincolnalliance.com
SUMMARY:Worship Service
DESCRIPTION:We welcome you to our regular worship service every Sunday @ 9:30am.\n\n\n\nWe offer the following services for kids during the Worship Service: \nEarly Childhood care for 1-3 year olds in the East Wing \n4 years old-Kindergarten in the West Wing (Discovery Land) \n1st-5th Grade in the East Wing (Discovery Land)
URL:https://eastlincolnalliance.com/event/worship-service-80/
LOCATION:East Lincoln Alliance Church\, 735 70th Avenue\, Amery\, WI\, 54001\, United States
END:VEVENT
END:VCALENDAR