BEGIN:VCALENDAR
VERSION:2.0
PRODID:-//East Lincoln Alliance Church - ECPv6.15.20//NONSGML v1.0//EN
CALSCALE:GREGORIAN
METHOD:PUBLISH
X-WR-CALNAME:East Lincoln Alliance Church
X-ORIGINAL-URL:https://eastlincolnalliance.com
X-WR-CALDESC:Events for East Lincoln Alliance Church
REFRESH-INTERVAL;VALUE=DURATION:PT1H
X-Robots-Tag:noindex
X-PUBLISHED-TTL:PT1H
BEGIN:VTIMEZONE
TZID:UTC
BEGIN:STANDARD
TZOFFSETFROM:+0000
TZOFFSETTO:+0000
TZNAME:UTC
DTSTART:20230101T000000
END:STANDARD
END:VTIMEZONE
BEGIN:VEVENT
DTSTART;TZID=UTC:20240618T183000
DTEND;TZID=UTC:20240618T193000
DTSTAMP:20260425T133201
CREATED:20240601T165750Z
LAST-MODIFIED:20240601T165750Z
UID:9372-1718735400-1718739000@eastlincolnalliance.com
SUMMARY:Prayer Gathering
DESCRIPTION:All are invited to join as we pray for each other\, our community and world.  Every Tuesday\, 6:30pm
URL:https://eastlincolnalliance.com/event/prayer-gathering-28/
LOCATION:East Lincoln Alliance Church\, 735 70th Avenue\, Amery\, WI\, 54001\, United States
END:VEVENT
BEGIN:VEVENT
DTSTART;TZID=UTC:20240616T100000
DTEND;TZID=UTC:20240616T111500
DTSTAMP:20260425T133201
CREATED:20240408T143659Z
LAST-MODIFIED:20240408T144125Z
UID:9224-1718532000-1718536500@eastlincolnalliance.com
SUMMARY:Worship Service
DESCRIPTION:We welcome you to our regular worship service every Sunday @ 10:00am.\n\n\n\nWe offer the following services for kids during the Worship Service: \nEarly Childhood care for 1-3 year olds in the East Wing \n4 years old-Kindergarten in the West Wing (Discovery Land) \n1st-5th Grade in the East Wing (Discovery Land)
URL:https://eastlincolnalliance.com/event/worship-service-101/
LOCATION:East Lincoln Alliance Church\, 735 70th Avenue\, Amery\, WI\, 54001\, United States
END:VEVENT
BEGIN:VEVENT
DTSTART;TZID=UTC:20240616T084500
DTEND;TZID=UTC:20240616T094500
DTSTAMP:20260425T133201
CREATED:20240408T144931Z
LAST-MODIFIED:20240408T144932Z
UID:9248-1718527500-1718531100@eastlincolnalliance.com
SUMMARY:Discipleship Hour
DESCRIPTION:Join us for Discipleship Hour from 8:45-9:45am.  All 6th grade and up are invited.  Childcare for 1 year old to 5th grade is available (for a small fee).
URL:https://eastlincolnalliance.com/event/discipleship-hour-7/
LOCATION:East Lincoln Alliance Church\, 735 70th Avenue\, Amery\, WI\, 54001\, United States
END:VEVENT
BEGIN:VEVENT
DTSTART;TZID=UTC:20240615T080000
DTEND;TZID=UTC:20240615T220000
DTSTAMP:20260425T133201
CREATED:20240610T151159Z
LAST-MODIFIED:20240610T151159Z
UID:9405-1718438400-1718488800@eastlincolnalliance.com
SUMMARY:Table Rental
DESCRIPTION:Nicole Perkins
URL:https://eastlincolnalliance.com/event/table-rental/
LOCATION:WI
END:VEVENT
BEGIN:VEVENT
DTSTART;TZID=UTC:20240612T150000
DTEND;TZID=UTC:20240612T200000
DTSTAMP:20260425T133201
CREATED:20240520T151754Z
LAST-MODIFIED:20240520T151754Z
UID:9333-1718204400-1718222400@eastlincolnalliance.com
SUMMARY:Feed My Starving Children Food Packing
DESCRIPTION:On Wednesday\, June 12th we have spots reserved to pack meals at Feed My Starving Children in Coon Rapids.  We will leave the church at 3pm (or meet at FMSC) and pack meals from 5:00-6:30pm.  Contact the church office to sign up or add your name to the sign-up sheet at the Info Table. Return to church at 8pm (or later if you plan to stop for a meal after\, coordinating with the car you are in). \nDrivers are needed!  If you can take a carload\, please let Kent know. \nThis is a church-wide event\, all are invited to join in the fun!
URL:https://eastlincolnalliance.com/event/feed-my-starving-children-food-packing/
LOCATION:WI
END:VEVENT
BEGIN:VEVENT
DTSTART;TZID=UTC:20240611T183000
DTEND;TZID=UTC:20240611T193000
DTSTAMP:20260425T133201
CREATED:20240601T164314Z
LAST-MODIFIED:20240601T164314Z
UID:9370-1718130600-1718134200@eastlincolnalliance.com
SUMMARY:Prayer Gathering
DESCRIPTION:All are invited to join as we pray for each other\, our community and world.  Every Tuesday\, 6:30pm
URL:https://eastlincolnalliance.com/event/prayer-gathering-27/
LOCATION:East Lincoln Alliance Church\, 735 70th Avenue\, Amery\, WI\, 54001\, United States
END:VEVENT
BEGIN:VEVENT
DTSTART;TZID=UTC:20240610T090000
DTEND;TZID=UTC:20240610T110000
DTSTAMP:20260425T133201
CREATED:20240524T215544Z
LAST-MODIFIED:20240524T215544Z
UID:9348-1718010000-1718017200@eastlincolnalliance.com
SUMMARY:Mugs & Mingling
DESCRIPTION:All women are invited to join for a time of fellowship at Mary Schussman’s on Monday\, June 10th at 9am.  Bring a mug and a chair!
URL:https://eastlincolnalliance.com/event/mugs-mingling-4/
LOCATION:WI
END:VEVENT
BEGIN:VEVENT
DTSTART;TZID=UTC:20240609T113000
DTEND;TZID=UTC:20240609T133000
DTSTAMP:20260425T133201
CREATED:20240520T150243Z
LAST-MODIFIED:20240520T150243Z
UID:9325-1717932600-1717939800@eastlincolnalliance.com
SUMMARY:Appreciation Potluck
DESCRIPTION:Please join us Sunday\, June 9 after church as we take time to thank God and appreciate all who serve in ministry at East Lincoln throughout the year. Everyone is invited. Tim Koepp will prepare a tasty entrée and we’re asking each family to bring a side dish or dessert to share. \nCulinary Group #3 will be in charge of the set up and clean up of the pot luck.
URL:https://eastlincolnalliance.com/event/appreciation-potluck/
LOCATION:East Lincoln Alliance Church\, 735 70th Avenue\, Amery\, WI\, 54001\, United States
END:VEVENT
BEGIN:VEVENT
DTSTART;TZID=UTC:20240609T100000
DTEND;TZID=UTC:20240609T111500
DTSTAMP:20260425T133201
CREATED:20240408T143838Z
LAST-MODIFIED:20240408T144222Z
UID:9232-1717927200-1717931700@eastlincolnalliance.com
SUMMARY:Worship Service
DESCRIPTION:We welcome you to our regular worship service every Sunday @ 10:00am.\n\n\n\nWe offer the following services for kids during the Worship Service: \nEarly Childhood care for 1-3 year olds in the East Wing \n4 years old-Kindergarten in the West Wing (Discovery Land) \n1st-5th Grade in the East Wing (Discovery Land)
URL:https://eastlincolnalliance.com/event/worship-service-105/
LOCATION:East Lincoln Alliance Church\, 735 70th Avenue\, Amery\, WI\, 54001\, United States
END:VEVENT
BEGIN:VEVENT
DTSTART;TZID=UTC:20240609T084500
DTEND;TZID=UTC:20240609T094500
DTSTAMP:20260425T133201
CREATED:20240408T144859Z
LAST-MODIFIED:20240408T144859Z
UID:9246-1717922700-1717926300@eastlincolnalliance.com
SUMMARY:Discipleship Hour
DESCRIPTION:Join us for Discipleship Hour from 8:45-9:45am.  All 6th grade and up are invited.  Childcare for 1 year old to 5th grade is available (for a small fee).
URL:https://eastlincolnalliance.com/event/discipleship-hour-6/
LOCATION:East Lincoln Alliance Church\, 735 70th Avenue\, Amery\, WI\, 54001\, United States
END:VEVENT
BEGIN:VEVENT
DTSTART;TZID=UTC:20240604T170000
DTEND;TZID=UTC:20240604T200000
DTSTAMP:20260425T133201
CREATED:20240427T005146Z
LAST-MODIFIED:20240427T005146Z
UID:9273-1717520400-1717531200@eastlincolnalliance.com
SUMMARY:HOPE aLIVE
DESCRIPTION:Mark your calendars for Tuesday\, June 4th!  We are planning for another great community HOPE aLIVE event 5 – 8:30pm at Michael Park. There will be food\, music\, bounce houses\, a prayer tent\, games for all ages and much more. \nAnd best of all? It’s all FREE!
URL:https://eastlincolnalliance.com/event/hope-alive-5/
LOCATION:Michael Park\, 132 Central Street\, Amery\, WI\, 54001\, United States
END:VEVENT
BEGIN:VEVENT
DTSTART;TZID=UTC:20240602T120000
DTEND;TZID=UTC:20240602T180000
DTSTAMP:20260425T133201
CREATED:20240520T150706Z
LAST-MODIFIED:20240520T150706Z
UID:9331-1717329600-1717351200@eastlincolnalliance.com
SUMMARY:Faith and Fishing
DESCRIPTION:A fun youth event!  Sunday\, June 2nd at White Ash Lake.  Fish anytime between 12 and 6pm.  Record fish lengths in a 2 hour time span.  A hot dog meal will be provided in the evening. Contact Kent Tollakson with any questions.
URL:https://eastlincolnalliance.com/event/faith-and-fishing-3/
LOCATION:WI
END:VEVENT
BEGIN:VEVENT
DTSTART;TZID=UTC:20240602T100000
DTEND;TZID=UTC:20240602T111500
DTSTAMP:20260425T133201
CREATED:20240408T143816Z
LAST-MODIFIED:20240408T144203Z
UID:9230-1717322400-1717326900@eastlincolnalliance.com
SUMMARY:Worship Service
DESCRIPTION:We welcome you to our regular worship service every Sunday @ 10:00am.\n\n\n\nWe offer the following services for kids during the Worship Service: \nEarly Childhood care for 1-3 year olds in the East Wing \n4 years old-Kindergarten in the West Wing (Discovery Land) \n1st-5th Grade in the East Wing (Discovery Land)
URL:https://eastlincolnalliance.com/event/worship-service-104/
LOCATION:East Lincoln Alliance Church\, 735 70th Avenue\, Amery\, WI\, 54001\, United States
END:VEVENT
BEGIN:VEVENT
DTSTART;TZID=UTC:20240602T084500
DTEND;TZID=UTC:20240602T094500
DTSTAMP:20260425T133201
CREATED:20240408T144836Z
LAST-MODIFIED:20240408T144836Z
UID:9244-1717317900-1717321500@eastlincolnalliance.com
SUMMARY:Discipleship Hour
DESCRIPTION:Join us for Discipleship Hour from 8:45-9:45am.  All 6th grade and up are invited.  Childcare for 1 year old to 5th grade is available (for a small fee).
URL:https://eastlincolnalliance.com/event/discipleship-hour-5/
LOCATION:East Lincoln Alliance Church\, 735 70th Avenue\, Amery\, WI\, 54001\, United States
END:VEVENT
BEGIN:VEVENT
DTSTART;TZID=UTC:20240531T090000
DTEND;TZID=UTC:20240531T160000
DTSTAMP:20260425T133201
CREATED:20240524T215433Z
LAST-MODIFIED:20240524T215433Z
UID:9346-1717146000-1717171200@eastlincolnalliance.com
SUMMARY:Women's Craft Day
DESCRIPTION:Women are invited to join on Friday\, May 31st 9am-4pm for a day of crafting and fellowship. Bring whatever project you are working on\, or just come and visit! We will be meeting at Wendy Bachman’s.  Pack a lunch. \nContact Julie Anderson if you have questions or would like to host a craft day. 715-607-8022
URL:https://eastlincolnalliance.com/event/womens-craft-day-27/
LOCATION:Wendy Bachman’s
END:VEVENT
BEGIN:VEVENT
DTSTART;TZID=UTC:20240528T183000
DTEND;TZID=UTC:20240528T193000
DTSTAMP:20260425T133201
CREATED:20240408T143131Z
LAST-MODIFIED:20240408T143131Z
UID:9214-1716921000-1716924600@eastlincolnalliance.com
SUMMARY:Prayer Gathering
DESCRIPTION:All are invited to join as we pray for each other\, our community and world.  Every Tuesday\, 6:30pm
URL:https://eastlincolnalliance.com/event/prayer-gathering-26/
LOCATION:East Lincoln Alliance Church\, 735 70th Avenue\, Amery\, WI\, 54001\, United States
END:VEVENT
BEGIN:VEVENT
DTSTART;TZID=UTC:20240526T100000
DTEND;TZID=UTC:20240526T111500
DTSTAMP:20260425T133201
CREATED:20240408T143749Z
LAST-MODIFIED:20240408T144146Z
UID:9228-1716717600-1716722100@eastlincolnalliance.com
SUMMARY:Worship Service
DESCRIPTION:We welcome you to our regular worship service every Sunday @ 10:00am.\n\n\n\nWe offer the following services for kids during the Worship Service: \nEarly Childhood care for 1-3 year olds in the East Wing \n4 years old-Kindergarten in the West Wing (Discovery Land) \n1st-5th Grade in the East Wing (Discovery Land)
URL:https://eastlincolnalliance.com/event/worship-service-103/
LOCATION:East Lincoln Alliance Church\, 735 70th Avenue\, Amery\, WI\, 54001\, United States
END:VEVENT
BEGIN:VEVENT
DTSTART;TZID=UTC:20240526T084500
DTEND;TZID=UTC:20240526T094500
DTSTAMP:20260425T133201
CREATED:20240408T144812Z
LAST-MODIFIED:20240408T144812Z
UID:9242-1716713100-1716716700@eastlincolnalliance.com
SUMMARY:Discipleship Hour
DESCRIPTION:Join us for Discipleship Hour from 8:45-9:45am.  All 6th grade and up are invited.  Childcare for 1 year old to 5th grade is available (for a small fee).
URL:https://eastlincolnalliance.com/event/discipleship-hour-4/
LOCATION:East Lincoln Alliance Church\, 735 70th Avenue\, Amery\, WI\, 54001\, United States
END:VEVENT
BEGIN:VEVENT
DTSTART;TZID=UTC:20240524T100000
DTEND;TZID=UTC:20240524T140000
DTSTAMP:20260425T133201
CREATED:20240520T155350Z
LAST-MODIFIED:20240520T155350Z
UID:9335-1716544800-1716559200@eastlincolnalliance.com
SUMMARY:Kay Amundsen Funeral
DESCRIPTION:
URL:https://eastlincolnalliance.com/event/kay-amundsen-funeral/
LOCATION:East Lincoln Alliance Church\, 735 70th Avenue\, Amery\, WI\, 54001\, United States
END:VEVENT
BEGIN:VEVENT
DTSTART;TZID=UTC:20240522T180000
DTEND;TZID=UTC:20240522T200000
DTSTAMP:20260425T133201
CREATED:20240520T150619Z
LAST-MODIFIED:20240520T150619Z
UID:9329-1716400800-1716408000@eastlincolnalliance.com
SUMMARY:Son Seekers Family Night
DESCRIPTION:Parents and families are invited to Family Night for Son Seekers on Wednesday\, May 22nd 6-8pm. After games\, we will have ice cream and dessert.
URL:https://eastlincolnalliance.com/event/son-seekers-family-night/
LOCATION:East Lincoln Alliance Church\, 735 70th Avenue\, Amery\, WI\, 54001\, United States
END:VEVENT
BEGIN:VEVENT
DTSTART;TZID=UTC:20240522T180000
DTEND;TZID=UTC:20240522T200000
DTSTAMP:20260425T133201
CREATED:20231229T184822Z
LAST-MODIFIED:20231229T184822Z
UID:8964-1716400800-1716408000@eastlincolnalliance.com
SUMMARY:Son Seekers
DESCRIPTION:Son Seekers is a program for K-5th graders. We will be learning the 40 names of God. Programming will be from 6-8pm every Wednesday at East Lincoln Alliance Church. We will have games\, stories\, songs\, crafts.
URL:https://eastlincolnalliance.com/event/son-seekers-20/
LOCATION:East Lincoln Alliance Church\, 735 70th Avenue\, Amery\, WI\, 54001\, United States
END:VEVENT
BEGIN:VEVENT
DTSTART;TZID=UTC:20240522T180000
DTEND;TZID=UTC:20240522T200000
DTSTAMP:20260425T133201
CREATED:20231208T174712Z
LAST-MODIFIED:20240520T144613Z
UID:8889-1716400800-1716408000@eastlincolnalliance.com
SUMMARY:Recharge/Youth Group Awards Night
DESCRIPTION:Parents and families are invited to Awards Night for Youth Group from 6-8pm on Wednesday\, May 22nd. Goofy and meaningful awards will be presented to your student(s). After the awards\, we will have ice cream and dessert.
URL:https://eastlincolnalliance.com/event/recharge-youth-group-67/
LOCATION:East Lincoln Alliance Church\, 735 70th Avenue\, Amery\, WI\, 54001\, United States
END:VEVENT
BEGIN:VEVENT
DTSTART;TZID=UTC:20240521T183000
DTEND;TZID=UTC:20240521T193000
DTSTAMP:20260425T133201
CREATED:20240408T143052Z
LAST-MODIFIED:20240408T143052Z
UID:9212-1716316200-1716319800@eastlincolnalliance.com
SUMMARY:Prayer Gathering
DESCRIPTION:All are invited to join as we pray for each other\, our community and world.  Every Tuesday\, 6:30pm
URL:https://eastlincolnalliance.com/event/prayer-gathering-25/
LOCATION:East Lincoln Alliance Church\, 735 70th Avenue\, Amery\, WI\, 54001\, United States
END:VEVENT
BEGIN:VEVENT
DTSTART;TZID=UTC:20240519T100000
DTEND;TZID=UTC:20240519T111500
DTSTAMP:20260425T133201
CREATED:20240408T143724Z
LAST-MODIFIED:20240408T144037Z
UID:9226-1716112800-1716117300@eastlincolnalliance.com
SUMMARY:Worship Service
DESCRIPTION:We welcome you to our regular worship service every Sunday @ 10:00am.\n\n\n\nWe offer the following services for kids during the Worship Service: \nEarly Childhood care for 1-3 year olds in the East Wing \n4 years old-Kindergarten in the West Wing (Discovery Land) \n1st-5th Grade in the East Wing (Discovery Land)
URL:https://eastlincolnalliance.com/event/worship-service-102/
LOCATION:East Lincoln Alliance Church\, 735 70th Avenue\, Amery\, WI\, 54001\, United States
END:VEVENT
BEGIN:VEVENT
DTSTART;TZID=UTC:20240519T084500
DTEND;TZID=UTC:20240519T094500
DTSTAMP:20260425T133201
CREATED:20240408T144734Z
LAST-MODIFIED:20240408T144734Z
UID:9240-1716108300-1716111900@eastlincolnalliance.com
SUMMARY:Discipleship Hour
DESCRIPTION:Join us for Discipleship Hour from 8:45-9:45am.  All 6th grade and up are invited.  Childcare for 1 year old to 5th grade is available (for a small fee).
URL:https://eastlincolnalliance.com/event/discipleship-hour-3/
LOCATION:East Lincoln Alliance Church\, 735 70th Avenue\, Amery\, WI\, 54001\, United States
END:VEVENT
BEGIN:VEVENT
DTSTART;TZID=UTC:20240518T173000
DTEND;TZID=UTC:20240518T203000
DTSTAMP:20260425T133201
CREATED:20240427T010247Z
LAST-MODIFIED:20240427T010247Z
UID:9291-1716053400-1716064200@eastlincolnalliance.com
SUMMARY:Dinners for Six
DESCRIPTION:All women are invited to gather and grow together at our next Dinners for Six.  Sign up to be a hostess or a guest on Saturday\, May 18th at 5:30pm.  Sign up will close Sunday\, May 12th and you will be notified shortly after where you’ll be going if you are a guest.
URL:https://eastlincolnalliance.com/event/dinners-for-six/
LOCATION:WI
END:VEVENT
BEGIN:VEVENT
DTSTART;TZID=UTC:20240518T160000
DTEND;TZID=UTC:20240518T210000
DTSTAMP:20260425T133201
CREATED:20240424T235906Z
LAST-MODIFIED:20240424T235906Z
UID:9271-1716048000-1716066000@eastlincolnalliance.com
SUMMARY:Kitchen and Fellowship Hall Reserved
DESCRIPTION:Tresta Andren
URL:https://eastlincolnalliance.com/event/kitchen-and-fellowship-hall-reserved/
LOCATION:East Lincoln Alliance Church\, 735 70th Avenue\, Amery\, WI\, 54001\, United States
END:VEVENT
BEGIN:VEVENT
DTSTART;TZID=UTC:20240515T180000
DTEND;TZID=UTC:20240515T200000
DTSTAMP:20260425T133201
CREATED:20231229T184801Z
LAST-MODIFIED:20231229T184801Z
UID:8962-1715796000-1715803200@eastlincolnalliance.com
SUMMARY:Son Seekers
DESCRIPTION:Son Seekers is a program for K-5th graders. We will be learning the 40 names of God. Programming will be from 6-8pm every Wednesday at East Lincoln Alliance Church. We will have games\, stories\, songs\, crafts.
URL:https://eastlincolnalliance.com/event/son-seekers-19/
LOCATION:East Lincoln Alliance Church\, 735 70th Avenue\, Amery\, WI\, 54001\, United States
END:VEVENT
BEGIN:VEVENT
DTSTART;TZID=UTC:20240515T180000
DTEND;TZID=UTC:20240515T200000
DTSTAMP:20260425T133201
CREATED:20231208T174634Z
LAST-MODIFIED:20231208T174634Z
UID:8887-1715796000-1715803200@eastlincolnalliance.com
SUMMARY:Recharge/Youth Group
DESCRIPTION:All students 6-12th grade are invited to attend.  Make sure to invite your friends!
URL:https://eastlincolnalliance.com/event/recharge-youth-group-66/
LOCATION:East Lincoln Alliance Church\, 735 70th Avenue\, Amery\, WI\, 54001\, United States
END:VEVENT
BEGIN:VEVENT
DTSTART;TZID=UTC:20240514T183000
DTEND;TZID=UTC:20240514T193000
DTSTAMP:20260425T133201
CREATED:20240408T143023Z
LAST-MODIFIED:20240408T143023Z
UID:9210-1715711400-1715715000@eastlincolnalliance.com
SUMMARY:Prayer Gathering
DESCRIPTION:All are invited to join as we pray for each other\, our community and world.  Every Tuesday\, 6:30pm
URL:https://eastlincolnalliance.com/event/prayer-gathering-24/
LOCATION:East Lincoln Alliance Church\, 735 70th Avenue\, Amery\, WI\, 54001\, United States
END:VEVENT
END:VCALENDAR