BEGIN:VCALENDAR
VERSION:2.0
PRODID:-//East Lincoln Alliance Church - ECPv6.15.20//NONSGML v1.0//EN
CALSCALE:GREGORIAN
METHOD:PUBLISH
X-WR-CALNAME:East Lincoln Alliance Church
X-ORIGINAL-URL:https://eastlincolnalliance.com
X-WR-CALDESC:Events for East Lincoln Alliance Church
REFRESH-INTERVAL;VALUE=DURATION:PT1H
X-Robots-Tag:noindex
X-PUBLISHED-TTL:PT1H
BEGIN:VTIMEZONE
TZID:UTC
BEGIN:STANDARD
TZOFFSETFROM:+0000
TZOFFSETTO:+0000
TZNAME:UTC
DTSTART:20230101T000000
END:STANDARD
END:VTIMEZONE
BEGIN:VEVENT
DTSTART;TZID=UTC:20240317T111500
DTEND;TZID=UTC:20240317T123000
DTSTAMP:20260425T154608
CREATED:20240227T165610Z
LAST-MODIFIED:20240227T165610Z
UID:9112-1710674100-1710678600@eastlincolnalliance.com
SUMMARY:"How To..." Sunday Study
DESCRIPTION:Join Perry Anderson\, Barry Iverson and esteemed colleagues on Sundays 11:15am-12:30pm in the East Wing Youth/Discovery Land room. The study will focus on different “how to” topics. This class will be in a discussion format and is intended for ages 6th grade to adult. Bring a sack lunch if you want to eat during study. \n\n\n\nEach week one topic will be discussed and likely plan is to discuss that topic after study of scripture\, commentaries\, videos\, etc. in more depth the following week or weeks depending on need.  Each student is invited to study\, explore\, ask questions of others regarding the topic to share the following week. \n\nUpcoming topics are: \nMarch 10 & 17 Watchfulness:  Watching over your spirit and soul (spiritual discipline to attain holiness) \nMarch 24 Time Management Part 1 \nMarch 31 Easter (no class)
URL:https://eastlincolnalliance.com/event/how-to-sunday-study-19/
LOCATION:East Lincoln Alliance Church\, 735 70th Avenue\, Amery\, WI\, 54001\, United States
END:VEVENT
BEGIN:VEVENT
DTSTART;TZID=UTC:20240317T110000
DTEND;TZID=UTC:20240317T120000
DTSTAMP:20260425T154608
CREATED:20240229T151931Z
LAST-MODIFIED:20240229T151931Z
UID:9125-1710673200-1710676800@eastlincolnalliance.com
SUMMARY:Congregational Meeting
DESCRIPTION:
URL:https://eastlincolnalliance.com/event/congregational-meeting-3/
LOCATION:East Lincoln Alliance Church\, 735 70th Avenue\, Amery\, WI\, 54001\, United States
END:VEVENT
BEGIN:VEVENT
DTSTART;TZID=UTC:20240317T093000
DTEND;TZID=UTC:20240317T110000
DTSTAMP:20260425T154608
CREATED:20240227T163925Z
LAST-MODIFIED:20240227T163925Z
UID:9086-1710667800-1710673200@eastlincolnalliance.com
SUMMARY:Worship Service
DESCRIPTION:We welcome you to our regular worship service every Sunday @ 9:30am.\n\n\n\nWe offer the following services for kids during the Worship Service: \nEarly Childhood care for 1-3 year olds in the East Wing \n4 years old-Kindergarten in the West Wing (Discovery Land) \n1st-5th Grade in the East Wing (Discovery Land)
URL:https://eastlincolnalliance.com/event/worship-service-93/
LOCATION:East Lincoln Alliance Church\, 735 70th Avenue\, Amery\, WI\, 54001\, United States
END:VEVENT
BEGIN:VEVENT
DTSTART;TZID=UTC:20240313T180000
DTEND;TZID=UTC:20240313T200000
DTSTAMP:20260425T154608
CREATED:20231229T184453Z
LAST-MODIFIED:20231229T184453Z
UID:8946-1710352800-1710360000@eastlincolnalliance.com
SUMMARY:Son Seekers
DESCRIPTION:Son Seekers is a program for K-5th graders. We will be learning the 40 names of God. Programming will be from 6-8pm every Wednesday at East Lincoln Alliance Church. We will have games\, stories\, songs\, crafts.
URL:https://eastlincolnalliance.com/event/son-seekers-11/
LOCATION:East Lincoln Alliance Church\, 735 70th Avenue\, Amery\, WI\, 54001\, United States
END:VEVENT
BEGIN:VEVENT
DTSTART;TZID=UTC:20240313T180000
DTEND;TZID=UTC:20240313T200000
DTSTAMP:20260425T154608
CREATED:20231208T174004Z
LAST-MODIFIED:20231208T174004Z
UID:8871-1710352800-1710360000@eastlincolnalliance.com
SUMMARY:Recharge/Youth Group
DESCRIPTION:All students 6-12th grade are invited to attend.  Make sure to invite your friends!
URL:https://eastlincolnalliance.com/event/recharge-youth-group-58/
LOCATION:East Lincoln Alliance Church\, 735 70th Avenue\, Amery\, WI\, 54001\, United States
END:VEVENT
BEGIN:VEVENT
DTSTART;TZID=UTC:20240313T151500
DTEND;TZID=UTC:20240313T163000
DTSTAMP:20260425T154608
CREATED:20231208T175316Z
LAST-MODIFIED:20231208T175316Z
UID:8903-1710342900-1710347400@eastlincolnalliance.com
SUMMARY:After School Good News Club
DESCRIPTION:After School Good News Club will be at Lien Elementary School (Amery) every Wednesday right after school until 4:30pm.  This is open to students Kindergarten to 5th grade.  Students attending the Intermediate School should ride the transfer bus to the Elementary School. Parent permission slips must be filled out.  Forms can be found here: Parent Permission Form \n*Note – if Amery Schools are closed on a Wednesday\, there will be no GNC
URL:https://eastlincolnalliance.com/event/after-school-good-news-club-53/
LOCATION:Lien Elementary School\, 469 Minneapolis Ave S\, Amery\, WI\, 54001\, United States
END:VEVENT
BEGIN:VEVENT
DTSTART;TZID=UTC:20240312T183000
DTEND;TZID=UTC:20240312T193000
DTSTAMP:20260425T154608
CREATED:20240227T164753Z
LAST-MODIFIED:20240227T164753Z
UID:9100-1710268200-1710271800@eastlincolnalliance.com
SUMMARY:Prayer Gathering
DESCRIPTION:All are invited to join as we pray for each other\, our community and world.  Every Tuesday\, 6:30pm
URL:https://eastlincolnalliance.com/event/prayer-gathering-15/
LOCATION:East Lincoln Alliance Church\, 735 70th Avenue\, Amery\, WI\, 54001\, United States
END:VEVENT
BEGIN:VEVENT
DTSTART;TZID=UTC:20240312T083000
DTEND;TZID=UTC:20240312T143000
DTSTAMP:20260425T154608
CREATED:20230821T170025Z
LAST-MODIFIED:20230821T170025Z
UID:8528-1710232200-1710253800@eastlincolnalliance.com
SUMMARY:Homeschool Co-op Classes
DESCRIPTION:
URL:https://eastlincolnalliance.com/event/homeschool-co-op-classes-21/
LOCATION:East Lincoln Alliance Church\, 735 70th Avenue\, Amery\, WI\, 54001\, United States
END:VEVENT
BEGIN:VEVENT
DTSTART;TZID=UTC:20240310T111500
DTEND;TZID=UTC:20240310T123000
DTSTAMP:20260425T154608
CREATED:20240116T205713Z
LAST-MODIFIED:20240227T165429Z
UID:9010-1710069300-1710073800@eastlincolnalliance.com
SUMMARY:"How To..." Sunday Study
DESCRIPTION:Join Perry Anderson\, Barry Iverson and esteemed colleagues on Sundays 11:15am-12:30pm in the East Wing Youth/Discovery Land room. The study will focus on different “how to” topics. This class will be in a discussion format and is intended for ages 6th grade to adult. Bring a sack lunch if you want to eat during study. \n\n\n\nEach week one topic will be discussed and likely plan is to discuss that topic after study of scripture\, commentaries\, videos\, etc. in more depth the following week or weeks depending on need.  Each student is invited to study\, explore\, ask questions of others regarding the topic to share the following week. \n\nUpcoming topics are: \nMarch 10 & 17 Watchfulness:  Watching over your spirit and soul (spiritual discipline to attain holiness) \nMarch 24 Time Management Part 1 \nMarch 31 Easter (no class)
URL:https://eastlincolnalliance.com/event/how-to-sunday-study-20/
LOCATION:East Lincoln Alliance Church\, 735 70th Avenue\, Amery\, WI\, 54001\, United States
END:VEVENT
BEGIN:VEVENT
DTSTART;TZID=UTC:20240310T093000
DTEND;TZID=UTC:20240310T110000
DTSTAMP:20260425T154608
CREATED:20240227T163858Z
LAST-MODIFIED:20240227T163858Z
UID:9084-1710063000-1710068400@eastlincolnalliance.com
SUMMARY:Worship Service
DESCRIPTION:We welcome you to our regular worship service every Sunday @ 9:30am.\n\n\n\nWe offer the following services for kids during the Worship Service: \nEarly Childhood care for 1-3 year olds in the East Wing \n4 years old-Kindergarten in the West Wing (Discovery Land) \n1st-5th Grade in the East Wing (Discovery Land)
URL:https://eastlincolnalliance.com/event/worship-service-92/
LOCATION:East Lincoln Alliance Church\, 735 70th Avenue\, Amery\, WI\, 54001\, United States
END:VEVENT
BEGIN:VEVENT
DTSTART;TZID=UTC:20240308T180000
DTEND;TZID=UTC:20240309T090000
DTSTAMP:20260425T154608
CREATED:20240227T172800Z
LAST-MODIFIED:20240229T150959Z
UID:9120-1709920800-1709974800@eastlincolnalliance.com
SUMMARY:Harvest of Hope Youth Lock-In
DESCRIPTION:Attention Parents of youth 6-12th grade: We are excited for our upcoming Harvest of Hope Lock-in on March 8-9! \nActivities include: a service project and bowling at Spare Time in Turtle Lake\, with an optional sleepover at the church\, and homemade donuts in the morning!  We will also be collecting a donation for Feed My Lambs International\, one of the ministries we support. \nFriday\, March 8th – 6pm drop off at the church \n6-8pm Service Worker (teachers\, nurses\, firefighters\, EMTs\, police) care packs \n8:30-10:30pm Bowling at Spare Time in Turtle Lake \nSaturday\, March 9th – 9am pick up \nCost is $10 per person ($20 family max) which includes pizza and bowling\, and students may want extra money for snacks at the bowling alley. \nContact Kent Tollakson if your youth is going to attend. If you can help drive to and from the bowling alley\, let Kent know.
URL:https://eastlincolnalliance.com/event/harvest-of-hope-youth-lock-in-2/
LOCATION:East Lincoln Alliance Church\, 735 70th Avenue\, Amery\, WI\, 54001\, United States
END:VEVENT
BEGIN:VEVENT
DTSTART;TZID=UTC:20240306T180000
DTEND;TZID=UTC:20240306T200000
DTSTAMP:20260425T154608
CREATED:20231229T184429Z
LAST-MODIFIED:20231229T184429Z
UID:8944-1709748000-1709755200@eastlincolnalliance.com
SUMMARY:Son Seekers
DESCRIPTION:Son Seekers is a program for K-5th graders. We will be learning the 40 names of God. Programming will be from 6-8pm every Wednesday at East Lincoln Alliance Church. We will have games\, stories\, songs\, crafts.
URL:https://eastlincolnalliance.com/event/son-seekers-10/
LOCATION:East Lincoln Alliance Church\, 735 70th Avenue\, Amery\, WI\, 54001\, United States
END:VEVENT
BEGIN:VEVENT
DTSTART;TZID=UTC:20240306T180000
DTEND;TZID=UTC:20240306T200000
DTSTAMP:20260425T154608
CREATED:20231208T173939Z
LAST-MODIFIED:20231208T173939Z
UID:8869-1709748000-1709755200@eastlincolnalliance.com
SUMMARY:Recharge/Youth Group
DESCRIPTION:All students 6-12th grade are invited to attend.  Make sure to invite your friends!
URL:https://eastlincolnalliance.com/event/recharge-youth-group-57/
LOCATION:East Lincoln Alliance Church\, 735 70th Avenue\, Amery\, WI\, 54001\, United States
END:VEVENT
BEGIN:VEVENT
DTSTART;TZID=UTC:20240306T151500
DTEND;TZID=UTC:20240306T163000
DTSTAMP:20260425T154608
CREATED:20231208T175249Z
LAST-MODIFIED:20231208T175249Z
UID:8901-1709738100-1709742600@eastlincolnalliance.com
SUMMARY:After School Good News Club
DESCRIPTION:After School Good News Club will be at Lien Elementary School (Amery) every Wednesday right after school until 4:30pm.  This is open to students Kindergarten to 5th grade.  Students attending the Intermediate School should ride the transfer bus to the Elementary School. Parent permission slips must be filled out.  Forms can be found here: Parent Permission Form \n*Note – if Amery Schools are closed on a Wednesday\, there will be no GNC
URL:https://eastlincolnalliance.com/event/after-school-good-news-club-52/
LOCATION:Lien Elementary School\, 469 Minneapolis Ave S\, Amery\, WI\, 54001\, United States
END:VEVENT
BEGIN:VEVENT
DTSTART;TZID=UTC:20240305T183000
DTEND;TZID=UTC:20240305T193000
DTSTAMP:20260425T154608
CREATED:20240227T164723Z
LAST-MODIFIED:20240227T164723Z
UID:9098-1709663400-1709667000@eastlincolnalliance.com
SUMMARY:Prayer Gathering
DESCRIPTION:All are invited to join as we pray for each other\, our community and world.  Every Tuesday\, 6:30pm
URL:https://eastlincolnalliance.com/event/prayer-gathering-14/
LOCATION:East Lincoln Alliance Church\, 735 70th Avenue\, Amery\, WI\, 54001\, United States
END:VEVENT
BEGIN:VEVENT
DTSTART;TZID=UTC:20240303T110000
DTEND;TZID=UTC:20240303T130000
DTSTAMP:20260425T154608
CREATED:20240130T161614Z
LAST-MODIFIED:20240227T163658Z
UID:9054-1709463600-1709470800@eastlincolnalliance.com
SUMMARY:Family Fun Day!
DESCRIPTION:CHANGE OF PLANS – Sunday\, March 3rd! \nWith the ice in unfavorable (or favorable\, depending how you look at it!) conditions\, we have moved the Family Fun Day to the church and changed the time to 11am-1pm. All are invited to join for a potluck meal (hot dogs\, hamburgers\, brats and beverages will be provided)\, please bring a side to share. We will have some yard games set up and hope to have a bonfire to roast s’mores. \nHope to see you there!
URL:https://eastlincolnalliance.com/event/family-fun-day-2/
LOCATION:East Lincoln Alliance Church\, 735 70th Avenue\, Amery\, WI\, 54001\, United States
END:VEVENT
BEGIN:VEVENT
DTSTART;TZID=UTC:20240303T093000
DTEND;TZID=UTC:20240303T110000
DTSTAMP:20260425T154608
CREATED:20240227T163832Z
LAST-MODIFIED:20240227T163832Z
UID:9082-1709458200-1709463600@eastlincolnalliance.com
SUMMARY:Worship Service
DESCRIPTION:We welcome you to our regular worship service every Sunday @ 9:30am.\n\n\n\nWe offer the following services for kids during the Worship Service: \nEarly Childhood care for 1-3 year olds in the East Wing \n4 years old-Kindergarten in the West Wing (Discovery Land) \n1st-5th Grade in the East Wing (Discovery Land)
URL:https://eastlincolnalliance.com/event/worship-service-91/
LOCATION:East Lincoln Alliance Church\, 735 70th Avenue\, Amery\, WI\, 54001\, United States
END:VEVENT
BEGIN:VEVENT
DTSTART;TZID=UTC:20240303T073000
DTEND;TZID=UTC:20240303T083000
DTSTAMP:20260425T154608
CREATED:20240122T153125Z
LAST-MODIFIED:20240122T153125Z
UID:9031-1709451000-1709454600@eastlincolnalliance.com
SUMMARY:Men's Breakfast
DESCRIPTION:1st Sunday of every month.  All men/boys are invited!
URL:https://eastlincolnalliance.com/event/mens-breakfast-5/
LOCATION:East Lincoln Alliance Church\, 735 70th Avenue\, Amery\, WI\, 54001\, United States
END:VEVENT
BEGIN:VEVENT
DTSTART;TZID=UTC:20240302T100000
DTEND;TZID=UTC:20240302T130000
DTSTAMP:20260425T154608
CREATED:20240229T150839Z
LAST-MODIFIED:20240229T150839Z
UID:9122-1709373600-1709384400@eastlincolnalliance.com
SUMMARY:Vivian Hillebrandt Funeral
DESCRIPTION:11am service\, visitation 1 hour prior
URL:https://eastlincolnalliance.com/event/vivian-hillebrandt-funeral/
LOCATION:East Lincoln Alliance Church\, 735 70th Avenue\, Amery\, WI\, 54001\, United States
END:VEVENT
BEGIN:VEVENT
DTSTART;TZID=UTC:20240301T180000
DTEND;TZID=UTC:20240301T210000
DTSTAMP:20260425T154608
CREATED:20240122T153428Z
LAST-MODIFIED:20240122T153428Z
UID:9035-1709316000-1709326800@eastlincolnalliance.com
SUMMARY:Ladies Winter Refresher
DESCRIPTION:CALLING ALL LADIES WHO BELONG TO THE ELAC FAMILY!!! \nConsidering the call of Jesus . . . the prayer of Jesus (John 17) . . . that we be united in cords of love . . . that we have been given gifts to build one another up in love . . . \nMore info to come!
URL:https://eastlincolnalliance.com/event/ladies-winter-refresher/
LOCATION:East Lincoln Alliance Church\, 735 70th Avenue\, Amery\, WI\, 54001\, United States
END:VEVENT
BEGIN:VEVENT
DTSTART;TZID=UTC:20240228T180000
DTEND;TZID=UTC:20240228T200000
DTSTAMP:20260425T154608
CREATED:20231229T184405Z
LAST-MODIFIED:20231229T184405Z
UID:8942-1709143200-1709150400@eastlincolnalliance.com
SUMMARY:Son Seekers
DESCRIPTION:Son Seekers is a program for K-5th graders. We will be learning the 40 names of God. Programming will be from 6-8pm every Wednesday at East Lincoln Alliance Church. We will have games\, stories\, songs\, crafts.
URL:https://eastlincolnalliance.com/event/son-seekers-9/
LOCATION:East Lincoln Alliance Church\, 735 70th Avenue\, Amery\, WI\, 54001\, United States
END:VEVENT
BEGIN:VEVENT
DTSTART;TZID=UTC:20240228T180000
DTEND;TZID=UTC:20240228T200000
DTSTAMP:20260425T154608
CREATED:20231208T173858Z
LAST-MODIFIED:20231208T173858Z
UID:8867-1709143200-1709150400@eastlincolnalliance.com
SUMMARY:Recharge/Youth Group
DESCRIPTION:All students 6-12th grade are invited to attend.  Make sure to invite your friends!
URL:https://eastlincolnalliance.com/event/recharge-youth-group-56/
LOCATION:East Lincoln Alliance Church\, 735 70th Avenue\, Amery\, WI\, 54001\, United States
END:VEVENT
BEGIN:VEVENT
DTSTART;TZID=UTC:20240228T151500
DTEND;TZID=UTC:20240228T163000
DTSTAMP:20260425T154608
CREATED:20231208T175222Z
LAST-MODIFIED:20231208T175222Z
UID:8899-1709133300-1709137800@eastlincolnalliance.com
SUMMARY:After School Good News Club
DESCRIPTION:After School Good News Club will be at Lien Elementary School (Amery) every Wednesday right after school until 4:30pm.  This is open to students Kindergarten to 5th grade.  Students attending the Intermediate School should ride the transfer bus to the Elementary School. Parent permission slips must be filled out.  Forms can be found here: Parent Permission Form \n*Note – if Amery Schools are closed on a Wednesday\, there will be no GNC
URL:https://eastlincolnalliance.com/event/after-school-good-news-club-51/
LOCATION:Lien Elementary School\, 469 Minneapolis Ave S\, Amery\, WI\, 54001\, United States
END:VEVENT
BEGIN:VEVENT
DTSTART;TZID=UTC:20240227T183000
DTEND;TZID=UTC:20240227T193000
DTSTAMP:20260425T154608
CREATED:20240227T164653Z
LAST-MODIFIED:20240227T164653Z
UID:9096-1709058600-1709062200@eastlincolnalliance.com
SUMMARY:Prayer Gathering
DESCRIPTION:All are invited to join as we pray for each other\, our community and world.  Every Tuesday\, 6:30pm
URL:https://eastlincolnalliance.com/event/prayer-gathering-13/
LOCATION:East Lincoln Alliance Church\, 735 70th Avenue\, Amery\, WI\, 54001\, United States
END:VEVENT
BEGIN:VEVENT
DTSTART;TZID=UTC:20240227T083000
DTEND;TZID=UTC:20240227T143000
DTSTAMP:20260425T154608
CREATED:20230821T170003Z
LAST-MODIFIED:20230821T170003Z
UID:8526-1709022600-1709044200@eastlincolnalliance.com
SUMMARY:Homeschool Co-op Classes
DESCRIPTION:
URL:https://eastlincolnalliance.com/event/homeschool-co-op-classes-20/
LOCATION:East Lincoln Alliance Church\, 735 70th Avenue\, Amery\, WI\, 54001\, United States
END:VEVENT
BEGIN:VEVENT
DTSTART;TZID=UTC:20240225T113000
DTEND;TZID=UTC:20240225T123000
DTSTAMP:20260425T154608
CREATED:20240215T014132Z
LAST-MODIFIED:20240215T014132Z
UID:9067-1708860600-1708864200@eastlincolnalliance.com
SUMMARY:Single Women's Fellowship
DESCRIPTION:All single women are invited to join on Sunday\, February 25th at 11:30am at ELAC for a potluck and time of fellowship.
URL:https://eastlincolnalliance.com/event/single-womens-fellowship-13/
LOCATION:East Lincoln Alliance Church\, 735 70th Avenue\, Amery\, WI\, 54001\, United States
END:VEVENT
BEGIN:VEVENT
DTSTART;TZID=UTC:20240225T111500
DTEND;TZID=UTC:20240225T123000
DTSTAMP:20260425T154608
CREATED:20240116T205512Z
LAST-MODIFIED:20240116T205512Z
UID:9006-1708859700-1708864200@eastlincolnalliance.com
SUMMARY:"How To..." Sunday Study
DESCRIPTION:Join Perry Anderson\, Barry Iverson and esteemed colleagues on Sundays 11:15am-12:30pm in the East Wing Youth/Discovery Land room. The study will focus on different “how to” topics. This class will be in a discussion format and is intended for ages 6th grade to adult. Bring a sack lunch if you want to eat during study. \n\n\n\nEach week one topic will be discussed and likely plan is to discuss that topic after study of scripture\, commentaries\, videos\, etc. in more depth the following week or weeks depending on need.  Each student is invited to study\, explore\, ask questions of others regarding the topic to share the following week. \n\nUpcoming topics are: \nFeb 18 Watchfulness \nFeb 25 Power of a parent’s blessing pt 1 \nMar 3 Power of a parent’s blessing pt 2 \nMar 10 Time management pt 1 \nMar 17\, 24 & 31 possibly no class \nApr 7 Time management pt 2 \nApr 14 How to lead a Bible study pt 1 \nApr 21 possibly no class \nApr 28 How to lead a Bible study pt 2
URL:https://eastlincolnalliance.com/event/how-to-sunday-study-18/
LOCATION:East Lincoln Alliance Church\, 735 70th Avenue\, Amery\, WI\, 54001\, United States
END:VEVENT
BEGIN:VEVENT
DTSTART;TZID=UTC:20240225T110000
DTEND;TZID=UTC:20240225T113000
DTSTAMP:20260425T154608
CREATED:20240215T014051Z
LAST-MODIFIED:20240215T014051Z
UID:9065-1708858800-1708860600@eastlincolnalliance.com
SUMMARY:Hymn Sing
DESCRIPTION:Join us for a Hymn Sing on Sunday\, February 25th\, 11-11:30am.
URL:https://eastlincolnalliance.com/event/hymn-sing-14/
LOCATION:East Lincoln Alliance Church\, 735 70th Avenue\, Amery\, WI\, 54001\, United States
END:VEVENT
BEGIN:VEVENT
DTSTART;TZID=UTC:20240225T093000
DTEND;TZID=UTC:20240225T110000
DTSTAMP:20260425T154608
CREATED:20231130T171004Z
LAST-MODIFIED:20231130T171004Z
UID:8832-1708853400-1708858800@eastlincolnalliance.com
SUMMARY:Worship Service
DESCRIPTION:We welcome you to our regular worship service every Sunday @ 9:30am.\n\n\n\nWe offer the following services for kids during the Worship Service: \nEarly Childhood care for 1-3 year olds in the East Wing \n4 years old-Kindergarten in the West Wing (Discovery Land) \n1st-5th Grade in the East Wing (Discovery Land)
URL:https://eastlincolnalliance.com/event/worship-service-90/
LOCATION:East Lincoln Alliance Church\, 735 70th Avenue\, Amery\, WI\, 54001\, United States
END:VEVENT
BEGIN:VEVENT
DTSTART;TZID=UTC:20240221T180000
DTEND;TZID=UTC:20240221T200000
DTSTAMP:20260425T154608
CREATED:20231229T184344Z
LAST-MODIFIED:20231229T184344Z
UID:8940-1708538400-1708545600@eastlincolnalliance.com
SUMMARY:Son Seekers
DESCRIPTION:Son Seekers is a program for K-5th graders. We will be learning the 40 names of God. Programming will be from 6-8pm every Wednesday at East Lincoln Alliance Church. We will have games\, stories\, songs\, crafts.
URL:https://eastlincolnalliance.com/event/son-seekers-8/
LOCATION:East Lincoln Alliance Church\, 735 70th Avenue\, Amery\, WI\, 54001\, United States
END:VEVENT
END:VCALENDAR