BEGIN:VCALENDAR
VERSION:2.0
PRODID:-//East Lincoln Alliance Church - ECPv6.15.20//NONSGML v1.0//EN
CALSCALE:GREGORIAN
METHOD:PUBLISH
X-WR-CALNAME:East Lincoln Alliance Church
X-ORIGINAL-URL:https://eastlincolnalliance.com
X-WR-CALDESC:Events for East Lincoln Alliance Church
REFRESH-INTERVAL;VALUE=DURATION:PT1H
X-Robots-Tag:noindex
X-PUBLISHED-TTL:PT1H
BEGIN:VTIMEZONE
TZID:UTC
BEGIN:STANDARD
TZOFFSETFROM:+0000
TZOFFSETTO:+0000
TZNAME:UTC
DTSTART:20250101T000000
END:STANDARD
END:VTIMEZONE
BEGIN:VEVENT
DTSTART;TZID=UTC:20260315T100000
DTEND;TZID=UTC:20260315T111500
DTSTAMP:20260423T232004
CREATED:20251202T211711Z
LAST-MODIFIED:20251202T211711Z
UID:11219-1773568800-1773573300@eastlincolnalliance.com
SUMMARY:Worship Service
DESCRIPTION:We offer the following services for kids during the Worship Service: \nEarly Childhood care for 1-3 year olds in the East Wing \n4 years old-Kindergarten in the West Wing (Discovery Land) \n1st-5th Grade in the East Wing (Discovery Land)
URL:https://eastlincolnalliance.com/event/worship-service-193/
LOCATION:East Lincoln Alliance Church\, 735 70th Avenue\, Amery\, WI\, 54001\, United States
END:VEVENT
BEGIN:VEVENT
DTSTART;TZID=UTC:20260315T084500
DTEND;TZID=UTC:20260315T094500
DTSTAMP:20260423T232004
CREATED:20251202T210130Z
LAST-MODIFIED:20251202T210130Z
UID:11193-1773564300-1773567900@eastlincolnalliance.com
SUMMARY:Discipleship Hour
DESCRIPTION:Join us for Discipleship Hour from 8:45-9:45am.  All 6th grade and up are invited.
URL:https://eastlincolnalliance.com/event/discipleship-hour-97/
LOCATION:East Lincoln Alliance Church\, 735 70th Avenue\, Amery\, WI\, 54001\, United States
END:VEVENT
BEGIN:VEVENT
DTSTART;TZID=UTC:20260312T090000
DTEND;TZID=UTC:20260312T150000
DTSTAMP:20260423T232004
CREATED:20260105T162454Z
LAST-MODIFIED:20260105T162454Z
UID:11376-1773306000-1773327600@eastlincolnalliance.com
SUMMARY:Homeschool Group
DESCRIPTION:Kayla Nelson
URL:https://eastlincolnalliance.com/event/homeschool-group-9/
LOCATION:East Lincoln Alliance Church\, 735 70th Avenue\, Amery\, WI\, 54001\, United States
END:VEVENT
BEGIN:VEVENT
DTSTART;TZID=UTC:20260311T180000
DTEND;TZID=UTC:20260311T200000
DTSTAMP:20260423T232004
CREATED:20251208T152444Z
LAST-MODIFIED:20251208T152444Z
UID:11317-1773252000-1773259200@eastlincolnalliance.com
SUMMARY:Son Seekers
DESCRIPTION:Son Seekers is a program for K-5th graders.  Programming is 6-8pm every Wednesday at East Lincoln Alliance Church. We will have games\, stories\, songs\, crafts.
URL:https://eastlincolnalliance.com/event/son-seekers-76/
LOCATION:East Lincoln Alliance Church\, 735 70th Avenue\, Amery\, WI\, 54001\, United States
END:VEVENT
BEGIN:VEVENT
DTSTART;TZID=UTC:20260311T180000
DTEND;TZID=UTC:20260311T200000
DTSTAMP:20260423T232004
CREATED:20251202T214608Z
LAST-MODIFIED:20251202T214608Z
UID:11291-1773252000-1773259200@eastlincolnalliance.com
SUMMARY:Recharge
DESCRIPTION:All students 6-12th grade are invited to attend.  Make sure to invite your friends!
URL:https://eastlincolnalliance.com/event/recharge-136/
LOCATION:East Lincoln Alliance Church\, 735 70th Avenue\, Amery\, WI\, 54001\, United States
END:VEVENT
BEGIN:VEVENT
DTSTART;TZID=UTC:20260311T151500
DTEND;TZID=UTC:20260311T163000
DTSTAMP:20260423T232004
CREATED:20251202T214040Z
LAST-MODIFIED:20251202T214040Z
UID:11267-1773242100-1773246600@eastlincolnalliance.com
SUMMARY:After School Good News Club
DESCRIPTION:All K-5th grade students are invited to After School Good News Club at Lien Elementary School (Amery) right after school (3:15pm) until 4:30pm every Wednesday that Amery Schools are in session. \nStudents attending the Intermediate School should ride the transfer bus to the Elementary School. Registration Forms must be filled out (below).   Questions? Contact Mary Schussman. \neastlincolnalliance.com/ninja-forms/10okpn/
URL:https://eastlincolnalliance.com/event/after-school-good-news-club-102/
LOCATION:Lien Elementary School\, 469 Minneapolis Ave S\, Amery\, WI\, 54001\, United States
END:VEVENT
BEGIN:VEVENT
DTSTART;TZID=UTC:20260311T090000
DTEND;TZID=UTC:20260311T160000
DTSTAMP:20260423T232004
CREATED:20260306T184257Z
LAST-MODIFIED:20260306T184257Z
UID:11693-1773219600-1773244800@eastlincolnalliance.com
SUMMARY:Women's Craft Day
DESCRIPTION:Women are invited to join on Wednesday\, March 11th 9am-4pm at Bonnie Williamson’s for a day of crafting and fellowship. Bring whatever project you are working on or just come and visit! Pack a lunch. Contact Julie Anderson if you have questions\, 715-607-8022.
URL:https://eastlincolnalliance.com/event/womens-craft-day-44/
LOCATION:Vern & Bonnie Williamson\, 759 Golf Way\, Amery\, WI\, 54001\, United States
END:VEVENT
BEGIN:VEVENT
DTSTART;TZID=UTC:20260310T183000
DTEND;TZID=UTC:20260310T193000
DTSTAMP:20260423T232004
CREATED:20251202T213305Z
LAST-MODIFIED:20251202T213305Z
UID:11243-1773167400-1773171000@eastlincolnalliance.com
SUMMARY:Prayer Gathering
DESCRIPTION:All are invited to join as we pray for each other\, our community and world.  Every Tuesday\, 6:30pm
URL:https://eastlincolnalliance.com/event/prayer-gathering-98/
LOCATION:East Lincoln Alliance Church\, 735 70th Avenue\, Amery\, WI\, 54001\, United States
END:VEVENT
BEGIN:VEVENT
DTSTART;TZID=UTC:20260308T100000
DTEND;TZID=UTC:20260308T111500
DTSTAMP:20260423T232004
CREATED:20251202T211645Z
LAST-MODIFIED:20251202T211645Z
UID:11217-1772964000-1772968500@eastlincolnalliance.com
SUMMARY:Worship Service
DESCRIPTION:We offer the following services for kids during the Worship Service: \nEarly Childhood care for 1-3 year olds in the East Wing \n4 years old-Kindergarten in the West Wing (Discovery Land) \n1st-5th Grade in the East Wing (Discovery Land)
URL:https://eastlincolnalliance.com/event/worship-service-192/
LOCATION:East Lincoln Alliance Church\, 735 70th Avenue\, Amery\, WI\, 54001\, United States
END:VEVENT
BEGIN:VEVENT
DTSTART;TZID=UTC:20260308T084500
DTEND;TZID=UTC:20260308T094500
DTSTAMP:20260423T232004
CREATED:20251202T210103Z
LAST-MODIFIED:20251202T210103Z
UID:11191-1772959500-1772963100@eastlincolnalliance.com
SUMMARY:Discipleship Hour
DESCRIPTION:Join us for Discipleship Hour from 8:45-9:45am.  All 6th grade and up are invited.
URL:https://eastlincolnalliance.com/event/discipleship-hour-96/
LOCATION:East Lincoln Alliance Church\, 735 70th Avenue\, Amery\, WI\, 54001\, United States
END:VEVENT
BEGIN:VEVENT
DTSTART;VALUE=DATE:20260308
DTEND;VALUE=DATE:20260330
DTSTAMP:20260423T232004
CREATED:20260205T222253Z
LAST-MODIFIED:20260321T192245Z
UID:11510-1772928000-1774828799@eastlincolnalliance.com
SUMMARY:Missions Fundraiser Silent Auction
DESCRIPTION:
URL:https://eastlincolnalliance.com/event/missions-fundraiser-silent-auction/
LOCATION:East Lincoln Alliance Church\, 735 70th Avenue\, Amery\, WI\, 54001\, United States
END:VEVENT
BEGIN:VEVENT
DTSTART;TZID=UTC:20260305T090000
DTEND;TZID=UTC:20260305T150000
DTSTAMP:20260423T232004
CREATED:20260105T153026Z
LAST-MODIFIED:20260105T153026Z
UID:11374-1772701200-1772722800@eastlincolnalliance.com
SUMMARY:Homeschool Group
DESCRIPTION:Kayla Nelson
URL:https://eastlincolnalliance.com/event/homeschool-group-8/
LOCATION:East Lincoln Alliance Church\, 735 70th Avenue\, Amery\, WI\, 54001\, United States
END:VEVENT
BEGIN:VEVENT
DTSTART;TZID=UTC:20260304T180000
DTEND;TZID=UTC:20260304T200000
DTSTAMP:20260423T232004
CREATED:20251208T152338Z
LAST-MODIFIED:20251208T152338Z
UID:11315-1772647200-1772654400@eastlincolnalliance.com
SUMMARY:Son Seekers
DESCRIPTION:Son Seekers is a program for K-5th graders.  Programming is 6-8pm every Wednesday at East Lincoln Alliance Church. We will have games\, stories\, songs\, crafts.
URL:https://eastlincolnalliance.com/event/son-seekers-75/
LOCATION:East Lincoln Alliance Church\, 735 70th Avenue\, Amery\, WI\, 54001\, United States
END:VEVENT
BEGIN:VEVENT
DTSTART;TZID=UTC:20260304T180000
DTEND;TZID=UTC:20260304T200000
DTSTAMP:20260423T232004
CREATED:20251202T214545Z
LAST-MODIFIED:20251202T214545Z
UID:11289-1772647200-1772654400@eastlincolnalliance.com
SUMMARY:Recharge
DESCRIPTION:All students 6-12th grade are invited to attend.  Make sure to invite your friends!
URL:https://eastlincolnalliance.com/event/recharge-135/
LOCATION:East Lincoln Alliance Church\, 735 70th Avenue\, Amery\, WI\, 54001\, United States
END:VEVENT
BEGIN:VEVENT
DTSTART;TZID=UTC:20260304T151500
DTEND;TZID=UTC:20260304T163000
DTSTAMP:20260423T232004
CREATED:20251202T214010Z
LAST-MODIFIED:20251202T214010Z
UID:11265-1772637300-1772641800@eastlincolnalliance.com
SUMMARY:After School Good News Club
DESCRIPTION:All K-5th grade students are invited to After School Good News Club at Lien Elementary School (Amery) right after school (3:15pm) until 4:30pm every Wednesday that Amery Schools are in session. \nStudents attending the Intermediate School should ride the transfer bus to the Elementary School. Registration Forms must be filled out (below).   Questions? Contact Mary Schussman. \neastlincolnalliance.com/ninja-forms/10okpn/
URL:https://eastlincolnalliance.com/event/after-school-good-news-club-101/
LOCATION:Lien Elementary School\, 469 Minneapolis Ave S\, Amery\, WI\, 54001\, United States
END:VEVENT
BEGIN:VEVENT
DTSTART;TZID=UTC:20260303T183000
DTEND;TZID=UTC:20260303T193000
DTSTAMP:20260423T232004
CREATED:20251202T213240Z
LAST-MODIFIED:20251202T213240Z
UID:11241-1772562600-1772566200@eastlincolnalliance.com
SUMMARY:Prayer Gathering
DESCRIPTION:All are invited to join as we pray for each other\, our community and world.  Every Tuesday\, 6:30pm
URL:https://eastlincolnalliance.com/event/prayer-gathering-97/
LOCATION:East Lincoln Alliance Church\, 735 70th Avenue\, Amery\, WI\, 54001\, United States
END:VEVENT
BEGIN:VEVENT
DTSTART;TZID=UTC:20260302T180000
DTEND;TZID=UTC:20260302T193000
DTSTAMP:20260423T232004
CREATED:20260205T222702Z
LAST-MODIFIED:20260205T222702Z
UID:11516-1772474400-1772479800@eastlincolnalliance.com
SUMMARY:Assessment Meeting
DESCRIPTION:
URL:https://eastlincolnalliance.com/event/assessment-meeting-2/
LOCATION:East Lincoln Alliance Church\, 735 70th Avenue\, Amery\, WI\, 54001\, United States
END:VEVENT
BEGIN:VEVENT
DTSTART;TZID=UTC:20260301T130000
DTEND;TZID=UTC:20260301T160000
DTSTAMP:20260423T232004
CREATED:20260220T175321Z
LAST-MODIFIED:20260220T175321Z
UID:11539-1772370000-1772380800@eastlincolnalliance.com
SUMMARY:Family Fun Day
DESCRIPTION:You are invited to a Family Fun Day on Pike Lake on Sunday\, March 1st 1-4pm. Activities include broomball\, ice fishing\, bonfire\, 9-square and possible ice mini golf.  Food will be provided. Please bring your own drinks\, s’mores stuff\, ice fishing equipment\, ATV’s\, snowmobiles\, sleds\, and tubes! \nPark at Shoreview Supper Club or on the ice. \nVolunteers Needed! \n\n3/1 11am-2pm build broomball court\, golf course (need snowblowers\, shovels\, ATV or truck w/ plow\nGrill team (grill\, generator)\nHelp Kent grab things from the church and get them out onto the ice\nFire ring & fire wood\n\n**Please note – this event is dependent on weather.
URL:https://eastlincolnalliance.com/event/family-fun-day-4/
LOCATION:Pike Lake\, Amery WI\, 796 100th St\, Amery\, WI\, 54001\, United States
END:VEVENT
BEGIN:VEVENT
DTSTART;TZID=UTC:20260301T113000
DTEND;TZID=UTC:20260301T133000
DTSTAMP:20260423T232004
CREATED:20260205T221856Z
LAST-MODIFIED:20260207T191856Z
UID:11506-1772364600-1772371800@eastlincolnalliance.com
SUMMARY:Andy & Rebecca Nilssen Baby Shower
DESCRIPTION:
URL:https://eastlincolnalliance.com/event/andy-rebecca-nielssen-baby-shower/
LOCATION:East Lincoln Alliance Church\, 735 70th Avenue\, Amery\, WI\, 54001\, United States
END:VEVENT
BEGIN:VEVENT
DTSTART;TZID=UTC:20260301T100000
DTEND;TZID=UTC:20260301T111500
DTSTAMP:20260423T232004
CREATED:20251202T211618Z
LAST-MODIFIED:20251202T211618Z
UID:11215-1772359200-1772363700@eastlincolnalliance.com
SUMMARY:Worship Service
DESCRIPTION:We offer the following services for kids during the Worship Service: \nEarly Childhood care for 1-3 year olds in the East Wing \n4 years old-Kindergarten in the West Wing (Discovery Land) \n1st-5th Grade in the East Wing (Discovery Land)
URL:https://eastlincolnalliance.com/event/worship-service-191/
LOCATION:East Lincoln Alliance Church\, 735 70th Avenue\, Amery\, WI\, 54001\, United States
END:VEVENT
BEGIN:VEVENT
DTSTART;TZID=UTC:20260301T084500
DTEND;TZID=UTC:20260301T094500
DTSTAMP:20260423T232004
CREATED:20251202T210038Z
LAST-MODIFIED:20251202T210038Z
UID:11189-1772354700-1772358300@eastlincolnalliance.com
SUMMARY:Discipleship Hour
DESCRIPTION:Join us for Discipleship Hour from 8:45-9:45am.  All 6th grade and up are invited.
URL:https://eastlincolnalliance.com/event/discipleship-hour-95/
LOCATION:East Lincoln Alliance Church\, 735 70th Avenue\, Amery\, WI\, 54001\, United States
END:VEVENT
BEGIN:VEVENT
DTSTART;TZID=UTC:20260228T173000
DTEND;TZID=UTC:20260228T200000
DTSTAMP:20260423T232004
CREATED:20260206T162111Z
LAST-MODIFIED:20260206T162111Z
UID:11518-1772299800-1772308800@eastlincolnalliance.com
SUMMARY:Dinners for Six
DESCRIPTION:All women are invited to gather and grow together at our next Dinners for Six.  Sign up to be a hostess or a guest for Saturday\, February 28th at 5:30pm.
URL:https://eastlincolnalliance.com/event/dinners-for-six-7/
LOCATION:WI
END:VEVENT
BEGIN:VEVENT
DTSTART;TZID=UTC:20260228T120000
DTEND;TZID=UTC:20260228T133000
DTSTAMP:20260423T232004
CREATED:20260205T222525Z
LAST-MODIFIED:20260205T222525Z
UID:11514-1772280000-1772285400@eastlincolnalliance.com
SUMMARY:Hi-Rise Meal
DESCRIPTION:We will be serving our monthly meal to the residents of the Amery Hi-Rise on Saturday\, February 28th at 12pm. We are looking for help with the meal. \nFood can be dropped off at the Hi-Rise (300 Harriman Ave N\, Amery) on the 16th at 11:30am or text Kim Davis for alternate arrangements (320-266-4859). \nWe are also needing 5-7 people to help set up\, serve food/mingle and clean up. Please arrive at the Hi-Rise at 11:30am and should be done between 1-1:30pm. \nThere is a sign-up sheet at the Information Table at church or contact the church office to get your name added.  Any questions\, contact Kim Davis at 320-266-4859 or any of the planning team.
URL:https://eastlincolnalliance.com/event/hi-rise-meal-15/
LOCATION:Amery Hi Rise\, 300 Harriman Ave\, Amery\, 54001\, United States
END:VEVENT
BEGIN:VEVENT
DTSTART;TZID=UTC:20260228T100000
DTEND;TZID=UTC:20260228T120000
DTSTAMP:20260423T232004
CREATED:20260119T180556Z
LAST-MODIFIED:20260119T180556Z
UID:11459-1772272800-1772280000@eastlincolnalliance.com
SUMMARY:The Page Turners Meeting
DESCRIPTION:The Page Turners Reading Group is a group of women that share in their love for books and reading.  The group is always taking new members\, and women can join if a book looks interesting. Contact Jolene Wester if you have questions or would like to join the group 715-553-0002 or bookwomanjw@gmail.com. \nBook List \n\nFebruary – Watchfulness: Recovering a Lost Spiritual Discipline by Brian Hedges\nMarch – A Shepherd Looks at 23rd Psalm by W. Philip Keller\nApril – The Watchmaker’s Daughter: The True Story of World War II Heroine Corrie ten Boom by Larry Loftis\nMay – Trusting God by Jerry Bridges\nJune – The Grapes of Wrath by John Steinbeck\nJuly – Waiting Isn’t a Waste: The Surprising Comfort of Trusting God in the Uncertainties of Life by Mark Vroegop\nAugust – The Pastor’s Wife by Sabina Wurmbrand\nSeptember – Tactics: A Game Plan for Discussing Your Christian Convictions by       Gregory Koukl\nOctober – Hudson Taylor & Maria: A Match Made in Heaven by John Charles Pollock\nNovember – A Walk in the Woods: Rediscovering America on the Appalachian Trail by Bill Bryson\nDecember – Pontius Pilate by Paul Maier\n\nPage Turners will meet the last Saturday\, of every month at ELAC at 10 am to discuss the book of the month.
URL:https://eastlincolnalliance.com/event/the-page-turners-meeting-13/
LOCATION:East Lincoln Alliance Church\, 735 70th Avenue\, Amery\, WI\, 54001\, United States
END:VEVENT
BEGIN:VEVENT
DTSTART;TZID=UTC:20260227T180000
DTEND;TZID=UTC:20260227T200000
DTSTAMP:20260423T232004
CREATED:20260108T211806Z
LAST-MODIFIED:20260117T233515Z
UID:11426-1772215200-1772222400@eastlincolnalliance.com
SUMMARY:Grace Marriage
DESCRIPTION:
URL:https://eastlincolnalliance.com/event/grace-marriage-13/
LOCATION:East Lincoln Alliance Church\, 735 70th Avenue\, Amery\, WI\, 54001\, United States
END:VEVENT
BEGIN:VEVENT
DTSTART;TZID=UTC:20260226T090000
DTEND;TZID=UTC:20260226T150000
DTSTAMP:20260423T232004
CREATED:20260105T153005Z
LAST-MODIFIED:20260105T153005Z
UID:11372-1772096400-1772118000@eastlincolnalliance.com
SUMMARY:Homeschool Group
DESCRIPTION:Kayla Nelson
URL:https://eastlincolnalliance.com/event/homeschool-group-7/
LOCATION:East Lincoln Alliance Church\, 735 70th Avenue\, Amery\, WI\, 54001\, United States
END:VEVENT
BEGIN:VEVENT
DTSTART;TZID=UTC:20260225T180000
DTEND;TZID=UTC:20260225T200000
DTSTAMP:20260423T232004
CREATED:20251208T152308Z
LAST-MODIFIED:20251208T152308Z
UID:11313-1772042400-1772049600@eastlincolnalliance.com
SUMMARY:Son Seekers
DESCRIPTION:Son Seekers is a program for K-5th graders.  Programming is 6-8pm every Wednesday at East Lincoln Alliance Church. We will have games\, stories\, songs\, crafts.
URL:https://eastlincolnalliance.com/event/son-seekers-74/
LOCATION:East Lincoln Alliance Church\, 735 70th Avenue\, Amery\, WI\, 54001\, United States
END:VEVENT
BEGIN:VEVENT
DTSTART;TZID=UTC:20260225T180000
DTEND;TZID=UTC:20260225T200000
DTSTAMP:20260423T232004
CREATED:20251202T214520Z
LAST-MODIFIED:20251202T214520Z
UID:11287-1772042400-1772049600@eastlincolnalliance.com
SUMMARY:Recharge
DESCRIPTION:All students 6-12th grade are invited to attend.  Make sure to invite your friends!
URL:https://eastlincolnalliance.com/event/recharge-134/
LOCATION:East Lincoln Alliance Church\, 735 70th Avenue\, Amery\, WI\, 54001\, United States
END:VEVENT
BEGIN:VEVENT
DTSTART;TZID=UTC:20260225T151500
DTEND;TZID=UTC:20260225T163000
DTSTAMP:20260423T232004
CREATED:20251202T213939Z
LAST-MODIFIED:20251202T213939Z
UID:11263-1772032500-1772037000@eastlincolnalliance.com
SUMMARY:After School Good News Club
DESCRIPTION:All K-5th grade students are invited to After School Good News Club at Lien Elementary School (Amery) right after school (3:15pm) until 4:30pm every Wednesday that Amery Schools are in session. \nStudents attending the Intermediate School should ride the transfer bus to the Elementary School. Registration Forms must be filled out (below).   Questions? Contact Mary Schussman. \neastlincolnalliance.com/ninja-forms/10okpn/
URL:https://eastlincolnalliance.com/event/after-school-good-news-club-100/
LOCATION:Lien Elementary School\, 469 Minneapolis Ave S\, Amery\, WI\, 54001\, United States
END:VEVENT
BEGIN:VEVENT
DTSTART;TZID=UTC:20260224T183000
DTEND;TZID=UTC:20260224T193000
DTSTAMP:20260423T232004
CREATED:20251202T213214Z
LAST-MODIFIED:20251202T213214Z
UID:11239-1771957800-1771961400@eastlincolnalliance.com
SUMMARY:Prayer Gathering
DESCRIPTION:All are invited to join as we pray for each other\, our community and world.  Every Tuesday\, 6:30pm
URL:https://eastlincolnalliance.com/event/prayer-gathering-96/
LOCATION:East Lincoln Alliance Church\, 735 70th Avenue\, Amery\, WI\, 54001\, United States
END:VEVENT
END:VCALENDAR