BEGIN:VCALENDAR
VERSION:2.0
PRODID:-//East Lincoln Alliance Church - ECPv6.15.20//NONSGML v1.0//EN
CALSCALE:GREGORIAN
METHOD:PUBLISH
X-WR-CALNAME:East Lincoln Alliance Church
X-ORIGINAL-URL:https://eastlincolnalliance.com
X-WR-CALDESC:Events for East Lincoln Alliance Church
REFRESH-INTERVAL;VALUE=DURATION:PT1H
X-Robots-Tag:noindex
X-PUBLISHED-TTL:PT1H
BEGIN:VTIMEZONE
TZID:UTC
BEGIN:STANDARD
TZOFFSETFROM:+0000
TZOFFSETTO:+0000
TZNAME:UTC
DTSTART:20230101T000000
END:STANDARD
END:VTIMEZONE
BEGIN:VEVENT
DTSTART;TZID=UTC:20240518T160000
DTEND;TZID=UTC:20240518T210000
DTSTAMP:20260425T145935
CREATED:20240424T235906Z
LAST-MODIFIED:20240424T235906Z
UID:9271-1716048000-1716066000@eastlincolnalliance.com
SUMMARY:Kitchen and Fellowship Hall Reserved
DESCRIPTION:Tresta Andren
URL:https://eastlincolnalliance.com/event/kitchen-and-fellowship-hall-reserved/
LOCATION:East Lincoln Alliance Church\, 735 70th Avenue\, Amery\, WI\, 54001\, United States
END:VEVENT
BEGIN:VEVENT
DTSTART;TZID=UTC:20240515T180000
DTEND;TZID=UTC:20240515T200000
DTSTAMP:20260425T145935
CREATED:20231229T184801Z
LAST-MODIFIED:20231229T184801Z
UID:8962-1715796000-1715803200@eastlincolnalliance.com
SUMMARY:Son Seekers
DESCRIPTION:Son Seekers is a program for K-5th graders. We will be learning the 40 names of God. Programming will be from 6-8pm every Wednesday at East Lincoln Alliance Church. We will have games\, stories\, songs\, crafts.
URL:https://eastlincolnalliance.com/event/son-seekers-19/
LOCATION:East Lincoln Alliance Church\, 735 70th Avenue\, Amery\, WI\, 54001\, United States
END:VEVENT
BEGIN:VEVENT
DTSTART;TZID=UTC:20240515T180000
DTEND;TZID=UTC:20240515T200000
DTSTAMP:20260425T145935
CREATED:20231208T174634Z
LAST-MODIFIED:20231208T174634Z
UID:8887-1715796000-1715803200@eastlincolnalliance.com
SUMMARY:Recharge/Youth Group
DESCRIPTION:All students 6-12th grade are invited to attend.  Make sure to invite your friends!
URL:https://eastlincolnalliance.com/event/recharge-youth-group-66/
LOCATION:East Lincoln Alliance Church\, 735 70th Avenue\, Amery\, WI\, 54001\, United States
END:VEVENT
BEGIN:VEVENT
DTSTART;TZID=UTC:20240514T183000
DTEND;TZID=UTC:20240514T193000
DTSTAMP:20260425T145935
CREATED:20240408T143023Z
LAST-MODIFIED:20240408T143023Z
UID:9210-1715711400-1715715000@eastlincolnalliance.com
SUMMARY:Prayer Gathering
DESCRIPTION:All are invited to join as we pray for each other\, our community and world.  Every Tuesday\, 6:30pm
URL:https://eastlincolnalliance.com/event/prayer-gathering-24/
LOCATION:East Lincoln Alliance Church\, 735 70th Avenue\, Amery\, WI\, 54001\, United States
END:VEVENT
BEGIN:VEVENT
DTSTART;TZID=UTC:20240512T100000
DTEND;TZID=UTC:20240512T111500
DTSTAMP:20260425T145935
CREATED:20240408T143631Z
LAST-MODIFIED:20240408T144022Z
UID:9222-1715508000-1715512500@eastlincolnalliance.com
SUMMARY:Worship Service
DESCRIPTION:We welcome you to our regular worship service every Sunday @ 10:00am.\n\n\n\nWe offer the following services for kids during the Worship Service: \nEarly Childhood care for 1-3 year olds in the East Wing \n4 years old-Kindergarten in the West Wing (Discovery Land) \n1st-5th Grade in the East Wing (Discovery Land)
URL:https://eastlincolnalliance.com/event/worship-service-100/
LOCATION:East Lincoln Alliance Church\, 735 70th Avenue\, Amery\, WI\, 54001\, United States
END:VEVENT
BEGIN:VEVENT
DTSTART;TZID=UTC:20240512T084500
DTEND;TZID=UTC:20240512T094500
DTSTAMP:20260425T145935
CREATED:20240408T144710Z
LAST-MODIFIED:20240408T144710Z
UID:9238-1715503500-1715507100@eastlincolnalliance.com
SUMMARY:Discipleship Hour
DESCRIPTION:Join us for Discipleship Hour from 8:45-9:45am.  All 6th grade and up are invited.  Childcare for 1 year old to 5th grade is available (for a small fee).
URL:https://eastlincolnalliance.com/event/discipleship-hour-2/
LOCATION:East Lincoln Alliance Church\, 735 70th Avenue\, Amery\, WI\, 54001\, United States
END:VEVENT
BEGIN:VEVENT
DTSTART;TZID=UTC:20240511T080000
DTEND;TZID=UTC:20240511T170000
DTSTAMP:20260425T145935
CREATED:20240427T005645Z
LAST-MODIFIED:20240427T005645Z
UID:9289-1715414400-1715446800@eastlincolnalliance.com
SUMMARY:ELAC Spring Cleaning
DESCRIPTION:Spring cleaning at ELAC serves several purposes beyond just maintaining cleanliness.  It fosters a sense of community and unity among our attendees as we work together towards a common goal.  It helps create a welcoming and inviting atmosphere for worship services and other church activities. \nThis year our Annual Spring Cleaning will look a little different than recent years… \nSunday\, May 5th through Saturday\, May 11th\n\nThe church will be open from 8am-5pm each day for individuals/families to pick a task on the cleaning list \nand complete it as your schedule allows. \nThere is a sign-up sheet at the Information Table to \nsign up for the task you will complete. \n\nIf 8am-5pm doesn’t work with your schedule\, \nplease contact the church office.
URL:https://eastlincolnalliance.com/event/elac-spring-cleaning-7/
LOCATION:East Lincoln Alliance Church\, 735 70th Avenue\, Amery\, WI\, 54001\, United States
END:VEVENT
BEGIN:VEVENT
DTSTART;TZID=UTC:20240510T080000
DTEND;TZID=UTC:20240510T170000
DTSTAMP:20260425T145935
CREATED:20240427T005619Z
LAST-MODIFIED:20240427T010144Z
UID:9287-1715328000-1715360400@eastlincolnalliance.com
SUMMARY:ELAC Spring Cleaning
DESCRIPTION:Spring cleaning at ELAC serves several purposes beyond just maintaining cleanliness.  It fosters a sense of community and unity among our attendees as we work together towards a common goal.  It helps create a welcoming and inviting atmosphere for worship services and other church activities. \nThis year our Annual Spring Cleaning will look a little different than recent years… \nSunday\, May 5th through Saturday\, May 11th\n\nThe church will be open from 8am-5pm each day for individuals/families to pick a task on the cleaning list \nand complete it as your schedule allows. \nThere is a sign-up sheet at the Information Table to \nsign up for the task you will complete. \n\nIf 8am-5pm doesn’t work with your schedule\, \nplease contact the church office.
URL:https://eastlincolnalliance.com/event/elac-spring-cleaning-6/
LOCATION:East Lincoln Alliance Church\, 735 70th Avenue\, Amery\, WI\, 54001\, United States
END:VEVENT
BEGIN:VEVENT
DTSTART;TZID=UTC:20240509T080000
DTEND;TZID=UTC:20240509T170000
DTSTAMP:20260425T145935
CREATED:20240427T005601Z
LAST-MODIFIED:20240427T010128Z
UID:9285-1715241600-1715274000@eastlincolnalliance.com
SUMMARY:ELAC Spring Cleaning
DESCRIPTION:Spring cleaning at ELAC serves several purposes beyond just maintaining cleanliness.  It fosters a sense of community and unity among our attendees as we work together towards a common goal.  It helps create a welcoming and inviting atmosphere for worship services and other church activities. \nThis year our Annual Spring Cleaning will look a little different than recent years… \nSunday\, May 5th through Saturday\, May 11th\n\nThe church will be open from 8am-5pm each day for individuals/families to pick a task on the cleaning list \nand complete it as your schedule allows. \nThere is a sign-up sheet at the Information Table to \nsign up for the task you will complete. \n\nIf 8am-5pm doesn’t work with your schedule\, \nplease contact the church office.
URL:https://eastlincolnalliance.com/event/elac-spring-cleaning-5/
LOCATION:East Lincoln Alliance Church\, 735 70th Avenue\, Amery\, WI\, 54001\, United States
END:VEVENT
BEGIN:VEVENT
DTSTART;TZID=UTC:20240508T180000
DTEND;TZID=UTC:20240508T200000
DTSTAMP:20260425T145935
CREATED:20231229T184740Z
LAST-MODIFIED:20231229T184740Z
UID:8960-1715191200-1715198400@eastlincolnalliance.com
SUMMARY:Son Seekers
DESCRIPTION:Son Seekers is a program for K-5th graders. We will be learning the 40 names of God. Programming will be from 6-8pm every Wednesday at East Lincoln Alliance Church. We will have games\, stories\, songs\, crafts.
URL:https://eastlincolnalliance.com/event/son-seekers-18/
LOCATION:East Lincoln Alliance Church\, 735 70th Avenue\, Amery\, WI\, 54001\, United States
END:VEVENT
BEGIN:VEVENT
DTSTART;TZID=UTC:20240508T180000
DTEND;TZID=UTC:20240508T200000
DTSTAMP:20260425T145935
CREATED:20231208T174610Z
LAST-MODIFIED:20231208T174610Z
UID:8885-1715191200-1715198400@eastlincolnalliance.com
SUMMARY:Recharge/Youth Group
DESCRIPTION:All students 6-12th grade are invited to attend.  Make sure to invite your friends!
URL:https://eastlincolnalliance.com/event/recharge-youth-group-65/
LOCATION:East Lincoln Alliance Church\, 735 70th Avenue\, Amery\, WI\, 54001\, United States
END:VEVENT
BEGIN:VEVENT
DTSTART;TZID=UTC:20240508T080000
DTEND;TZID=UTC:20240508T170000
DTSTAMP:20260425T145935
CREATED:20240427T005509Z
LAST-MODIFIED:20240427T005749Z
UID:9283-1715155200-1715187600@eastlincolnalliance.com
SUMMARY:ELAC Spring Cleaning
DESCRIPTION:Spring cleaning at ELAC serves several purposes beyond just maintaining cleanliness.  It fosters a sense of community and unity among our attendees as we work together towards a common goal.  It helps create a welcoming and inviting atmosphere for worship services and other church activities. \nThis year our Annual Spring Cleaning will look a little different than recent years… \nSunday\, May 5th through Saturday\, May 11th\n\nThe church will be open from 8am-5pm each day for individuals/families to pick a task on the cleaning list \nand complete it as your schedule allows. \nThere is a sign-up sheet at the Information Table to \nsign up for the task you will complete. \n\nIf 8am-5pm doesn’t work with your schedule\, \nplease contact the church office.
URL:https://eastlincolnalliance.com/event/elac-spring-cleaning-4/
LOCATION:East Lincoln Alliance Church\, 735 70th Avenue\, Amery\, WI\, 54001\, United States
END:VEVENT
BEGIN:VEVENT
DTSTART;TZID=UTC:20240507T183000
DTEND;TZID=UTC:20240507T193000
DTSTAMP:20260425T145935
CREATED:20240408T142931Z
LAST-MODIFIED:20240408T142931Z
UID:9208-1715106600-1715110200@eastlincolnalliance.com
SUMMARY:Prayer Gathering
DESCRIPTION:All are invited to join as we pray for each other\, our community and world.  Every Tuesday\, 6:30pm
URL:https://eastlincolnalliance.com/event/prayer-gathering-23/
LOCATION:East Lincoln Alliance Church\, 735 70th Avenue\, Amery\, WI\, 54001\, United States
END:VEVENT
BEGIN:VEVENT
DTSTART;TZID=UTC:20240507T080000
DTEND;TZID=UTC:20240507T170000
DTSTAMP:20260425T145935
CREATED:20240427T005451Z
LAST-MODIFIED:20240427T005734Z
UID:9281-1715068800-1715101200@eastlincolnalliance.com
SUMMARY:ELAC Spring Cleaning
DESCRIPTION:Spring cleaning at ELAC serves several purposes beyond just maintaining cleanliness.  It fosters a sense of community and unity among our attendees as we work together towards a common goal.  It helps create a welcoming and inviting atmosphere for worship services and other church activities. \nThis year our Annual Spring Cleaning will look a little different than recent years… \nSunday\, May 5th through Saturday\, May 11th\n\nThe church will be open from 8am-5pm each day for individuals/families to pick a task on the cleaning list \nand complete it as your schedule allows. \nThere is a sign-up sheet at the Information Table to \nsign up for the task you will complete. \n\nIf 8am-5pm doesn’t work with your schedule\, \nplease contact the church office.
URL:https://eastlincolnalliance.com/event/elac-spring-cleaning-3/
LOCATION:East Lincoln Alliance Church\, 735 70th Avenue\, Amery\, WI\, 54001\, United States
END:VEVENT
BEGIN:VEVENT
DTSTART;TZID=UTC:20240506T080000
DTEND;TZID=UTC:20240506T170000
DTSTAMP:20260425T145935
CREATED:20240427T005431Z
LAST-MODIFIED:20240427T005720Z
UID:9279-1714982400-1715014800@eastlincolnalliance.com
SUMMARY:ELAC Spring Cleaning
DESCRIPTION:Spring cleaning at ELAC serves several purposes beyond just maintaining cleanliness.  It fosters a sense of community and unity among our attendees as we work together towards a common goal.  It helps create a welcoming and inviting atmosphere for worship services and other church activities. \nThis year our Annual Spring Cleaning will look a little different than recent years… \nSunday\, May 5th through Saturday\, May 11th\n\nThe church will be open from 8am-5pm each day for individuals/families to pick a task on the cleaning list \nand complete it as your schedule allows. \nThere is a sign-up sheet at the Information Table to \nsign up for the task you will complete. \n\nIf 8am-5pm doesn’t work with your schedule\, \nplease contact the church office.
URL:https://eastlincolnalliance.com/event/elac-spring-cleaning-2/
LOCATION:East Lincoln Alliance Church\, 735 70th Avenue\, Amery\, WI\, 54001\, United States
END:VEVENT
BEGIN:VEVENT
DTSTART;TZID=UTC:20240505T100000
DTEND;TZID=UTC:20240505T111500
DTSTAMP:20260425T145935
CREATED:20240408T143546Z
LAST-MODIFIED:20240408T143546Z
UID:9220-1714903200-1714907700@eastlincolnalliance.com
SUMMARY:Worship Service
DESCRIPTION:We welcome you to our regular worship service every Sunday @ 10:00am.\n\n\n\nWe offer the following services for kids during the Worship Service: \nEarly Childhood care for 1-3 year olds in the East Wing \n4 years old-Kindergarten in the West Wing (Discovery Land) \n1st-5th Grade in the East Wing (Discovery Land)
URL:https://eastlincolnalliance.com/event/worship-service-99/
LOCATION:East Lincoln Alliance Church\, 735 70th Avenue\, Amery\, WI\, 54001\, United States
END:VEVENT
BEGIN:VEVENT
DTSTART;TZID=UTC:20240505T084500
DTEND;TZID=UTC:20240505T094500
DTSTAMP:20260425T145935
CREATED:20240408T143451Z
LAST-MODIFIED:20240408T143451Z
UID:9218-1714898700-1714902300@eastlincolnalliance.com
SUMMARY:Discipleship Hour
DESCRIPTION:Join us for Discipleship Hour from 8:45-9:45am.  All 6th grade and up are invited.  Childcare for 1 year old to 5th grade is available (for a small fee).
URL:https://eastlincolnalliance.com/event/discipleship-hour/
LOCATION:East Lincoln Alliance Church\, 735 70th Avenue\, Amery\, WI\, 54001\, United States
END:VEVENT
BEGIN:VEVENT
DTSTART;TZID=UTC:20240505T080000
DTEND;TZID=UTC:20240505T170000
DTSTAMP:20260425T145935
CREATED:20240427T005404Z
LAST-MODIFIED:20240427T005705Z
UID:9277-1714896000-1714928400@eastlincolnalliance.com
SUMMARY:ELAC Spring Cleaning
DESCRIPTION:Spring cleaning at ELAC serves several purposes beyond just maintaining cleanliness.  It fosters a sense of community and unity among our attendees as we work together towards a common goal.  It helps create a welcoming and inviting atmosphere for worship services and other church activities. \nThis year our Annual Spring Cleaning will look a little different than recent years… \nSunday\, May 5th through Saturday\, May 11th\n\nThe church will be open from 8am-5pm each day for individuals/families to pick a task on the cleaning list \nand complete it as your schedule allows. \nThere is a sign-up sheet at the Information Table to \nsign up for the task you will complete. \n\nIf 8am-5pm doesn’t work with your schedule\, \nplease contact the church office.
URL:https://eastlincolnalliance.com/event/elac-spring-cleaning/
LOCATION:East Lincoln Alliance Church\, 735 70th Avenue\, Amery\, WI\, 54001\, United States
END:VEVENT
BEGIN:VEVENT
DTSTART;TZID=UTC:20240505T073000
DTEND;TZID=UTC:20240505T083000
DTSTAMP:20260425T145935
CREATED:20240501T222525Z
LAST-MODIFIED:20240501T222525Z
UID:9300-1714894200-1714897800@eastlincolnalliance.com
SUMMARY:Men's Breakfast
DESCRIPTION:1st Sunday of every month.  All men/boys are invited!
URL:https://eastlincolnalliance.com/event/mens-breakfast-7/
LOCATION:East Lincoln Alliance Church\, 735 70th Avenue\, Amery\, WI\, 54001\, United States
END:VEVENT
BEGIN:VEVENT
DTSTART;TZID=UTC:20240502T080000
DTEND;TZID=UTC:20240502T210000
DTSTAMP:20260425T145935
CREATED:20240427T005245Z
LAST-MODIFIED:20240427T005245Z
UID:9275-1714636800-1714683600@eastlincolnalliance.com
SUMMARY:National Day of Prayer
DESCRIPTION:The church will be open all day on Thursday\, May 2nd for praying independently.
URL:https://eastlincolnalliance.com/event/national-day-of-prayer-3/
LOCATION:East Lincoln Alliance Church\, 735 70th Avenue\, Amery\, WI\, 54001\, United States
END:VEVENT
BEGIN:VEVENT
DTSTART;TZID=UTC:20240501T180000
DTEND;TZID=UTC:20240501T200000
DTSTAMP:20260425T145935
CREATED:20231229T184722Z
LAST-MODIFIED:20231229T184722Z
UID:8958-1714586400-1714593600@eastlincolnalliance.com
SUMMARY:Son Seekers
DESCRIPTION:Son Seekers is a program for K-5th graders. We will be learning the 40 names of God. Programming will be from 6-8pm every Wednesday at East Lincoln Alliance Church. We will have games\, stories\, songs\, crafts.
URL:https://eastlincolnalliance.com/event/son-seekers-17/
LOCATION:East Lincoln Alliance Church\, 735 70th Avenue\, Amery\, WI\, 54001\, United States
END:VEVENT
BEGIN:VEVENT
DTSTART;TZID=UTC:20240501T170000
DTEND;TZID=UTC:20240501T190000
DTSTAMP:20260425T145935
CREATED:20240314T001048Z
LAST-MODIFIED:20240416T180849Z
UID:9156-1714582800-1714590000@eastlincolnalliance.com
SUMMARY:Mexican Fiesta
DESCRIPTION:The youth will be preparing a meal for all to enjoy on Wednesday\, May 1st from 5-7pm. \nPlease join us for a meal and fellowship! Free will offering\, will proceeds going to support youth events.
URL:https://eastlincolnalliance.com/event/mexican-fiesta-3/
LOCATION:East Lincoln Alliance Church\, 735 70th Avenue\, Amery\, WI\, 54001\, United States
END:VEVENT
BEGIN:VEVENT
DTSTART;TZID=UTC:20240501T170000
DTEND;TZID=UTC:20240501T190000
DTSTAMP:20260425T145935
CREATED:20231208T174548Z
LAST-MODIFIED:20240416T180744Z
UID:8883-1714582800-1714590000@eastlincolnalliance.com
SUMMARY:Recharge/Youth Group
DESCRIPTION:Mexican Fiesta Night!  All are invited to share a meal together!  Free will donation\, proceeds will go to the youth.
URL:https://eastlincolnalliance.com/event/recharge-youth-group-64/
LOCATION:East Lincoln Alliance Church\, 735 70th Avenue\, Amery\, WI\, 54001\, United States
END:VEVENT
BEGIN:VEVENT
DTSTART;TZID=UTC:20240430T183000
DTEND;TZID=UTC:20240430T193000
DTSTAMP:20260425T145935
CREATED:20240408T142900Z
LAST-MODIFIED:20240408T142900Z
UID:9206-1714501800-1714505400@eastlincolnalliance.com
SUMMARY:Prayer Gathering
DESCRIPTION:All are invited to join as we pray for each other\, our community and world.  Every Tuesday\, 6:30pm
URL:https://eastlincolnalliance.com/event/prayer-gathering-22/
LOCATION:East Lincoln Alliance Church\, 735 70th Avenue\, Amery\, WI\, 54001\, United States
END:VEVENT
BEGIN:VEVENT
DTSTART;TZID=UTC:20240428T150000
DTEND;TZID=UTC:20240428T190000
DTSTAMP:20260425T145935
CREATED:20240313T141135Z
LAST-MODIFIED:20240313T141135Z
UID:9148-1714316400-1714330800@eastlincolnalliance.com
SUMMARY:Reserved for Sparrows Event
DESCRIPTION:Contact: Laura Deems
URL:https://eastlincolnalliance.com/event/reserved-for-sparrows-event/
LOCATION:East Lincoln Alliance Church\, 735 70th Avenue\, Amery\, WI\, 54001\, United States
END:VEVENT
BEGIN:VEVENT
DTSTART;TZID=UTC:20240428T113000
DTEND;TZID=UTC:20240428T123000
DTSTAMP:20260425T145935
CREATED:20240305T200718Z
LAST-MODIFIED:20240305T200718Z
UID:9139-1714303800-1714307400@eastlincolnalliance.com
SUMMARY:Single Women's Fellowship
DESCRIPTION:All single women are invited to join on Sunday\, April 28th at 11:30am at ELAC for a potluck and time of fellowship.
URL:https://eastlincolnalliance.com/event/single-womens-fellowship-15/
LOCATION:East Lincoln Alliance Church\, 735 70th Avenue\, Amery\, WI\, 54001\, United States
END:VEVENT
BEGIN:VEVENT
DTSTART;TZID=UTC:20240428T111500
DTEND;TZID=UTC:20240428T123000
DTSTAMP:20260425T145935
CREATED:20240116T210306Z
LAST-MODIFIED:20240416T180622Z
UID:9016-1714302900-1714307400@eastlincolnalliance.com
SUMMARY:"How To..." Sunday Study
DESCRIPTION:Join Perry Anderson\, Barry Iverson and esteemed colleagues on Sundays 11:15am-12:30pm in the East Wing Youth/Discovery Land room. The study will focus on different “how to” topics. This class will be in a discussion format and is intended for ages 6th grade to adult. Bring a sack lunch if you want to eat during study. \n\n\n\nEach week one topic will be discussed and likely plan is to discuss that topic after study of scripture\, commentaries\, videos\, etc. in more depth the following week or weeks depending on need.  Each student is invited to study\, explore\, ask questions of others regarding the topic to share the following week. \n\nUpcoming topics are: \nApr 28 Power of a Parent’s Blessing
URL:https://eastlincolnalliance.com/event/how-to-sunday-study-23/
LOCATION:East Lincoln Alliance Church\, 735 70th Avenue\, Amery\, WI\, 54001\, United States
END:VEVENT
BEGIN:VEVENT
DTSTART;TZID=UTC:20240428T110000
DTEND;TZID=UTC:20240428T113000
DTSTAMP:20260425T145935
CREATED:20240305T201326Z
LAST-MODIFIED:20240305T201326Z
UID:9141-1714302000-1714303800@eastlincolnalliance.com
SUMMARY:Hymn Sing
DESCRIPTION:Join us for a Hymn Sing on Sunday\, April 28th\, 11-11:30am.
URL:https://eastlincolnalliance.com/event/hymn-sing-16/
LOCATION:East Lincoln Alliance Church\, 735 70th Avenue\, Amery\, WI\, 54001\, United States
END:VEVENT
BEGIN:VEVENT
DTSTART;TZID=UTC:20240428T093000
DTEND;TZID=UTC:20240428T110000
DTSTAMP:20260425T145935
CREATED:20240408T142525Z
LAST-MODIFIED:20240408T142525Z
UID:9200-1714296600-1714302000@eastlincolnalliance.com
SUMMARY:Worship Service
DESCRIPTION:We welcome you to our regular worship service every Sunday @ 9:30am.\n\n\n\nWe offer the following services for kids during the Worship Service: \nEarly Childhood care for 1-3 year olds in the East Wing \n4 years old-Kindergarten in the West Wing (Discovery Land) \n1st-5th Grade in the East Wing (Discovery Land)
URL:https://eastlincolnalliance.com/event/worship-service-98/
LOCATION:East Lincoln Alliance Church\, 735 70th Avenue\, Amery\, WI\, 54001\, United States
END:VEVENT
BEGIN:VEVENT
DTSTART;TZID=UTC:20240424T180000
DTEND;TZID=UTC:20240424T200000
DTSTAMP:20260425T145935
CREATED:20231229T184703Z
LAST-MODIFIED:20231229T184703Z
UID:8956-1713981600-1713988800@eastlincolnalliance.com
SUMMARY:Son Seekers
DESCRIPTION:Son Seekers is a program for K-5th graders. We will be learning the 40 names of God. Programming will be from 6-8pm every Wednesday at East Lincoln Alliance Church. We will have games\, stories\, songs\, crafts.
URL:https://eastlincolnalliance.com/event/son-seekers-16/
LOCATION:East Lincoln Alliance Church\, 735 70th Avenue\, Amery\, WI\, 54001\, United States
END:VEVENT
END:VCALENDAR