BEGIN:VCALENDAR
VERSION:2.0
PRODID:-//East Lincoln Alliance Church - ECPv6.15.20//NONSGML v1.0//EN
CALSCALE:GREGORIAN
METHOD:PUBLISH
X-ORIGINAL-URL:https://eastlincolnalliance.com
X-WR-CALDESC:Events for East Lincoln Alliance Church
REFRESH-INTERVAL;VALUE=DURATION:PT1H
X-Robots-Tag:noindex
X-PUBLISHED-TTL:PT1H
BEGIN:VTIMEZONE
TZID:UTC
BEGIN:STANDARD
TZOFFSETFROM:+0000
TZOFFSETTO:+0000
TZNAME:UTC
DTSTART:20230101T000000
END:STANDARD
END:VTIMEZONE
BEGIN:VEVENT
DTSTART;TZID=UTC:20240714T100000
DTEND;TZID=UTC:20240714T123000
DTSTAMP:20260425T131817
CREATED:20240520T150503Z
LAST-MODIFIED:20240520T150503Z
UID:9327-1720951200-1720960200@eastlincolnalliance.com
SUMMARY:Worship at Michael Park
DESCRIPTION:We will be having an outdoor worship service at Michael Park on Sunday\, July 14th at our normal time\, 10:00am. The service will take place on Danielson Stage\, bring your lawn chair or a blanket to sit on!  Stay for a potluck meal (please bring a dish to pass) and yard games! Culinary Group 3 will be in charge of the potluck set up/clean up. \nThere will be no Discipleship Hour prior to the service. \nThere will be no Discovery Land or Early Childhood care during the service.
URL:https://eastlincolnalliance.com/event/worship-at-michael-park-2/
LOCATION:Michael Park\, 132 Central Street\, Amery\, WI\, 54001\, United States
END:VEVENT
BEGIN:VEVENT
DTSTART;TZID=UTC:20240714T180000
DTEND;TZID=UTC:20240714T200000
DTSTAMP:20260425T131817
CREATED:20240702T181549Z
LAST-MODIFIED:20240702T181549Z
UID:9487-1720980000-1720987200@eastlincolnalliance.com
SUMMARY:Summer Softball
DESCRIPTION:Join us for some fun on the field! Our church softball team is gearing up for more exciting games. Whether you’re a seasoned player or a rookie\, everyone is welcome to join. Let’s play ball and build community together! \nSunday\, July 14th first pitch at 6pm. \n@ Clear Lake Elementary
URL:https://eastlincolnalliance.com/event/summer-softball/
LOCATION:WI
END:VEVENT
BEGIN:VEVENT
DTSTART;TZID=UTC:20240715T093000
DTEND;TZID=UTC:20240715T120000
DTSTAMP:20260425T131817
CREATED:20240528T164844Z
LAST-MODIFIED:20240528T164844Z
UID:9358-1721035800-1721044800@eastlincolnalliance.com
SUMMARY:Summer Good News Club
DESCRIPTION:Mark your calendars for July 15-19! ELAC will be hosting a Summer Good News Club at the church from 9:30-11:30am for 5-12 year olds (or just finished 4k). There will be fun activities to share the Gospel. A light lunch will be served at 11:30am.
URL:https://eastlincolnalliance.com/event/summer-good-news-club-6/
LOCATION:East Lincoln Alliance Church\, 735 70th Avenue\, Amery\, WI\, 54001\, United States
END:VEVENT
BEGIN:VEVENT
DTSTART;TZID=UTC:20240716T093000
DTEND;TZID=UTC:20240716T120000
DTSTAMP:20260425T131817
CREATED:20240528T164911Z
LAST-MODIFIED:20240528T164911Z
UID:9360-1721122200-1721131200@eastlincolnalliance.com
SUMMARY:Summer Good News Club
DESCRIPTION:Mark your calendars for July 15-19! ELAC will be hosting a Summer Good News Club at the church from 9:30-11:30am for 5-12 year olds (or just finished 4k). There will be fun activities to share the Gospel. A light lunch will be served at 11:30am.
URL:https://eastlincolnalliance.com/event/summer-good-news-club-7/
LOCATION:East Lincoln Alliance Church\, 735 70th Avenue\, Amery\, WI\, 54001\, United States
END:VEVENT
BEGIN:VEVENT
DTSTART;TZID=UTC:20240716T183000
DTEND;TZID=UTC:20240716T193000
DTSTAMP:20260425T131817
CREATED:20240603T131426Z
LAST-MODIFIED:20240603T131426Z
UID:9383-1721154600-1721158200@eastlincolnalliance.com
SUMMARY:Prayer Gathering
DESCRIPTION:All are invited to join as we pray for each other\, our community and world.  Every Tuesday\, 6:30pm
URL:https://eastlincolnalliance.com/event/prayer-gathering-32/
LOCATION:East Lincoln Alliance Church\, 735 70th Avenue\, Amery\, WI\, 54001\, United States
END:VEVENT
BEGIN:VEVENT
DTSTART;TZID=UTC:20240717T093000
DTEND;TZID=UTC:20240717T120000
DTSTAMP:20260425T131817
CREATED:20240528T164932Z
LAST-MODIFIED:20240528T164932Z
UID:9362-1721208600-1721217600@eastlincolnalliance.com
SUMMARY:Summer Good News Club
DESCRIPTION:Mark your calendars for July 15-19! ELAC will be hosting a Summer Good News Club at the church from 9:30-11:30am for 5-12 year olds (or just finished 4k). There will be fun activities to share the Gospel. A light lunch will be served at 11:30am.
URL:https://eastlincolnalliance.com/event/summer-good-news-club-8/
LOCATION:East Lincoln Alliance Church\, 735 70th Avenue\, Amery\, WI\, 54001\, United States
END:VEVENT
BEGIN:VEVENT
DTSTART;TZID=UTC:20240717T100000
DTEND;TZID=UTC:20240717T180000
DTSTAMP:20260425T131817
CREATED:20240624T141311Z
LAST-MODIFIED:20240624T141311Z
UID:9438-1721210400-1721239200@eastlincolnalliance.com
SUMMARY:Wild Mountain
DESCRIPTION:On Wednesday\, July 17th we will enjoy a day at Wild Mountain in Taylors Falls.  All are invited to attend!  The cost is $30 per person with a sub sandwich lunch included (we will purchase tickets as a group).   Meet at ELAC at 10:15am to hook up with a carpool or you can go directly to Wild Mountain. \nThe park hours are 11am-6pm\, plan your transportation accordingly.
URL:https://eastlincolnalliance.com/event/wild-mountain/
LOCATION:WI
END:VEVENT
BEGIN:VEVENT
DTSTART;TZID=UTC:20240718T093000
DTEND;TZID=UTC:20240718T120000
DTSTAMP:20260425T131817
CREATED:20240528T165029Z
LAST-MODIFIED:20240528T165029Z
UID:9364-1721295000-1721304000@eastlincolnalliance.com
SUMMARY:Summer Good News Club
DESCRIPTION:Mark your calendars for July 15-19! ELAC will be hosting a Summer Good News Club at the church from 9:30-11:30am for 5-12 year olds (or just finished 4k). There will be fun activities to share the Gospel. A light lunch will be served at 11:30am.
URL:https://eastlincolnalliance.com/event/summer-good-news-club-9/
LOCATION:East Lincoln Alliance Church\, 735 70th Avenue\, Amery\, WI\, 54001\, United States
END:VEVENT
BEGIN:VEVENT
DTSTART;TZID=UTC:20240719T093000
DTEND;TZID=UTC:20240719T120000
DTSTAMP:20260425T131817
CREATED:20240528T165053Z
LAST-MODIFIED:20240528T165053Z
UID:9366-1721381400-1721390400@eastlincolnalliance.com
SUMMARY:Summer Good News Club
DESCRIPTION:Mark your calendars for July 15-19! ELAC will be hosting a Summer Good News Club at the church from 9:30-11:30am for 5-12 year olds (or just finished 4k). There will be fun activities to share the Gospel. A light lunch will be served at 11:30am.
URL:https://eastlincolnalliance.com/event/summer-good-news-club-10/
LOCATION:East Lincoln Alliance Church\, 735 70th Avenue\, Amery\, WI\, 54001\, United States
END:VEVENT
BEGIN:VEVENT
DTSTART;TZID=UTC:20240719T093000
DTEND;TZID=UTC:20240719T180000
DTSTAMP:20260425T131817
CREATED:20240624T142534Z
LAST-MODIFIED:20240702T181224Z
UID:9444-1721381400-1721412000@eastlincolnalliance.com
SUMMARY:Youth Brat Stand @ Dick's Market
DESCRIPTION:The youth will be running the brat stand at Dick’s Market on July 19-20th. Plan to stop by to support them as they raise money for fun youth events! \nYouth – sign up here: https://eastlincolnalliance.com/ninja-forms/11h7vk
URL:https://eastlincolnalliance.com/event/youth-brat-stand-dicks-market/
LOCATION:Dick’s Market\, 1050 River Place Mall\, Amery\, WI\, 54001
END:VEVENT
BEGIN:VEVENT
DTSTART;TZID=UTC:20240720T093000
DTEND;TZID=UTC:20240720T170000
DTSTAMP:20260425T131817
CREATED:20240624T142558Z
LAST-MODIFIED:20240702T181244Z
UID:9446-1721467800-1721494800@eastlincolnalliance.com
SUMMARY:Youth Brat Stand @ Dick's Market
DESCRIPTION:The youth will be running the brat stand at Dick’s Market on July 19-20th. Plan to stop by to support them as they raise money for fun youth events! \nYouth – sign up here: https://eastlincolnalliance.com/ninja-forms/11h7vk
URL:https://eastlincolnalliance.com/event/youth-brat-stand-dicks-market-2/
LOCATION:Dick’s Market\, 1050 River Place Mall\, Amery\, WI\, 54001
END:VEVENT
BEGIN:VEVENT
DTSTART;TZID=UTC:20240721T084500
DTEND;TZID=UTC:20240721T094500
DTSTAMP:20260425T131817
CREATED:20240624T142904Z
LAST-MODIFIED:20240624T142904Z
UID:9450-1721551500-1721555100@eastlincolnalliance.com
SUMMARY:Discipleship Hour
DESCRIPTION:Join us for Discipleship Hour from 8:45-9:45am.  All 6th grade and up are invited.
URL:https://eastlincolnalliance.com/event/discipleship-hour-11/
LOCATION:East Lincoln Alliance Church\, 735 70th Avenue\, Amery\, WI\, 54001\, United States
END:VEVENT
BEGIN:VEVENT
DTSTART;TZID=UTC:20240721T100000
DTEND;TZID=UTC:20240721T111500
DTSTAMP:20260425T131817
CREATED:20240624T143058Z
LAST-MODIFIED:20240624T143058Z
UID:9456-1721556000-1721560500@eastlincolnalliance.com
SUMMARY:Worship Service
DESCRIPTION:We welcome you to our regular worship service every Sunday @ 10:00am.\n\n\n\nWe offer the following services for kids during the Worship Service: \nEarly Childhood care for 1-3 year olds in the East Wing \n4 years old-Kindergarten in the West Wing (Discovery Land) \n1st-5th Grade in the East Wing (Discovery Land)
URL:https://eastlincolnalliance.com/event/worship-service-109/
LOCATION:East Lincoln Alliance Church\, 735 70th Avenue\, Amery\, WI\, 54001\, United States
END:VEVENT
BEGIN:VEVENT
DTSTART;TZID=UTC:20240723T183000
DTEND;TZID=UTC:20240723T193000
DTSTAMP:20260425T131817
CREATED:20240603T133531Z
LAST-MODIFIED:20240603T133531Z
UID:9385-1721759400-1721763000@eastlincolnalliance.com
SUMMARY:Prayer Gathering
DESCRIPTION:All are invited to join as we pray for each other\, our community and world.  Every Tuesday\, 6:30pm
URL:https://eastlincolnalliance.com/event/prayer-gathering-33/
LOCATION:East Lincoln Alliance Church\, 735 70th Avenue\, Amery\, WI\, 54001\, United States
END:VEVENT
BEGIN:VEVENT
DTSTART;TZID=UTC:20240724T090000
DTEND;TZID=UTC:20240724T160000
DTSTAMP:20260425T131817
CREATED:20240702T181901Z
LAST-MODIFIED:20240702T181901Z
UID:9491-1721811600-1721836800@eastlincolnalliance.com
SUMMARY:Women's Craft Day
DESCRIPTION:Women are invited to join on Wednesday\, July 24th 9am-4pm for a day of crafting and fellowship.  Bring whatever project you are working on\, or just come and visit!  We will be meeting at Gloria Stokes’.  Pack a lunch. \nContact Julie Anderson if you have questions or would like to host a craft day. 715-607-8022
URL:https://eastlincolnalliance.com/event/womens-craft-day-28/
LOCATION:Gloria Stokes
END:VEVENT
BEGIN:VEVENT
DTSTART;TZID=UTC:20240727T183000
DTEND;TZID=UTC:20240727T203000
DTSTAMP:20260425T131817
CREATED:20240727T165625Z
LAST-MODIFIED:20240727T165625Z
UID:9563-1722105000-1722112200@eastlincolnalliance.com
SUMMARY:The Inbetweens Study Group
DESCRIPTION:This study group is for people who are inbetween getting out of high school and being out of college.  Ages 17-30. \nPlease bring a snack to share and a Bible!  Questions?  Contact Pete Hite 715-245-9230. \nWe will review Ephesians 2\, specifically about Identity in Christ.  After that we will talk about how to proceed.
URL:https://eastlincolnalliance.com/event/the-inbetweens-study-group-2/
LOCATION:East Lincoln Alliance Church\, 735 70th Avenue\, Amery\, WI\, 54001\, United States
END:VEVENT
BEGIN:VEVENT
DTSTART;TZID=UTC:20240728T084500
DTEND;TZID=UTC:20240728T094500
DTSTAMP:20260425T131817
CREATED:20240624T142932Z
LAST-MODIFIED:20240624T142932Z
UID:9452-1722156300-1722159900@eastlincolnalliance.com
SUMMARY:Discipleship Hour
DESCRIPTION:Join us for Discipleship Hour from 8:45-9:45am.  All 6th grade and up are invited.
URL:https://eastlincolnalliance.com/event/discipleship-hour-12/
LOCATION:East Lincoln Alliance Church\, 735 70th Avenue\, Amery\, WI\, 54001\, United States
END:VEVENT
BEGIN:VEVENT
DTSTART;TZID=UTC:20240728T100000
DTEND;TZID=UTC:20240728T111500
DTSTAMP:20260425T131817
CREATED:20240624T143552Z
LAST-MODIFIED:20240624T143552Z
UID:9458-1722160800-1722165300@eastlincolnalliance.com
SUMMARY:Worship Service
DESCRIPTION:We welcome you to our regular worship service every Sunday @ 10:00am.\n\n\n\nWe offer the following services for kids during the Worship Service: \nEarly Childhood care for 1-3 year olds in the East Wing \n4 years old-Kindergarten in the West Wing (Discovery Land) \n1st-5th Grade in the East Wing (Discovery Land)
URL:https://eastlincolnalliance.com/event/worship-service-110/
LOCATION:East Lincoln Alliance Church\, 735 70th Avenue\, Amery\, WI\, 54001\, United States
END:VEVENT
BEGIN:VEVENT
DTSTART;TZID=UTC:20240730T183000
DTEND;TZID=UTC:20240730T193000
DTSTAMP:20260425T131817
CREATED:20240603T133556Z
LAST-MODIFIED:20240603T133556Z
UID:9387-1722364200-1722367800@eastlincolnalliance.com
SUMMARY:Prayer Gathering
DESCRIPTION:All are invited to join as we pray for each other\, our community and world.  Every Tuesday\, 6:30pm
URL:https://eastlincolnalliance.com/event/prayer-gathering-34/
LOCATION:East Lincoln Alliance Church\, 735 70th Avenue\, Amery\, WI\, 54001\, United States
END:VEVENT
BEGIN:VEVENT
DTSTART;TZID=UTC:20240802T093000
DTEND;TZID=UTC:20240802T180000
DTSTAMP:20260425T131817
CREATED:20240702T180942Z
LAST-MODIFIED:20240702T181154Z
UID:9480-1722591000-1722621600@eastlincolnalliance.com
SUMMARY:Youth Brat Stand @ Dick's Market
DESCRIPTION:The youth will be running the brat stand at Dick’s Market on August 2-3. Plan to stop by to support them as they raise money for fun youth events! \nYouth – sign up here:  https://eastlincolnalliance.com/ninja-forms/11h7vk
URL:https://eastlincolnalliance.com/event/youth-brat-stand-dicks-market-3/
LOCATION:Dick’s Market\, 1050 River Place Mall\, Amery\, WI\, 54001\, United States
END:VEVENT
BEGIN:VEVENT
DTSTART;TZID=UTC:20240802T183000
DTEND;TZID=UTC:20240802T203000
DTSTAMP:20260425T131817
CREATED:20240719T230734Z
LAST-MODIFIED:20240719T230734Z
UID:9509-1722623400-1722630600@eastlincolnalliance.com
SUMMARY:Homeschool Gathering
DESCRIPTION:Reserved by Kayla Nelson
URL:https://eastlincolnalliance.com/event/homeschool-gathering/
LOCATION:East Lincoln Alliance Church\, 735 70th Avenue\, Amery\, WI\, 54001\, United States
END:VEVENT
BEGIN:VEVENT
DTSTART;TZID=UTC:20240803T090000
DTEND;TZID=UTC:20240803T160000
DTSTAMP:20260425T131817
CREATED:20240715T132728Z
LAST-MODIFIED:20240715T132728Z
UID:9502-1722675600-1722700800@eastlincolnalliance.com
SUMMARY:Bible Quiz Camp
DESCRIPTION:All youth Kindergarten to Seniors in High School are invited to get a taste of what Bible quizzing is all about on Saturday\, August 3rd at ELAC from 9am-4pm. Pack a lunch! Contact Jessica Garrett or the church office if you have questions.
URL:https://eastlincolnalliance.com/event/bible-quiz-camp/
LOCATION:East Lincoln Alliance Church\, 735 70th Avenue\, Amery\, WI\, 54001\, United States
END:VEVENT
BEGIN:VEVENT
DTSTART;TZID=UTC:20240803T093000
DTEND;TZID=UTC:20240803T170000
DTSTAMP:20260425T131817
CREATED:20240702T181021Z
LAST-MODIFIED:20240702T181131Z
UID:9482-1722677400-1722704400@eastlincolnalliance.com
SUMMARY:Youth Brat Stand @ Dick's Market
DESCRIPTION:The youth will be running the brat stand at Dick’s Market on August 2-3. Plan to stop by to support them as they raise money for fun youth events! \nYouth – sign up here:  https://eastlincolnalliance.com/ninja-forms/11h7vk
URL:https://eastlincolnalliance.com/event/youth-brat-stand-dicks-market-4/
LOCATION:Dick’s Market\, 1050 River Place Mall\, Amery\, WI\, 54001\, United States
END:VEVENT
BEGIN:VEVENT
DTSTART;TZID=UTC:20240804T073000
DTEND;TZID=UTC:20240804T083000
DTSTAMP:20260425T131817
CREATED:20240727T170306Z
LAST-MODIFIED:20240727T170306Z
UID:9565-1722756600-1722760200@eastlincolnalliance.com
SUMMARY:Men's Breakfast
DESCRIPTION:1st Sunday of every month.  All men/boys are invited!
URL:https://eastlincolnalliance.com/event/mens-breakfast-9/
LOCATION:East Lincoln Alliance Church\, 735 70th Avenue\, Amery\, WI\, 54001\, United States
END:VEVENT
BEGIN:VEVENT
DTSTART;TZID=UTC:20240804T084500
DTEND;TZID=UTC:20240804T094500
DTSTAMP:20260425T131817
CREATED:20240722T145709Z
LAST-MODIFIED:20240722T145709Z
UID:9519-1722761100-1722764700@eastlincolnalliance.com
SUMMARY:Discipleship Hour
DESCRIPTION:Join us for Discipleship Hour from 8:45-9:45am.  All 6th grade and up are invited.
URL:https://eastlincolnalliance.com/event/discipleship-hour-13/
LOCATION:East Lincoln Alliance Church\, 735 70th Avenue\, Amery\, WI\, 54001\, United States
END:VEVENT
BEGIN:VEVENT
DTSTART;TZID=UTC:20240804T100000
DTEND;TZID=UTC:20240804T111500
DTSTAMP:20260425T131817
CREATED:20240722T150205Z
LAST-MODIFIED:20240722T150205Z
UID:9537-1722765600-1722770100@eastlincolnalliance.com
SUMMARY:Worship Service
DESCRIPTION:We welcome you to our regular worship service every Sunday @ 10:00am.\n\n\n\nWe offer the following services for kids during the Worship Service: \nEarly Childhood care for 1-3 year olds in the East Wing \n4 years old-Kindergarten in the West Wing (Discovery Land) \n1st-5th Grade in the East Wing (Discovery Land)
URL:https://eastlincolnalliance.com/event/worship-service-111/
LOCATION:East Lincoln Alliance Church\, 735 70th Avenue\, Amery\, WI\, 54001\, United States
END:VEVENT
BEGIN:VEVENT
DTSTART;TZID=UTC:20240804T170000
DTEND;TZID=UTC:20240804T190000
DTSTAMP:20260425T131817
CREATED:20240416T180950Z
LAST-MODIFIED:20240416T180950Z
UID:9262-1722790800-1722798000@eastlincolnalliance.com
SUMMARY:Picnic and Baptismal Service
DESCRIPTION:ELAC will be having its annual Baptismal Service on Sunday\, August 4th 5-7pm.  The Baptismal Service will be held at Clear Lake Park with a potluck dinner at 5pm and the baptism after.  Contact the church office or Pastor Eric for more information.
URL:https://eastlincolnalliance.com/event/picnic-and-baptismal-service-2/
LOCATION:Clear Lake Park\, Clear Lake\, WI\, United States
END:VEVENT
BEGIN:VEVENT
DTSTART;TZID=UTC:20240806T183000
DTEND;TZID=UTC:20240806T193000
DTSTAMP:20260425T131817
CREATED:20240603T133622Z
LAST-MODIFIED:20240603T133622Z
UID:9389-1722969000-1722972600@eastlincolnalliance.com
SUMMARY:Prayer Gathering
DESCRIPTION:All are invited to join as we pray for each other\, our community and world.  Every Tuesday\, 6:30pm
URL:https://eastlincolnalliance.com/event/prayer-gathering-35/
LOCATION:East Lincoln Alliance Church\, 735 70th Avenue\, Amery\, WI\, 54001\, United States
END:VEVENT
BEGIN:VEVENT
DTSTART;TZID=UTC:20240811T084500
DTEND;TZID=UTC:20240811T094500
DTSTAMP:20260425T131817
CREATED:20240722T145737Z
LAST-MODIFIED:20240722T145746Z
UID:9521-1723365900-1723369500@eastlincolnalliance.com
SUMMARY:Discipleship Hour
DESCRIPTION:Join us for Discipleship Hour from 8:45-9:45am.  All 6th grade and up are invited.
URL:https://eastlincolnalliance.com/event/discipleship-hour-14/
LOCATION:East Lincoln Alliance Church\, 735 70th Avenue\, Amery\, WI\, 54001\, United States
END:VEVENT
BEGIN:VEVENT
DTSTART;TZID=UTC:20240811T100000
DTEND;TZID=UTC:20240811T111500
DTSTAMP:20260425T131817
CREATED:20240722T150227Z
LAST-MODIFIED:20240722T150227Z
UID:9539-1723370400-1723374900@eastlincolnalliance.com
SUMMARY:Worship Service
DESCRIPTION:We welcome you to our regular worship service every Sunday @ 10:00am.\n\n\n\nWe offer the following services for kids during the Worship Service: \nEarly Childhood care for 1-3 year olds in the East Wing \n4 years old-Kindergarten in the West Wing (Discovery Land) \n1st-5th Grade in the East Wing (Discovery Land)
URL:https://eastlincolnalliance.com/event/worship-service-112/
LOCATION:East Lincoln Alliance Church\, 735 70th Avenue\, Amery\, WI\, 54001\, United States
END:VEVENT
END:VCALENDAR