BEGIN:VCALENDAR
VERSION:2.0
PRODID:-//East Lincoln Alliance Church - ECPv6.15.20//NONSGML v1.0//EN
CALSCALE:GREGORIAN
METHOD:PUBLISH
X-WR-CALNAME:East Lincoln Alliance Church
X-ORIGINAL-URL:https://eastlincolnalliance.com
X-WR-CALDESC:Events for East Lincoln Alliance Church
REFRESH-INTERVAL;VALUE=DURATION:PT1H
X-Robots-Tag:noindex
X-PUBLISHED-TTL:PT1H
BEGIN:VTIMEZONE
TZID:UTC
BEGIN:STANDARD
TZOFFSETFROM:+0000
TZOFFSETTO:+0000
TZNAME:UTC
DTSTART:20250101T000000
END:STANDARD
END:VTIMEZONE
BEGIN:VEVENT
DTSTART;TZID=UTC:20260422T180000
DTEND;TZID=UTC:20260422T200000
DTSTAMP:20260423T232004
CREATED:20260309T140657Z
LAST-MODIFIED:20260309T140657Z
UID:11726-1776880800-1776888000@eastlincolnalliance.com
SUMMARY:Son Seekers
DESCRIPTION:Son Seekers is a program for K-5th graders.  Programming is 6-8pm every Wednesday at East Lincoln Alliance Church. We will have games\, stories\, songs\, crafts.
URL:https://eastlincolnalliance.com/event/son-seekers-81/
LOCATION:East Lincoln Alliance Church\, 735 70th Avenue\, Amery\, WI\, 54001\, United States
END:VEVENT
BEGIN:VEVENT
DTSTART;TZID=UTC:20260422T180000
DTEND;TZID=UTC:20260422T200000
DTSTAMP:20260423T232004
CREATED:20260309T134709Z
LAST-MODIFIED:20260309T134709Z
UID:11708-1776880800-1776888000@eastlincolnalliance.com
SUMMARY:Recharge
DESCRIPTION:All students 6-12th grade are invited to attend.  Make sure to invite your friends!
URL:https://eastlincolnalliance.com/event/recharge-141/
LOCATION:East Lincoln Alliance Church\, 735 70th Avenue\, Amery\, WI\, 54001\, United States
END:VEVENT
BEGIN:VEVENT
DTSTART;TZID=UTC:20260422T151500
DTEND;TZID=UTC:20260422T163000
DTSTAMP:20260423T232004
CREATED:20260304T165025Z
LAST-MODIFIED:20260304T165025Z
UID:11678-1776870900-1776875400@eastlincolnalliance.com
SUMMARY:After School Good News Club
DESCRIPTION:All K-5th grade students are invited to After School Good News Club at Lien Elementary School (Amery) right after school (3:15pm) until 4:30pm every Wednesday that Amery Schools are in session. \nStudents attending the Intermediate School should ride the transfer bus to the Elementary School. Registration Forms must be filled out (below).   Questions? Contact Mary Schussman. \neastlincolnalliance.com/ninja-forms/10okpn/
URL:https://eastlincolnalliance.com/event/after-school-good-news-club-107/
LOCATION:Lien Elementary School\, 469 Minneapolis Ave S\, Amery\, WI\, 54001\, United States
END:VEVENT
BEGIN:VEVENT
DTSTART;TZID=UTC:20260421T183000
DTEND;TZID=UTC:20260421T193000
DTSTAMP:20260423T232004
CREATED:20260304T163932Z
LAST-MODIFIED:20260304T163932Z
UID:11644-1776796200-1776799800@eastlincolnalliance.com
SUMMARY:Prayer Gathering
DESCRIPTION:All are invited to join as we pray for each other\, our community and world.  Every Tuesday\, 6:30pm
URL:https://eastlincolnalliance.com/event/prayer-gathering-104/
LOCATION:East Lincoln Alliance Church\, 735 70th Avenue\, Amery\, WI\, 54001\, United States
END:VEVENT
BEGIN:VEVENT
DTSTART;TZID=UTC:20260420T180000
DTEND;TZID=UTC:20260420T203000
DTSTAMP:20260423T232004
CREATED:20260304T164627Z
LAST-MODIFIED:20260304T164627Z
UID:11666-1776708000-1776717000@eastlincolnalliance.com
SUMMARY:Elder Meeting
DESCRIPTION:
URL:https://eastlincolnalliance.com/event/elder-meeting-22/
LOCATION:WI
END:VEVENT
BEGIN:VEVENT
DTSTART;TZID=UTC:20260419T100000
DTEND;TZID=UTC:20260419T111500
DTSTAMP:20260423T232004
CREATED:20260304T163221Z
LAST-MODIFIED:20260304T163221Z
UID:11618-1776592800-1776597300@eastlincolnalliance.com
SUMMARY:Worship Service
DESCRIPTION:We offer the following services for kids during the Worship Service: \nEarly Childhood care for 1-3 year olds in the East Wing \n4 years old-Kindergarten in the West Wing (Discovery Land) \n1st-3rd Grade in the East Wing (Discovery Land)
URL:https://eastlincolnalliance.com/event/worship-service-197/
LOCATION:East Lincoln Alliance Church\, 735 70th Avenue\, Amery\, WI\, 54001\, United States
END:VEVENT
BEGIN:VEVENT
DTSTART;TZID=UTC:20260419T084500
DTEND;TZID=UTC:20260419T094500
DTSTAMP:20260423T232004
CREATED:20260304T162453Z
LAST-MODIFIED:20260304T162453Z
UID:11592-1776588300-1776591900@eastlincolnalliance.com
SUMMARY:Discipleship Hour
DESCRIPTION:Join us for Discipleship Hour from 8:45-9:45am.  All 6th grade and up are invited.
URL:https://eastlincolnalliance.com/event/discipleship-hour-101/
LOCATION:East Lincoln Alliance Church\, 735 70th Avenue\, Amery\, WI\, 54001\, United States
END:VEVENT
BEGIN:VEVENT
DTSTART;TZID=UTC:20260418T080000
DTEND;TZID=UTC:20260418T153000
DTSTAMP:20260423T232004
CREATED:20260306T185306Z
LAST-MODIFIED:20260306T185306Z
UID:11695-1776499200-1776526200@eastlincolnalliance.com
SUMMARY:Gather & Grow Day Conference for Women
DESCRIPTION:East Lincoln Alliance Ladies presents Gather & Grow\, a day conference for women!\nTheme: Cultivate Faith\nSaturday\, April 18th\, 8:00am-3:30pm \nTickets go on sale March 8th! \n$25 ticket includes: \n\n\nlight breakfast & coffee in the morning \n\n\nlunch \n\n\nmorning and afternoon messages \n\n\nfive workshop options to fortify faith\, health\, relationships\, and you! \n\n\nTithe.ly Event Registration
URL:https://eastlincolnalliance.com/event/gather-grow-day-conference-for-women-2/
LOCATION:East Lincoln Alliance Church\, 735 70th Avenue\, Amery\, WI\, 54001\, United States
END:VEVENT
BEGIN:VEVENT
DTSTART;TZID=UTC:20260417T180000
DTEND;TZID=UTC:20260417T200000
DTSTAMP:20260423T232004
CREATED:20260108T211847Z
LAST-MODIFIED:20260108T211847Z
UID:11430-1776448800-1776456000@eastlincolnalliance.com
SUMMARY:Grace Marriage
DESCRIPTION:
URL:https://eastlincolnalliance.com/event/grace-marriage-15/
LOCATION:East Lincoln Alliance Church\, 735 70th Avenue\, Amery\, WI\, 54001\, United States
END:VEVENT
BEGIN:VEVENT
DTSTART;TZID=UTC:20260415T180000
DTEND;TZID=UTC:20260415T200000
DTSTAMP:20260423T232004
CREATED:20260309T140634Z
LAST-MODIFIED:20260309T140634Z
UID:11724-1776276000-1776283200@eastlincolnalliance.com
SUMMARY:Son Seekers
DESCRIPTION:Son Seekers is a program for K-5th graders.  Programming is 6-8pm every Wednesday at East Lincoln Alliance Church. We will have games\, stories\, songs\, crafts.
URL:https://eastlincolnalliance.com/event/son-seekers-80/
LOCATION:East Lincoln Alliance Church\, 735 70th Avenue\, Amery\, WI\, 54001\, United States
END:VEVENT
BEGIN:VEVENT
DTSTART;TZID=UTC:20260415T180000
DTEND;TZID=UTC:20260415T200000
DTSTAMP:20260423T232004
CREATED:20260309T134639Z
LAST-MODIFIED:20260309T134639Z
UID:11706-1776276000-1776283200@eastlincolnalliance.com
SUMMARY:Recharge
DESCRIPTION:All students 6-12th grade are invited to attend.  Make sure to invite your friends!
URL:https://eastlincolnalliance.com/event/recharge-140/
LOCATION:East Lincoln Alliance Church\, 735 70th Avenue\, Amery\, WI\, 54001\, United States
END:VEVENT
BEGIN:VEVENT
DTSTART;TZID=UTC:20260415T151500
DTEND;TZID=UTC:20260415T163000
DTSTAMP:20260423T232004
CREATED:20260304T164955Z
LAST-MODIFIED:20260304T164955Z
UID:11676-1776266100-1776270600@eastlincolnalliance.com
SUMMARY:After School Good News Club
DESCRIPTION:All K-5th grade students are invited to After School Good News Club at Lien Elementary School (Amery) right after school (3:15pm) until 4:30pm every Wednesday that Amery Schools are in session. \nStudents attending the Intermediate School should ride the transfer bus to the Elementary School. Registration Forms must be filled out (below).   Questions? Contact Mary Schussman. \neastlincolnalliance.com/ninja-forms/10okpn/
URL:https://eastlincolnalliance.com/event/after-school-good-news-club-106/
LOCATION:Lien Elementary School\, 469 Minneapolis Ave S\, Amery\, WI\, 54001\, United States
END:VEVENT
BEGIN:VEVENT
DTSTART;TZID=UTC:20260414T183000
DTEND;TZID=UTC:20260414T193000
DTSTAMP:20260423T232004
CREATED:20260304T163905Z
LAST-MODIFIED:20260304T163905Z
UID:11642-1776191400-1776195000@eastlincolnalliance.com
SUMMARY:Prayer Gathering
DESCRIPTION:All are invited to join as we pray for each other\, our community and world.  Every Tuesday\, 6:30pm
URL:https://eastlincolnalliance.com/event/prayer-gathering-103/
LOCATION:East Lincoln Alliance Church\, 735 70th Avenue\, Amery\, WI\, 54001\, United States
END:VEVENT
BEGIN:VEVENT
DTSTART;TZID=UTC:20260412T100000
DTEND;TZID=UTC:20260412T111500
DTSTAMP:20260423T232004
CREATED:20260304T163153Z
LAST-MODIFIED:20260304T163153Z
UID:11616-1775988000-1775992500@eastlincolnalliance.com
SUMMARY:Worship Service
DESCRIPTION:We offer the following services for kids during the Worship Service: \nEarly Childhood care for 1-3 year olds in the East Wing \n4 years old-Kindergarten in the West Wing (Discovery Land) \n1st-3rd Grade in the East Wing (Discovery Land)
URL:https://eastlincolnalliance.com/event/worship-service-196/
LOCATION:East Lincoln Alliance Church\, 735 70th Avenue\, Amery\, WI\, 54001\, United States
END:VEVENT
BEGIN:VEVENT
DTSTART;TZID=UTC:20260412T084500
DTEND;TZID=UTC:20260412T094500
DTSTAMP:20260423T232004
CREATED:20260304T162412Z
LAST-MODIFIED:20260304T162412Z
UID:11590-1775983500-1775987100@eastlincolnalliance.com
SUMMARY:Discipleship Hour
DESCRIPTION:Join us for Discipleship Hour from 8:45-9:45am.  All 6th grade and up are invited.
URL:https://eastlincolnalliance.com/event/discipleship-hour-100/
LOCATION:East Lincoln Alliance Church\, 735 70th Avenue\, Amery\, WI\, 54001\, United States
END:VEVENT
BEGIN:VEVENT
DTSTART;TZID=UTC:20260409T140000
DTEND;TZID=UTC:20260409T170000
DTSTAMP:20260423T232004
CREATED:20260328T180150Z
LAST-MODIFIED:20260328T180150Z
UID:11769-1775743200-1775754000@eastlincolnalliance.com
SUMMARY:Party
DESCRIPTION:
URL:https://eastlincolnalliance.com/event/party/
LOCATION:East Lincoln Alliance Church\, 735 70th Avenue\, Amery\, WI\, 54001\, United States
END:VEVENT
BEGIN:VEVENT
DTSTART;TZID=UTC:20260408T180000
DTEND;TZID=UTC:20260408T200000
DTSTAMP:20260423T232004
CREATED:20260309T140556Z
LAST-MODIFIED:20260309T140556Z
UID:11722-1775671200-1775678400@eastlincolnalliance.com
SUMMARY:Son Seekers
DESCRIPTION:Son Seekers is a program for K-5th graders.  Programming is 6-8pm every Wednesday at East Lincoln Alliance Church. We will have games\, stories\, songs\, crafts.
URL:https://eastlincolnalliance.com/event/son-seekers-79/
LOCATION:East Lincoln Alliance Church\, 735 70th Avenue\, Amery\, WI\, 54001\, United States
END:VEVENT
BEGIN:VEVENT
DTSTART;TZID=UTC:20260408T180000
DTEND;TZID=UTC:20260408T200000
DTSTAMP:20260423T232004
CREATED:20260309T134610Z
LAST-MODIFIED:20260309T134610Z
UID:11704-1775671200-1775678400@eastlincolnalliance.com
SUMMARY:Recharge
DESCRIPTION:All students 6-12th grade are invited to attend.  Make sure to invite your friends!
URL:https://eastlincolnalliance.com/event/recharge-139/
LOCATION:East Lincoln Alliance Church\, 735 70th Avenue\, Amery\, WI\, 54001\, United States
END:VEVENT
BEGIN:VEVENT
DTSTART;TZID=UTC:20260408T151500
DTEND;TZID=UTC:20260408T163000
DTSTAMP:20260423T232004
CREATED:20260304T164922Z
LAST-MODIFIED:20260304T164922Z
UID:11674-1775661300-1775665800@eastlincolnalliance.com
SUMMARY:After School Good News Club
DESCRIPTION:All K-5th grade students are invited to After School Good News Club at Lien Elementary School (Amery) right after school (3:15pm) until 4:30pm every Wednesday that Amery Schools are in session. \nStudents attending the Intermediate School should ride the transfer bus to the Elementary School. Registration Forms must be filled out (below).   Questions? Contact Mary Schussman. \neastlincolnalliance.com/ninja-forms/10okpn/
URL:https://eastlincolnalliance.com/event/after-school-good-news-club-105/
LOCATION:Lien Elementary School\, 469 Minneapolis Ave S\, Amery\, WI\, 54001\, United States
END:VEVENT
BEGIN:VEVENT
DTSTART;TZID=UTC:20260407T183000
DTEND;TZID=UTC:20260407T193000
DTSTAMP:20260423T232004
CREATED:20260304T163830Z
LAST-MODIFIED:20260304T163830Z
UID:11640-1775586600-1775590200@eastlincolnalliance.com
SUMMARY:Prayer Gathering
DESCRIPTION:All are invited to join as we pray for each other\, our community and world.  Every Tuesday\, 6:30pm
URL:https://eastlincolnalliance.com/event/prayer-gathering-102/
LOCATION:East Lincoln Alliance Church\, 735 70th Avenue\, Amery\, WI\, 54001\, United States
END:VEVENT
BEGIN:VEVENT
DTSTART;TZID=UTC:20260406T180000
DTEND;TZID=UTC:20260406T190000
DTSTAMP:20260423T232004
CREATED:20260330T160657Z
LAST-MODIFIED:20260330T160657Z
UID:11776-1775498400-1775502000@eastlincolnalliance.com
SUMMARY:Church Assessment Meeting
DESCRIPTION:
URL:https://eastlincolnalliance.com/event/church-assessment-meeting/
LOCATION:East Lincoln Alliance Church\, 735 70th Avenue\, Amery\, WI\, 54001\, United States
END:VEVENT
BEGIN:VEVENT
DTSTART;TZID=UTC:20260405T100000
DTEND;TZID=UTC:20260405T111500
DTSTAMP:20260423T232004
CREATED:20260304T163126Z
LAST-MODIFIED:20260304T163126Z
UID:11614-1775383200-1775387700@eastlincolnalliance.com
SUMMARY:Worship Service - HAPPY EASTER!
DESCRIPTION:We offer the following services for kids during the Worship Service: \nEarly Childhood care for 1-3 year olds in the East Wing \n4 years old-Kindergarten in the West Wing (Discovery Land) \n1st-3rd Grade in the East Wing (Discovery Land)
URL:https://eastlincolnalliance.com/event/worship-service-happy-easter-3/
LOCATION:East Lincoln Alliance Church\, 735 70th Avenue\, Amery\, WI\, 54001\, United States
END:VEVENT
BEGIN:VEVENT
DTSTART;TZID=UTC:20260405T080000
DTEND;TZID=UTC:20260405T093000
DTSTAMP:20260423T232004
CREATED:20260228T172859Z
LAST-MODIFIED:20260228T172859Z
UID:11573-1775376000-1775381400@eastlincolnalliance.com
SUMMARY:Easter Breakfast
DESCRIPTION:The youth will be preparing Easter breakfast for all to enjoy Easter Sunday\, April 5th from 8:00-9:30am. Free will donation\, with proceeds going to the Youth Ministry. \nPlease make us part of your Easter morning!
URL:https://eastlincolnalliance.com/event/easter-breakfast-6/
LOCATION:East Lincoln Alliance Church\, 735 70th Avenue\, Amery\, WI\, 54001\, United States
END:VEVENT
BEGIN:VEVENT
DTSTART;TZID=UTC:20260403T190000
DTEND;TZID=UTC:20260403T200000
DTSTAMP:20260423T232004
CREATED:20260228T172539Z
LAST-MODIFIED:20260228T172539Z
UID:11571-1775242800-1775246400@eastlincolnalliance.com
SUMMARY:Good Friday Service
DESCRIPTION:Journey Church (131 Broadway Street E\, Amery) will be hosting the Community Good Friday Service on Friday\, April 3rd at 7:00pm. All are welcome to attend. \nJoin together with other churches as we begin our Easter celebrations.
URL:https://eastlincolnalliance.com/event/good-friday-service-3/
LOCATION:Journey Church\, 131 Broadway Street East\, Amery\, WI\, 54001\, United States
END:VEVENT
BEGIN:VEVENT
DTSTART;TZID=UTC:20260401T180000
DTEND;TZID=UTC:20260401T200000
DTSTAMP:20260423T232004
CREATED:20260309T140534Z
LAST-MODIFIED:20260309T140534Z
UID:11720-1775066400-1775073600@eastlincolnalliance.com
SUMMARY:Son Seekers
DESCRIPTION:Son Seekers is a program for K-5th graders.  Programming is 6-8pm every Wednesday at East Lincoln Alliance Church. We will have games\, stories\, songs\, crafts.
URL:https://eastlincolnalliance.com/event/son-seekers-78/
LOCATION:East Lincoln Alliance Church\, 735 70th Avenue\, Amery\, WI\, 54001\, United States
END:VEVENT
BEGIN:VEVENT
DTSTART;TZID=UTC:20260401T180000
DTEND;TZID=UTC:20260401T200000
DTSTAMP:20260423T232004
CREATED:20260309T134536Z
LAST-MODIFIED:20260309T134536Z
UID:11702-1775066400-1775073600@eastlincolnalliance.com
SUMMARY:Recharge
DESCRIPTION:All students 6-12th grade are invited to attend.  Make sure to invite your friends!
URL:https://eastlincolnalliance.com/event/recharge-137/
LOCATION:East Lincoln Alliance Church\, 735 70th Avenue\, Amery\, WI\, 54001\, United States
END:VEVENT
BEGIN:VEVENT
DTSTART;TZID=UTC:20260401T151500
DTEND;TZID=UTC:20260401T163000
DTSTAMP:20260423T232004
CREATED:20260304T164844Z
LAST-MODIFIED:20260304T164844Z
UID:11672-1775056500-1775061000@eastlincolnalliance.com
SUMMARY:After School Good News Club
DESCRIPTION:All K-5th grade students are invited to After School Good News Club at Lien Elementary School (Amery) right after school (3:15pm) until 4:30pm every Wednesday that Amery Schools are in session. \nStudents attending the Intermediate School should ride the transfer bus to the Elementary School. Registration Forms must be filled out (below).   Questions? Contact Mary Schussman. \neastlincolnalliance.com/ninja-forms/10okpn/
URL:https://eastlincolnalliance.com/event/after-school-good-news-club-103/
LOCATION:Lien Elementary School\, 469 Minneapolis Ave S\, Amery\, WI\, 54001\, United States
END:VEVENT
BEGIN:VEVENT
DTSTART;TZID=UTC:20260331T183000
DTEND;TZID=UTC:20260331T193000
DTSTAMP:20260423T232004
CREATED:20251202T213420Z
LAST-MODIFIED:20251202T213420Z
UID:11249-1774981800-1774985400@eastlincolnalliance.com
SUMMARY:Prayer Gathering
DESCRIPTION:All are invited to join as we pray for each other\, our community and world.  Every Tuesday\, 6:30pm
URL:https://eastlincolnalliance.com/event/prayer-gathering-101/
LOCATION:East Lincoln Alliance Church\, 735 70th Avenue\, Amery\, WI\, 54001\, United States
END:VEVENT
BEGIN:VEVENT
DTSTART;TZID=UTC:20260329T113000
DTEND;TZID=UTC:20260329T140000
DTSTAMP:20260423T232004
CREATED:20260108T211227Z
LAST-MODIFIED:20260108T211227Z
UID:11404-1774783800-1774792800@eastlincolnalliance.com
SUMMARY:Single Women's Fellowship
DESCRIPTION:All single women are invited to a time of fellowship after church. We will enjoy lunch together and play games at Wendy Bachman’s.
URL:https://eastlincolnalliance.com/event/single-womens-fellowship-28/
LOCATION:WI
END:VEVENT
BEGIN:VEVENT
DTSTART;TZID=UTC:20260329T100000
DTEND;TZID=UTC:20260329T111500
DTSTAMP:20260423T232004
CREATED:20251202T212510Z
LAST-MODIFIED:20251202T212510Z
UID:11223-1774778400-1774782900@eastlincolnalliance.com
SUMMARY:Worship Service
DESCRIPTION:We offer the following services for kids during the Worship Service: \nEarly Childhood care for 1-3 year olds in the East Wing \n4 years old-Kindergarten in the West Wing (Discovery Land) \n1st-5th Grade in the East Wing (Discovery Land)
URL:https://eastlincolnalliance.com/event/worship-service-195/
LOCATION:East Lincoln Alliance Church\, 735 70th Avenue\, Amery\, WI\, 54001\, United States
END:VEVENT
END:VCALENDAR