BEGIN:VCALENDAR
VERSION:2.0
PRODID:-//East Lincoln Alliance Church - ECPv6.15.20//NONSGML v1.0//EN
CALSCALE:GREGORIAN
METHOD:PUBLISH
X-WR-CALNAME:East Lincoln Alliance Church
X-ORIGINAL-URL:https://eastlincolnalliance.com
X-WR-CALDESC:Events for East Lincoln Alliance Church
REFRESH-INTERVAL;VALUE=DURATION:PT1H
X-Robots-Tag:noindex
X-PUBLISHED-TTL:PT1H
BEGIN:VTIMEZONE
TZID:UTC
BEGIN:STANDARD
TZOFFSETFROM:+0000
TZOFFSETTO:+0000
TZNAME:UTC
DTSTART:20170101T000000
END:STANDARD
END:VTIMEZONE
BEGIN:VEVENT
DTSTART;TZID=UTC:20180305T190000
DTEND;TZID=UTC:20180305T213000
DTSTAMP:20260424T113954
CREATED:20180224T021605Z
LAST-MODIFIED:20180327T155918Z
UID:3694-1520276400-1520285400@eastlincolnalliance.com
SUMMARY:Elders Meeting
DESCRIPTION:
URL:https://eastlincolnalliance.com/event/elders-meeting/
LOCATION:East Lincoln Alliance Church\, 735 70th Avenue\, Amery\, WI\, 54001\, United States
CATEGORIES:Meeting
END:VEVENT
BEGIN:VEVENT
DTSTART;TZID=UTC:20180304T170000
DTEND;TZID=UTC:20180304T190000
DTSTAMP:20260424T113954
CREATED:20180224T021431Z
LAST-MODIFIED:20180224T021431Z
UID:3689-1520182800-1520190000@eastlincolnalliance.com
SUMMARY:Farewell to the Hoffmans
DESCRIPTION:
URL:https://eastlincolnalliance.com/event/farewell-to-the-hoffmans/
LOCATION:Parsonage\, 737 70th Avenue Co Rd J\, Amery\, WI\, 54001\, United States
CATEGORIES:Gathering
END:VEVENT
BEGIN:VEVENT
DTSTART;TZID=UTC:20180304T170000
DTEND;TZID=UTC:20180304T180000
DTSTAMP:20260424T113954
CREATED:20180224T021518Z
LAST-MODIFIED:20180224T021518Z
UID:3692-1520182800-1520186400@eastlincolnalliance.com
SUMMARY:Missions Com Meets
DESCRIPTION:
URL:https://eastlincolnalliance.com/event/missions-com-meets/
LOCATION:WI
CATEGORIES:Meeting
END:VEVENT
BEGIN:VEVENT
DTSTART;TZID=UTC:20180304T093000
DTEND;TZID=UTC:20180304T103000
DTSTAMP:20260424T113954
CREATED:20180224T021052Z
LAST-MODIFIED:20180224T021052Z
UID:3681-1520155800-1520159400@eastlincolnalliance.com
SUMMARY:9:30 Worship Service and Discovery Land
DESCRIPTION:
URL:https://eastlincolnalliance.com/event/930-worship-service-discovery-land/
LOCATION:East Lincoln Alliance Church\, 735 70th Avenue\, Amery\, WI\, 54001\, United States
CATEGORIES:Sundays
END:VEVENT
END:VCALENDAR