BEGIN:VCALENDAR
VERSION:2.0
PRODID:-//East Lincoln Alliance Church - ECPv6.15.20//NONSGML v1.0//EN
CALSCALE:GREGORIAN
METHOD:PUBLISH
X-WR-CALNAME:East Lincoln Alliance Church
X-ORIGINAL-URL:https://eastlincolnalliance.com
X-WR-CALDESC:Events for East Lincoln Alliance Church
REFRESH-INTERVAL;VALUE=DURATION:PT1H
X-Robots-Tag:noindex
X-PUBLISHED-TTL:PT1H
BEGIN:VTIMEZONE
TZID:UTC
BEGIN:STANDARD
TZOFFSETFROM:+0000
TZOFFSETTO:+0000
TZNAME:UTC
DTSTART:20240101T000000
END:STANDARD
END:VTIMEZONE
BEGIN:VEVENT
DTSTART;TZID=UTC:20250323T084500
DTEND;TZID=UTC:20250323T094500
DTSTAMP:20260425T131948
CREATED:20250117T190857Z
LAST-MODIFIED:20250117T190857Z
UID:10172-1742719500-1742723100@eastlincolnalliance.com
SUMMARY:Discipleship Hour
DESCRIPTION:Join us for Discipleship Hour from 8:45-9:45am.  All 6th grade and up are invited.
URL:https://eastlincolnalliance.com/event/discipleship-hour-49/
LOCATION:East Lincoln Alliance Church\, 735 70th Avenue\, Amery\, WI\, 54001\, United States
END:VEVENT
BEGIN:VEVENT
DTSTART;VALUE=DATE:20250322
DTEND;VALUE=DATE:20250330
DTSTAMP:20260425T131948
CREATED:20250307T195303Z
LAST-MODIFIED:20250307T195303Z
UID:10359-1742601600-1743292799@eastlincolnalliance.com
SUMMARY:Mexico Missions Trip
DESCRIPTION:
URL:https://eastlincolnalliance.com/event/mexico-missions-trip/
END:VEVENT
BEGIN:VEVENT
DTSTART;TZID=UTC:20250319T180000
DTEND;TZID=UTC:20250319T200000
DTSTAMP:20260425T131948
CREATED:20241227T231835Z
LAST-MODIFIED:20241227T231835Z
UID:10124-1742407200-1742414400@eastlincolnalliance.com
SUMMARY:Recharge
DESCRIPTION:All students 6-12th grade are invited to attend.  Make sure to invite your friends!
URL:https://eastlincolnalliance.com/event/recharge-107/
LOCATION:East Lincoln Alliance Church\, 735 70th Avenue\, Amery\, WI\, 54001\, United States
END:VEVENT
BEGIN:VEVENT
DTSTART;TZID=UTC:20250319T180000
DTEND;TZID=UTC:20250319T200000
DTSTAMP:20260425T131948
CREATED:20241227T230327Z
LAST-MODIFIED:20241227T230327Z
UID:10090-1742407200-1742414400@eastlincolnalliance.com
SUMMARY:Son Seekers
DESCRIPTION:Son Seekers is a program for K-5th graders.  Programming is 6-8pm every Wednesday at East Lincoln Alliance Church. We will have games\, stories\, songs\, crafts.
URL:https://eastlincolnalliance.com/event/son-seekers-44/
LOCATION:East Lincoln Alliance Church\, 735 70th Avenue\, Amery\, WI\, 54001\, United States
END:VEVENT
BEGIN:VEVENT
DTSTART;TZID=UTC:20250319T151500
DTEND;TZID=UTC:20250319T163000
DTSTAMP:20260425T131948
CREATED:20250418T184915Z
LAST-MODIFIED:20250418T184915Z
UID:10448-1742397300-1742401800@eastlincolnalliance.com
SUMMARY:After School Good News Club
DESCRIPTION:After School Good News Club starts on Wednesday\, September 11th at Lien Elementary School (Amery) right after school (3:15pm) until 4:30pm and will continue every Wednesday that Amery Schools are in session. \nGood News Club is open to students Kindergarten to 5th grade. Students attending the Intermediate School should ride the transfer bus to the Elementary School. Registration Forms must be filled out (below).   Questions? Contact Mary Schussman. \neastlincolnalliance.com/ninja-forms/10okpn/
URL:https://eastlincolnalliance.com/event/after-school-good-news-club-78/
LOCATION:Lien Elementary School\, 469 Minneapolis Ave S\, Amery\, WI\, 54001\, United States
END:VEVENT
BEGIN:VEVENT
DTSTART;TZID=UTC:20250318T183000
DTEND;TZID=UTC:20250318T193000
DTSTAMP:20260425T131948
CREATED:20250307T191924Z
LAST-MODIFIED:20250307T191924Z
UID:10291-1742322600-1742326200@eastlincolnalliance.com
SUMMARY:Prayer Gathering
DESCRIPTION:All are invited to join as we pray for each other\, our community and world.  Every Tuesday\, 6:30pm
URL:https://eastlincolnalliance.com/event/prayer-gathering-51/
LOCATION:East Lincoln Alliance Church\, 735 70th Avenue\, Amery\, WI\, 54001\, United States
END:VEVENT
BEGIN:VEVENT
DTSTART;TZID=UTC:20250317T180000
DTEND;TZID=UTC:20250317T203000
DTSTAMP:20260425T131948
CREATED:20250113T191146Z
LAST-MODIFIED:20250113T191146Z
UID:10151-1742234400-1742243400@eastlincolnalliance.com
SUMMARY:Elder Meeting
DESCRIPTION:
URL:https://eastlincolnalliance.com/event/elder-meeting-9/
END:VEVENT
BEGIN:VEVENT
DTSTART;TZID=UTC:20250316T113000
DTEND;TZID=UTC:20250316T133000
DTSTAMP:20260425T131948
CREATED:20250307T182824Z
LAST-MODIFIED:20250307T182824Z
UID:10287-1742124600-1742131800@eastlincolnalliance.com
SUMMARY:Missions Fundraiser Meal
DESCRIPTION:The Missions Committee is hosting a fundraiser meal on Sunday\, March 16th right after church.  The funds raised will go to support our mission efforts around the world.  This meal will help raise funds to spread the love and hope of Jesus!
URL:https://eastlincolnalliance.com/event/missions-fundraiser-meal-3/
LOCATION:East Lincoln Alliance Church\, 735 70th Avenue\, Amery\, WI\, 54001\, United States
END:VEVENT
BEGIN:VEVENT
DTSTART;TZID=UTC:20250316T100000
DTEND;TZID=UTC:20250316T111500
DTSTAMP:20260425T131948
CREATED:20241216T174938Z
LAST-MODIFIED:20241216T174938Z
UID:10050-1742119200-1742123700@eastlincolnalliance.com
SUMMARY:Worship Service
DESCRIPTION:We welcome you to our regular worship service every Sunday @ 10:00am.\n\n\n\nWe offer the following services for kids during the Worship Service: \nEarly Childhood care for 1-3 year olds in the East Wing \n4 years old-Kindergarten in the West Wing (Discovery Land) \n1st-5th Grade in the East Wing (Discovery Land)
URL:https://eastlincolnalliance.com/event/worship-service-144/
LOCATION:East Lincoln Alliance Church\, 735 70th Avenue\, Amery\, WI\, 54001\, United States
END:VEVENT
BEGIN:VEVENT
DTSTART;TZID=UTC:20250316T084500
DTEND;TZID=UTC:20250316T094500
DTSTAMP:20260425T131948
CREATED:20250117T190833Z
LAST-MODIFIED:20250117T190833Z
UID:10170-1742114700-1742118300@eastlincolnalliance.com
SUMMARY:Discipleship Hour
DESCRIPTION:Join us for Discipleship Hour from 8:45-9:45am.  All 6th grade and up are invited.
URL:https://eastlincolnalliance.com/event/discipleship-hour-48/
LOCATION:East Lincoln Alliance Church\, 735 70th Avenue\, Amery\, WI\, 54001\, United States
END:VEVENT
BEGIN:VEVENT
DTSTART;TZID=UTC:20250315T173000
DTEND;TZID=UTC:20250315T200000
DTSTAMP:20260425T131948
CREATED:20250117T190210Z
LAST-MODIFIED:20250117T190210Z
UID:10164-1742059800-1742068800@eastlincolnalliance.com
SUMMARY:Dinners for Six
DESCRIPTION:All women are invited to gather and grow together at our next Dinners for Six.  Sign up to be a hostess or a guest for Saturday\, March 15th at 5:30pm.
URL:https://eastlincolnalliance.com/event/dinners-for-six-3/
END:VEVENT
BEGIN:VEVENT
DTSTART;TZID=UTC:20250315T170000
DTEND;TZID=UTC:20250315T200000
DTSTAMP:20260425T131948
CREATED:20250224T185039Z
LAST-MODIFIED:20250224T185039Z
UID:10269-1742058000-1742068800@eastlincolnalliance.com
SUMMARY:Mexico Missions Team Dinner
DESCRIPTION:
URL:https://eastlincolnalliance.com/event/mexico-missions-team-dinner/
LOCATION:East Lincoln Alliance Church\, 735 70th Avenue\, Amery\, WI\, 54001\, United States
END:VEVENT
BEGIN:VEVENT
DTSTART;TZID=UTC:20250315T120000
DTEND;TZID=UTC:20250315T133000
DTSTAMP:20260425T131948
CREATED:20250307T182716Z
LAST-MODIFIED:20250307T182716Z
UID:10285-1742040000-1742045400@eastlincolnalliance.com
SUMMARY:Hi Rise Meal
DESCRIPTION:We will be serving our monthly meal to the residents of the Amery Hi-Rise on Saturday\, March 15th at 12pm. We are looking for help with the meal\, this month – BREAKFAST!  There is a sign-up sheet at the Info Table if you can help provide any of the food items. \nFood can be dropped off at the Hi-Rise (300 Harriman Ave N\, Amery) on the 15th at 11:30am or text Kim Davis for alternate arrangements (320-266-4859). \nWe are also needing 5-7 people to help set up\, serve food/mingle and clean up. Please arrive at the Hi-Rise at 11:30am and should be done between 1-1:30pm. \nThere is a sign-up sheet at the Information Table at church\, or contact the church office to get your name added.  Any questions\, contact Kim Davis at 320-266-4859 or any of the planning team.
URL:https://eastlincolnalliance.com/event/hi-rise-meal-4/
LOCATION:Amery Hi Rise\, 300 Harriman Ave\, Amery\, 54001\, United States
END:VEVENT
BEGIN:VEVENT
DTSTART;TZID=UTC:20250314T180000
DTEND;TZID=UTC:20250314T200000
DTSTAMP:20260425T131948
CREATED:20250221T182559Z
LAST-MODIFIED:20250221T182559Z
UID:10250-1741975200-1741982400@eastlincolnalliance.com
SUMMARY:Grace Marriage
DESCRIPTION:
URL:https://eastlincolnalliance.com/event/grace-marriage-2/
LOCATION:East Lincoln Alliance Church\, 735 70th Avenue\, Amery\, WI\, 54001\, United States
END:VEVENT
BEGIN:VEVENT
DTSTART;TZID=UTC:20250312T180000
DTEND;TZID=UTC:20250312T200000
DTSTAMP:20260425T131948
CREATED:20241227T231813Z
LAST-MODIFIED:20241227T231813Z
UID:10122-1741802400-1741809600@eastlincolnalliance.com
SUMMARY:Recharge
DESCRIPTION:All students 6-12th grade are invited to attend.  Make sure to invite your friends!
URL:https://eastlincolnalliance.com/event/recharge-106/
LOCATION:East Lincoln Alliance Church\, 735 70th Avenue\, Amery\, WI\, 54001\, United States
END:VEVENT
BEGIN:VEVENT
DTSTART;TZID=UTC:20250312T180000
DTEND;TZID=UTC:20250312T200000
DTSTAMP:20260425T131948
CREATED:20241227T230307Z
LAST-MODIFIED:20241227T230307Z
UID:10088-1741802400-1741809600@eastlincolnalliance.com
SUMMARY:Son Seekers
DESCRIPTION:Son Seekers is a program for K-5th graders.  Programming is 6-8pm every Wednesday at East Lincoln Alliance Church. We will have games\, stories\, songs\, crafts.
URL:https://eastlincolnalliance.com/event/son-seekers-43/
LOCATION:East Lincoln Alliance Church\, 735 70th Avenue\, Amery\, WI\, 54001\, United States
END:VEVENT
BEGIN:VEVENT
DTSTART;TZID=UTC:20250312T151500
DTEND;TZID=UTC:20250312T163000
DTSTAMP:20260425T131948
CREATED:20250418T184848Z
LAST-MODIFIED:20250418T184848Z
UID:10446-1741792500-1741797000@eastlincolnalliance.com
SUMMARY:After School Good News Club
DESCRIPTION:After School Good News Club starts on Wednesday\, September 11th at Lien Elementary School (Amery) right after school (3:15pm) until 4:30pm and will continue every Wednesday that Amery Schools are in session. \nGood News Club is open to students Kindergarten to 5th grade. Students attending the Intermediate School should ride the transfer bus to the Elementary School. Registration Forms must be filled out (below).   Questions? Contact Mary Schussman. \neastlincolnalliance.com/ninja-forms/10okpn/
URL:https://eastlincolnalliance.com/event/after-school-good-news-club-77/
LOCATION:Lien Elementary School\, 469 Minneapolis Ave S\, Amery\, WI\, 54001\, United States
END:VEVENT
BEGIN:VEVENT
DTSTART;TZID=UTC:20250311T183000
DTEND;TZID=UTC:20250311T193000
DTSTAMP:20260425T131948
CREATED:20250307T191901Z
LAST-MODIFIED:20250307T191901Z
UID:10289-1741717800-1741721400@eastlincolnalliance.com
SUMMARY:Prayer Gathering
DESCRIPTION:All are invited to join as we pray for each other\, our community and world.  Every Tuesday\, 6:30pm
URL:https://eastlincolnalliance.com/event/prayer-gathering-41/
LOCATION:East Lincoln Alliance Church\, 735 70th Avenue\, Amery\, WI\, 54001\, United States
END:VEVENT
BEGIN:VEVENT
DTSTART;TZID=UTC:20250309T100000
DTEND;TZID=UTC:20250309T111500
DTSTAMP:20260425T131948
CREATED:20241216T174913Z
LAST-MODIFIED:20241216T174913Z
UID:10048-1741514400-1741518900@eastlincolnalliance.com
SUMMARY:Worship Service
DESCRIPTION:We welcome you to our regular worship service every Sunday @ 10:00am.\n\n\n\nWe offer the following services for kids during the Worship Service: \nEarly Childhood care for 1-3 year olds in the East Wing \n4 years old-Kindergarten in the West Wing (Discovery Land) \n1st-5th Grade in the East Wing (Discovery Land)
URL:https://eastlincolnalliance.com/event/worship-service-143/
LOCATION:East Lincoln Alliance Church\, 735 70th Avenue\, Amery\, WI\, 54001\, United States
END:VEVENT
BEGIN:VEVENT
DTSTART;TZID=UTC:20250309T084500
DTEND;TZID=UTC:20250309T094500
DTSTAMP:20260425T131948
CREATED:20241216T164732Z
LAST-MODIFIED:20241216T164732Z
UID:10022-1741509900-1741513500@eastlincolnalliance.com
SUMMARY:Discipleship Hour
DESCRIPTION:Join us for Discipleship Hour from 8:45-9:45am.  All 6th grade and up are invited.
URL:https://eastlincolnalliance.com/event/discipleship-hour-45/
LOCATION:East Lincoln Alliance Church\, 735 70th Avenue\, Amery\, WI\, 54001\, United States
END:VEVENT
BEGIN:VEVENT
DTSTART;TZID=UTC:20250307T160000
DTEND;TZID=UTC:20250308T150000
DTSTAMP:20260425T131948
CREATED:20250221T214516Z
LAST-MODIFIED:20250221T214516Z
UID:10261-1741363200-1741446000@eastlincolnalliance.com
SUMMARY:Youth Lock-In & 30-hour Famine
DESCRIPTION:All youth 6th-12 grade are invited to enjoy a 30 hour famine and church lock-in on March 7-8th. \nWe will be partnering with United Covenant Church in Clear Lake.  There will be a Food Drive competition – boys vs girls\, each group (team) will travel around the Amery and Clear Lake communities and gather food to donate to the Amery Food shelf.  Please let Kent know if you are able to drive groups around the area! \nMust register by February 26th.  See Kent Tollakson for more details!
URL:https://eastlincolnalliance.com/event/youth-lock-in-30-hour-famine/
LOCATION:East Lincoln Alliance Church\, 735 70th Avenue\, Amery\, WI\, 54001\, United States
END:VEVENT
BEGIN:VEVENT
DTSTART;TZID=UTC:20250305T180000
DTEND;TZID=UTC:20250305T200000
DTSTAMP:20260425T131948
CREATED:20241227T231755Z
LAST-MODIFIED:20241227T231755Z
UID:10120-1741197600-1741204800@eastlincolnalliance.com
SUMMARY:Recharge
DESCRIPTION:All students 6-12th grade are invited to attend.  Make sure to invite your friends!
URL:https://eastlincolnalliance.com/event/recharge-105/
LOCATION:East Lincoln Alliance Church\, 735 70th Avenue\, Amery\, WI\, 54001\, United States
END:VEVENT
BEGIN:VEVENT
DTSTART;TZID=UTC:20250305T180000
DTEND;TZID=UTC:20250305T200000
DTSTAMP:20260425T131948
CREATED:20241227T230245Z
LAST-MODIFIED:20241227T230245Z
UID:10086-1741197600-1741204800@eastlincolnalliance.com
SUMMARY:Son Seekers
DESCRIPTION:Son Seekers is a program for K-5th graders.  Programming is 6-8pm every Wednesday at East Lincoln Alliance Church. We will have games\, stories\, songs\, crafts.
URL:https://eastlincolnalliance.com/event/son-seekers-42/
LOCATION:East Lincoln Alliance Church\, 735 70th Avenue\, Amery\, WI\, 54001\, United States
END:VEVENT
BEGIN:VEVENT
DTSTART;TZID=UTC:20250305T151500
DTEND;TZID=UTC:20250305T163000
DTSTAMP:20260425T131948
CREATED:20250418T184823Z
LAST-MODIFIED:20250418T184823Z
UID:10444-1741187700-1741192200@eastlincolnalliance.com
SUMMARY:After School Good News Club
DESCRIPTION:After School Good News Club starts on Wednesday\, September 11th at Lien Elementary School (Amery) right after school (3:15pm) until 4:30pm and will continue every Wednesday that Amery Schools are in session. \nGood News Club is open to students Kindergarten to 5th grade. Students attending the Intermediate School should ride the transfer bus to the Elementary School. Registration Forms must be filled out (below).   Questions? Contact Mary Schussman. \neastlincolnalliance.com/ninja-forms/10okpn/
URL:https://eastlincolnalliance.com/event/after-school-good-news-club-76/
LOCATION:Lien Elementary School\, 469 Minneapolis Ave S\, Amery\, WI\, 54001\, United States
END:VEVENT
BEGIN:VEVENT
DTSTART;TZID=UTC:20250304T183000
DTEND;TZID=UTC:20250304T193000
DTSTAMP:20260425T131948
CREATED:20241118T163945Z
LAST-MODIFIED:20241118T163945Z
UID:9967-1741113000-1741116600@eastlincolnalliance.com
SUMMARY:Prayer Gathering
DESCRIPTION:All are invited to join as we pray for each other\, our community and world.  Every Tuesday\, 6:30pm
URL:https://eastlincolnalliance.com/event/prayer-gathering-50/
LOCATION:East Lincoln Alliance Church\, 735 70th Avenue\, Amery\, WI\, 54001\, United States
END:VEVENT
BEGIN:VEVENT
DTSTART;TZID=UTC:20250302T100000
DTEND;TZID=UTC:20250302T111500
DTSTAMP:20260425T131948
CREATED:20241216T174849Z
LAST-MODIFIED:20241216T174849Z
UID:10046-1740909600-1740914100@eastlincolnalliance.com
SUMMARY:Worship Service
DESCRIPTION:We welcome you to our regular worship service every Sunday @ 10:00am.\n\n\n\nWe offer the following services for kids during the Worship Service: \nEarly Childhood care for 1-3 year olds in the East Wing \n4 years old-Kindergarten in the West Wing (Discovery Land) \n1st-5th Grade in the East Wing (Discovery Land)
URL:https://eastlincolnalliance.com/event/worship-service-142/
LOCATION:East Lincoln Alliance Church\, 735 70th Avenue\, Amery\, WI\, 54001\, United States
END:VEVENT
BEGIN:VEVENT
DTSTART;TZID=UTC:20250302T084500
DTEND;TZID=UTC:20250302T094500
DTSTAMP:20260425T131948
CREATED:20241216T164703Z
LAST-MODIFIED:20241216T164703Z
UID:10020-1740905100-1740908700@eastlincolnalliance.com
SUMMARY:Discipleship Hour
DESCRIPTION:Join us for Discipleship Hour from 8:45-9:45am.  All 6th grade and up are invited.
URL:https://eastlincolnalliance.com/event/discipleship-hour-44/
LOCATION:East Lincoln Alliance Church\, 735 70th Avenue\, Amery\, WI\, 54001\, United States
END:VEVENT
BEGIN:VEVENT
DTSTART;TZID=UTC:20250301T090000
DTEND;TZID=UTC:20250301T120000
DTSTAMP:20260425T131948
CREATED:20250120T184021Z
LAST-MODIFIED:20250120T184021Z
UID:10198-1740819600-1740830400@eastlincolnalliance.com
SUMMARY:Gather 25
DESCRIPTION:GATHER 25 is a GATHERING OF THE GLOBAL CHURCH \nVIA SIMULCAST \nto seek God\, worship God\, pray to God\, and repent to God TOGETHER \n~INVITE YOUR FRIENDS AND NEIGHBORS~ \nWe will watch part of the simulcast on \nSATURDAY\, MARCH 1ST\, in the fellowship hall starting at 9:00 am \nWe will eat together around 11:30 (bring a bag lunch). \nWe will have extended prayer after lunch for God’s Will for: \n\nOur World\nOur Country\nOur Church\nOur Cities\nOur Families
URL:https://eastlincolnalliance.com/event/gather-25/
LOCATION:East Lincoln Alliance Church\, 735 70th Avenue\, Amery\, WI\, 54001\, United States
END:VEVENT
BEGIN:VEVENT
DTSTART;TZID=UTC:20250226T180000
DTEND;TZID=UTC:20250226T200000
DTSTAMP:20260425T131948
CREATED:20241227T231737Z
LAST-MODIFIED:20241227T231737Z
UID:10118-1740592800-1740600000@eastlincolnalliance.com
SUMMARY:Recharge
DESCRIPTION:All students 6-12th grade are invited to attend.  Make sure to invite your friends!
URL:https://eastlincolnalliance.com/event/recharge-104/
LOCATION:East Lincoln Alliance Church\, 735 70th Avenue\, Amery\, WI\, 54001\, United States
END:VEVENT
BEGIN:VEVENT
DTSTART;TZID=UTC:20250226T180000
DTEND;TZID=UTC:20250226T200000
DTSTAMP:20260425T131948
CREATED:20241227T230224Z
LAST-MODIFIED:20241227T230224Z
UID:10084-1740592800-1740600000@eastlincolnalliance.com
SUMMARY:Son Seekers
DESCRIPTION:Son Seekers is a program for K-5th graders.  Programming is 6-8pm every Wednesday at East Lincoln Alliance Church. We will have games\, stories\, songs\, crafts.
URL:https://eastlincolnalliance.com/event/son-seekers-41/
LOCATION:East Lincoln Alliance Church\, 735 70th Avenue\, Amery\, WI\, 54001\, United States
END:VEVENT
END:VCALENDAR