BEGIN:VCALENDAR
VERSION:2.0
PRODID:-//East Lincoln Alliance Church - ECPv6.15.20//NONSGML v1.0//EN
CALSCALE:GREGORIAN
METHOD:PUBLISH
X-WR-CALNAME:East Lincoln Alliance Church
X-ORIGINAL-URL:https://eastlincolnalliance.com
X-WR-CALDESC:Events for East Lincoln Alliance Church
REFRESH-INTERVAL;VALUE=DURATION:PT1H
X-Robots-Tag:noindex
X-PUBLISHED-TTL:PT1H
BEGIN:VTIMEZONE
TZID:UTC
BEGIN:STANDARD
TZOFFSETFROM:+0000
TZOFFSETTO:+0000
TZNAME:UTC
DTSTART:20170101T000000
END:STANDARD
END:VTIMEZONE
BEGIN:VEVENT
DTSTART;TZID=UTC:20180811T100000
DTEND;TZID=UTC:20180811T150000
DTSTAMP:20260425T134937
CREATED:20180619T161304Z
LAST-MODIFIED:20180619T161753Z
UID:4152-1533981600-1533999600@eastlincolnalliance.com
SUMMARY:Missions Fundraiser Brat Stand
DESCRIPTION:Come to Dick’s Market and support our missionaries.
URL:https://eastlincolnalliance.com/event/missions-fundraiser-brat-stand-6/
LOCATION:Dick’s Market\, 1050 River Place Mall\, Amery\, WI\, 54001
END:VEVENT
BEGIN:VEVENT
DTSTART;TZID=UTC:20180811T090000
DTEND;TZID=UTC:20180811T160000
DTSTAMP:20260425T134937
CREATED:20180619T160248Z
LAST-MODIFIED:20180619T160248Z
UID:4145-1533978000-1534003200@eastlincolnalliance.com
SUMMARY:Women's Craft Day
DESCRIPTION:To attend\, RSVP Amanda Fisk.
URL:https://eastlincolnalliance.com/event/womens-craft-day-4/
LOCATION:East Lincoln Alliance Church\, 735 70th Avenue\, Amery\, WI\, 54001\, United States
ORGANIZER;CN="Amanda Fisk":MAILTO:annisseau@gmail.com
END:VEVENT
BEGIN:VEVENT
DTSTART;TZID=UTC:20180810T100000
DTEND;TZID=UTC:20180810T180000
DTSTAMP:20260425T134937
CREATED:20180619T161203Z
LAST-MODIFIED:20180619T161203Z
UID:4150-1533895200-1533924000@eastlincolnalliance.com
SUMMARY:Missions Fundraiser Brat Stand
DESCRIPTION:Come to Dick’s Market and support our missionaries.
URL:https://eastlincolnalliance.com/event/missions-fundraiser-brat-stand-5/
LOCATION:Dick’s Market\, 1050 River Place Mall\, Amery\, WI\, 54001
END:VEVENT
BEGIN:VEVENT
DTSTART;TZID=UTC:20180806T183000
DTEND;TZID=UTC:20180806T203000
DTSTAMP:20260425T134937
CREATED:20180619T155936Z
LAST-MODIFIED:20180619T155936Z
UID:4141-1533580200-1533587400@eastlincolnalliance.com
SUMMARY:Elders Meeting
DESCRIPTION:
URL:https://eastlincolnalliance.com/event/elders-meeting-10/
LOCATION:WI
END:VEVENT
BEGIN:VEVENT
DTSTART;TZID=UTC:20180805T170000
DTEND;TZID=UTC:20180805T203000
DTSTAMP:20260425T134937
CREATED:20180619T163646Z
LAST-MODIFIED:20180619T163646Z
UID:4156-1533488400-1533501000@eastlincolnalliance.com
SUMMARY:Baptismal Service & Potluck
DESCRIPTION:Potluck at 5 pm\, Service at 6 pm with campfire to follow.
URL:https://eastlincolnalliance.com/event/baptismal-service-potluck/
LOCATION:Clear Lake Park\, Clear Lake\, WI\, United States
END:VEVENT
BEGIN:VEVENT
DTSTART;TZID=UTC:20180805T093000
DTEND;TZID=UTC:20180805T104500
DTSTAMP:20260425T134937
CREATED:20180619T155153Z
LAST-MODIFIED:20180619T155336Z
UID:4133-1533461400-1533465900@eastlincolnalliance.com
SUMMARY:Worship Service & Discovery Land
DESCRIPTION:Nursery is provided during the Worship Service for 1-3 year olds.  Discovery Land for Kids is available during the Worship Service for ages 4 years – 5th grade. \n 
URL:https://eastlincolnalliance.com/event/worship-service-discovery-land-17/
LOCATION:East Lincoln Alliance Church\, 735 70th Avenue\, Amery\, WI\, 54001\, United States
END:VEVENT
BEGIN:VEVENT
DTSTART;TZID=UTC:20180804T140000
DTEND;TZID=UTC:20180804T200000
DTSTAMP:20260425T134937
CREATED:20180619T160359Z
LAST-MODIFIED:20180716T141342Z
UID:4147-1533391200-1533412800@eastlincolnalliance.com
SUMMARY:Hope aLive Event
DESCRIPTION:Join us for games & activities\, followed by brats and grilled corn on the cob.  After dinner\, the East Lincoln Band will open\, followed by a featured performance by  Square One Band.
URL:https://eastlincolnalliance.com/event/music-concert/
LOCATION:Michael Park\, 132 Central Street\, Amery\, WI\, 54001\, United States
END:VEVENT
BEGIN:VEVENT
DTSTART;TZID=UTC:20180730T183000
DTEND;TZID=UTC:20180730T193000
DTSTAMP:20260425T134937
CREATED:20180709T152239Z
LAST-MODIFIED:20180709T152743Z
UID:4196-1532975400-1532979000@eastlincolnalliance.com
SUMMARY:Prayer Walk @ Michael Park
DESCRIPTION:Join the Prayer Team as they pray for the Hope aLive Event.
URL:https://eastlincolnalliance.com/event/prayer-walk-2/
LOCATION:Michael Park\, 132 Central Street\, Amery\, WI\, 54001\, United States
END:VEVENT
BEGIN:VEVENT
DTSTART;TZID=UTC:20180729T110000
DTEND;TZID=UTC:20180729T113000
DTSTAMP:20260425T134937
CREATED:20180614T163014Z
LAST-MODIFIED:20180614T163014Z
UID:4106-1532862000-1532863800@eastlincolnalliance.com
SUMMARY:Youth Ministry Volunteers Meeting
DESCRIPTION:
URL:https://eastlincolnalliance.com/event/youth-ministry-volunteers-meeting-2/
LOCATION:East Lincoln Alliance Church\, 735 70th Avenue\, Amery\, WI\, 54001\, United States
ORGANIZER;CN="Kent Tollakson":MAILTO:cornerstonecounsel@gmail.com
END:VEVENT
BEGIN:VEVENT
DTSTART;TZID=UTC:20180729T093000
DTEND;TZID=UTC:20180729T104500
DTSTAMP:20260425T134937
CREATED:20180517T150713Z
LAST-MODIFIED:20180517T150713Z
UID:4060-1532856600-1532861100@eastlincolnalliance.com
SUMMARY:Worship Service & Discovery Land
DESCRIPTION:Nursery is provided during the Worship Service for 1-3 year olds.  Discovery Land for Kids is available during the Worship Service for ages 4 years – 5th grade.
URL:https://eastlincolnalliance.com/event/worship-service-discovery-land-16/
LOCATION:WI
END:VEVENT
BEGIN:VEVENT
DTSTART;TZID=UTC:20180727T123000
DTEND;TZID=UTC:20180727T140000
DTSTAMP:20260425T134937
CREATED:20180621T153225Z
LAST-MODIFIED:20180621T153225Z
UID:4173-1532694600-1532700000@eastlincolnalliance.com
SUMMARY:CEF 5 Day Club
DESCRIPTION:For kids ages 5 to 12.  Free lunch for kids from 11:15 am – 12:30 pm.
URL:https://eastlincolnalliance.com/event/cef-5-day-club-4/
LOCATION:Amery Intermediate School\, 543 Minneapolis Avenue\, Amery\, WI\, 54001
END:VEVENT
BEGIN:VEVENT
DTSTART;TZID=UTC:20180726T123000
DTEND;TZID=UTC:20180726T140000
DTSTAMP:20260425T134937
CREATED:20180621T153122Z
LAST-MODIFIED:20180621T153122Z
UID:4171-1532608200-1532613600@eastlincolnalliance.com
SUMMARY:CEF 5 Day Club
DESCRIPTION:For kids ages 5 to 12.  Free lunch for kids from 11:15 am – 12:30 pm.
URL:https://eastlincolnalliance.com/event/cef-5-day-club-3/
LOCATION:Amery Intermediate School\, 543 Minneapolis Avenue\, Amery\, WI\, 54001
END:VEVENT
BEGIN:VEVENT
DTSTART;TZID=UTC:20180725T200000
DTEND;TZID=UTC:20180725T230000
DTSTAMP:20260425T134937
CREATED:20180709T162552Z
LAST-MODIFIED:20180709T162552Z
UID:4202-1532548800-1532559600@eastlincolnalliance.com
SUMMARY:Survivor in the Dark
DESCRIPTION:All middle school and high school students are invited to Survivor in the Dark.  Parents are encouraged to come and hang out around the campfire.
URL:https://eastlincolnalliance.com/event/survivor-in-the-dark/
LOCATION:Tollakson’s\, 896 105th Avenue\, Amery\, WI\, 54001
ORGANIZER;CN="Kent Tollakson":MAILTO:cornerstonecounsel@gmail.com
END:VEVENT
BEGIN:VEVENT
DTSTART;TZID=UTC:20180725T123000
DTEND;TZID=UTC:20180725T140000
DTSTAMP:20260425T134937
CREATED:20180621T153012Z
LAST-MODIFIED:20180621T153012Z
UID:4169-1532521800-1532527200@eastlincolnalliance.com
SUMMARY:CEF 5 Day Club
DESCRIPTION:For kids ages 5 to 12.  Free lunch for kids from 11:15 am – 12:30 pm.
URL:https://eastlincolnalliance.com/event/cef-5-day-club-2/
LOCATION:Amery Intermediate School\, 543 Minneapolis Avenue\, Amery\, WI\, 54001
END:VEVENT
BEGIN:VEVENT
DTSTART;TZID=UTC:20180724T123000
DTEND;TZID=UTC:20180724T140000
DTSTAMP:20260425T134937
CREATED:20180621T152123Z
LAST-MODIFIED:20180621T152322Z
UID:4159-1532435400-1532440800@eastlincolnalliance.com
SUMMARY:CEF 5-Day Club
DESCRIPTION:For kids ages 5 to 12.  Free lunch for kids from 11:15 am – 12:30 pm.
URL:https://eastlincolnalliance.com/event/5-day-club/
LOCATION:Amery Intermediate School\, 543 Minneapolis Avenue\, Amery\, WI\, 54001
END:VEVENT
BEGIN:VEVENT
DTSTART;TZID=UTC:20180723T183000
DTEND;TZID=UTC:20180723T203000
DTSTAMP:20260425T134937
CREATED:20180517T145939Z
LAST-MODIFIED:20180517T150814Z
UID:4050-1532370600-1532377800@eastlincolnalliance.com
SUMMARY:Elders Meeting
DESCRIPTION:
URL:https://eastlincolnalliance.com/event/elders-meeting-9/
LOCATION:Pure-N-Simple\, 867 US Highway 8\, Amery\, WI\, 54001\, United States
END:VEVENT
BEGIN:VEVENT
DTSTART;TZID=UTC:20180723T123000
DTEND;TZID=UTC:20180723T140000
DTSTAMP:20260425T134937
CREATED:20180621T152535Z
LAST-MODIFIED:20180621T152818Z
UID:4166-1532349000-1532354400@eastlincolnalliance.com
SUMMARY:CEF 5 Day Club
DESCRIPTION:For kids ages 5 to 12.  Free lunch for kids from 11:15 am – 12:30 pm. \n  \n  \n  \n  \n  \n  \n  \n  \n  \n  \n  \n  \n  \n  \n  \n  \n  \n  \n  \n  \n  \n  \n  \n  \n  \n  \n  \n  \n  \n  \n  \n  \n 
URL:https://eastlincolnalliance.com/event/cef-5-day-club/
LOCATION:Amery Intermediate School\, 543 Minneapolis Avenue\, Amery\, WI\, 54001
END:VEVENT
BEGIN:VEVENT
DTSTART;TZID=UTC:20180722T110000
DTEND;TZID=UTC:20180722T123000
DTSTAMP:20260425T134937
CREATED:20180615T152001Z
LAST-MODIFIED:20180615T152325Z
UID:4110-1532257200-1532262600@eastlincolnalliance.com
SUMMARY:Bridal Shower for Beth Hutchens
DESCRIPTION:
URL:https://eastlincolnalliance.com/event/bridal-shower-for-beth-hutchens/
LOCATION:East Lincoln Alliance Church\, 735 70th Avenue\, Amery\, WI\, 54001\, United States
END:VEVENT
BEGIN:VEVENT
DTSTART;TZID=UTC:20180722T110000
DTEND;TZID=UTC:20180722T113000
DTSTAMP:20260425T134937
CREATED:20180614T162913Z
LAST-MODIFIED:20180614T162913Z
UID:4104-1532257200-1532259000@eastlincolnalliance.com
SUMMARY:Youth Ministry Volunteers Meeting
DESCRIPTION:
URL:https://eastlincolnalliance.com/event/youth-ministry-volunteers-meeting/
LOCATION:East Lincoln Alliance Church\, 735 70th Avenue\, Amery\, WI\, 54001\, United States
ORGANIZER;CN="Kent Tollakson":MAILTO:cornerstonecounsel@gmail.com
END:VEVENT
BEGIN:VEVENT
DTSTART;TZID=UTC:20180722T093000
DTEND;TZID=UTC:20180722T104500
DTSTAMP:20260425T134937
CREATED:20180517T150606Z
LAST-MODIFIED:20180615T152246Z
UID:4058-1532251800-1532256300@eastlincolnalliance.com
SUMMARY:Worship Service & Discovery Land
DESCRIPTION:Nursery is provided during the Worship Service for 1-3 year olds.  Discovery Land for Kids is available during the Worship Service for ages 4 years – 5th grade.
URL:https://eastlincolnalliance.com/event/worship-service-discovery-land-15/
LOCATION:WI
END:VEVENT
BEGIN:VEVENT
DTSTART;TZID=UTC:20180715T110000
DTEND;TZID=UTC:20180715T120000
DTSTAMP:20260425T134937
CREATED:20180525T151459Z
LAST-MODIFIED:20180614T164204Z
UID:4074-1531652400-1531656000@eastlincolnalliance.com
SUMMARY:Women's Ministry Meeting
DESCRIPTION:
URL:https://eastlincolnalliance.com/event/womens-ministry-meeting-4/
LOCATION:WI
END:VEVENT
BEGIN:VEVENT
DTSTART;TZID=UTC:20180715T093000
DTEND;TZID=UTC:20180715T104500
DTSTAMP:20260425T134937
CREATED:20180517T150457Z
LAST-MODIFIED:20180614T163908Z
UID:4056-1531647000-1531651500@eastlincolnalliance.com
SUMMARY:Worship Service & Discovery Land
DESCRIPTION:Nursery is provided during the Worship Service for 1-3 year olds.  Discovery Land for Kids is available during the Worship Service for ages 4 years – 5th grade.
URL:https://eastlincolnalliance.com/event/worship-service-discovery-land-14/
LOCATION:East Lincoln Alliance Church\, 735 70th Avenue\, Amery\, WI\, 54001\, United States
END:VEVENT
BEGIN:VEVENT
DTSTART;TZID=UTC:20180714T100000
DTEND;TZID=UTC:20180714T150000
DTSTAMP:20260425T134937
CREATED:20180607T155908Z
LAST-MODIFIED:20180614T163729Z
UID:4090-1531562400-1531580400@eastlincolnalliance.com
SUMMARY:Missions Fundraiser Brat Stand
DESCRIPTION:Come to Dick’s Market and support our missionaries.
URL:https://eastlincolnalliance.com/event/missions-fundraiser-brat-stand-3/
LOCATION:Dick’s Market\, 1050 River Place Mall\, Amery\, WI\, 54001
END:VEVENT
BEGIN:VEVENT
DTSTART;TZID=UTC:20180714T090000
DTEND;TZID=UTC:20180714T160000
DTSTAMP:20260425T134937
CREATED:20180517T151338Z
LAST-MODIFIED:20180517T151338Z
UID:4066-1531558800-1531584000@eastlincolnalliance.com
SUMMARY:Women's Craft Day
DESCRIPTION:To attend\, RSVP Amanda Fisk.
URL:https://eastlincolnalliance.com/event/womens-craft-day-3/
LOCATION:East Lincoln Alliance Church\, 735 70th Avenue\, Amery\, WI\, 54001\, United States
ORGANIZER;CN="Amanda Fisk":MAILTO:annisseau@gmail.com
END:VEVENT
BEGIN:VEVENT
DTSTART;TZID=UTC:20180713T100000
DTEND;TZID=UTC:20180713T180000
DTSTAMP:20260425T134937
CREATED:20180607T160330Z
LAST-MODIFIED:20180607T160330Z
UID:4092-1531476000-1531504800@eastlincolnalliance.com
SUMMARY:Missions Fundraiser Brat Stand
DESCRIPTION:Come to Dick’s Market and support our missionaries.
URL:https://eastlincolnalliance.com/event/missions-fundraiser-brat-stand-4/
LOCATION:Dick’s Market\, 1050 River Place Mall\, Amery\, WI\, 54001
END:VEVENT
BEGIN:VEVENT
DTSTART;TZID=UTC:20180711T100000
DTEND;TZID=UTC:20180711T110000
DTSTAMP:20260425T134937
CREATED:20180709T152110Z
LAST-MODIFIED:20180709T152850Z
UID:4194-1531303200-1531306800@eastlincolnalliance.com
SUMMARY:Prayer Walk @ Michael Park
DESCRIPTION:Join the Prayer Team as they pray for the Hope aLive Event.
URL:https://eastlincolnalliance.com/event/prayer-walk/
LOCATION:Michael Park\, 132 Central Street\, Amery\, WI\, 54001\, United States
END:VEVENT
BEGIN:VEVENT
DTSTART;TZID=UTC:20180709T183000
DTEND;TZID=UTC:20180709T203000
DTSTAMP:20260425T134937
CREATED:20180517T145840Z
LAST-MODIFIED:20180517T150859Z
UID:4048-1531161000-1531168200@eastlincolnalliance.com
SUMMARY:Elders Meeting
DESCRIPTION:
URL:https://eastlincolnalliance.com/event/elders-meeting-8/
LOCATION:WI\, United States
END:VEVENT
BEGIN:VEVENT
DTSTART;TZID=UTC:20180708T093000
DTEND;TZID=UTC:20180708T104500
DTSTAMP:20260425T134937
CREATED:20180517T150330Z
LAST-MODIFIED:20180517T150330Z
UID:4054-1531042200-1531046700@eastlincolnalliance.com
SUMMARY:Worship Service & Discovery Land
DESCRIPTION:Nursery is provided during the Worship Service for 1-3 year olds.  Discovery Land for Kids is available during the Worship Service for ages 4 years – 5th grade.
URL:https://eastlincolnalliance.com/event/worship-service-discovery-land-13/
LOCATION:East Lincoln Alliance Church\, 735 70th Avenue\, Amery\, WI\, 54001\, United States
END:VEVENT
BEGIN:VEVENT
DTSTART;TZID=UTC:20180701T104500
DTEND;TZID=UTC:20180701T120000
DTSTAMP:20260425T134937
CREATED:20180615T151904Z
LAST-MODIFIED:20180615T151904Z
UID:4108-1530441900-1530446400@eastlincolnalliance.com
SUMMARY:Farewell Potluck for the Hutchens Family
DESCRIPTION:Join us as we say goodbye to the Hutchens Family.
URL:https://eastlincolnalliance.com/event/farewell-potluck-for-the-hutchens-family/
LOCATION:East Lincoln Alliance Church\, 735 70th Avenue\, Amery\, WI\, 54001\, United States
END:VEVENT
BEGIN:VEVENT
DTSTART;TZID=UTC:20180701T093000
DTEND;TZID=UTC:20180701T104500
DTSTAMP:20260425T134937
CREATED:20180517T150158Z
LAST-MODIFIED:20180615T151631Z
UID:4052-1530437400-1530441900@eastlincolnalliance.com
SUMMARY:Worship Service & Discovery Land
DESCRIPTION:Nursery is provided during the Worship Service for 1-3 year olds.  Discovery Land for Kids is available during the Worship Service for ages 4 years – 5th grade.
URL:https://eastlincolnalliance.com/event/worship-service-discovery-land-12/
LOCATION:East Lincoln Alliance Church\, 735 70th Avenue\, Amery\, WI\, 54001\, United States
END:VEVENT
END:VCALENDAR