BEGIN:VCALENDAR
VERSION:2.0
PRODID:-//East Lincoln Alliance Church - ECPv6.15.20//NONSGML v1.0//EN
CALSCALE:GREGORIAN
METHOD:PUBLISH
X-WR-CALNAME:East Lincoln Alliance Church
X-ORIGINAL-URL:https://eastlincolnalliance.com
X-WR-CALDESC:Events for East Lincoln Alliance Church
REFRESH-INTERVAL;VALUE=DURATION:PT1H
X-Robots-Tag:noindex
X-PUBLISHED-TTL:PT1H
BEGIN:VTIMEZONE
TZID:UTC
BEGIN:STANDARD
TZOFFSETFROM:+0000
TZOFFSETTO:+0000
TZNAME:UTC
DTSTART:20170101T000000
END:STANDARD
END:VTIMEZONE
BEGIN:VEVENT
DTSTART;TZID=UTC:20180909T093000
DTEND;TZID=UTC:20180909T104500
DTSTAMP:20260425T104817
CREATED:20180725T144143Z
LAST-MODIFIED:20180725T144143Z
UID:4235-1536485400-1536489900@eastlincolnalliance.com
SUMMARY:Worship Service & Discovery Land
DESCRIPTION:Nursery is provided during the Worship Service for 1-3 year olds.  Discovery Land for Kids is available during the Worship Service for ages 4 years – 5th grade.
URL:https://eastlincolnalliance.com/event/worship-service-discovery-land-22/
LOCATION:East Lincoln Alliance Church\, 735 70th Avenue\, Amery\, WI\, 54001\, United States
END:VEVENT
BEGIN:VEVENT
DTSTART;TZID=UTC:20180908T090000
DTEND;TZID=UTC:20180908T160000
DTSTAMP:20260425T104817
CREATED:20180725T150301Z
LAST-MODIFIED:20180725T150301Z
UID:4248-1536397200-1536422400@eastlincolnalliance.com
SUMMARY:Women's Craft Day
DESCRIPTION:To attend\, RSVP Amanda Fisk.
URL:https://eastlincolnalliance.com/event/womens-craft-day-5/
LOCATION:East Lincoln Alliance Church\, 735 70th Avenue\, Amery\, WI\, 54001\, United States
END:VEVENT
BEGIN:VEVENT
DTSTART;TZID=UTC:20180905T180000
DTEND;TZID=UTC:20180905T200000
DTSTAMP:20260425T104817
CREATED:20180809T150201Z
LAST-MODIFIED:20180809T150201Z
UID:4275-1536170400-1536177600@eastlincolnalliance.com
SUMMARY:Recharge
DESCRIPTION:
URL:https://eastlincolnalliance.com/event/recharge-9/
LOCATION:East Lincoln Alliance Church\, 735 70th Avenue\, Amery\, WI\, 54001\, United States
END:VEVENT
BEGIN:VEVENT
DTSTART;TZID=UTC:20180905T150000
DTEND;TZID=UTC:20180905T163000
DTSTAMP:20260425T104817
CREATED:20180802T155425Z
LAST-MODIFIED:20180817T160742Z
UID:4260-1536159600-1536165000@eastlincolnalliance.com
SUMMARY:Good News Clubs
DESCRIPTION:
URL:https://eastlincolnalliance.com/event/good-news-clubs-10/
LOCATION:Amery Schools\, Minneapolis Ave\, Amery\, WI\, 54001\, United States
END:VEVENT
BEGIN:VEVENT
DTSTART;TZID=UTC:20180902T110000
DTEND;TZID=UTC:20180902T120000
DTSTAMP:20260425T104817
CREATED:20180820T155150Z
LAST-MODIFIED:20180820T155446Z
UID:4347-1535886000-1535889600@eastlincolnalliance.com
SUMMARY:Small Group Leaders Meeting
DESCRIPTION:
URL:https://eastlincolnalliance.com/event/small-group-leaders-meeting/
LOCATION:WI
END:VEVENT
BEGIN:VEVENT
DTSTART;TZID=UTC:20180902T093000
DTEND;TZID=UTC:20180902T104500
DTSTAMP:20260425T104817
CREATED:20180725T144014Z
LAST-MODIFIED:20180725T144014Z
UID:4233-1535880600-1535885100@eastlincolnalliance.com
SUMMARY:Worship Service & Discovery Land
DESCRIPTION:Nursery is provided during the Worship Service for 1-3 year olds.  Discovery Land for Kids is available during the Worship Service for ages 4 years – 5th grade.
URL:https://eastlincolnalliance.com/event/worship-service-discovery-land-21/
LOCATION:East Lincoln Alliance Church\, 735 70th Avenue\, Amery\, WI\, 54001\, United States
END:VEVENT
BEGIN:VEVENT
DTSTART;TZID=UTC:20180829T180000
DTEND;TZID=UTC:20180829T190000
DTSTAMP:20260425T104817
CREATED:20180809T150745Z
LAST-MODIFIED:20180809T150745Z
UID:4283-1535565600-1535569200@eastlincolnalliance.com
SUMMARY:Youth Ministry Leaders Meeting
DESCRIPTION:
URL:https://eastlincolnalliance.com/event/youth-ministry-leaders-meeting/
LOCATION:East Lincoln Alliance Church\, 735 70th Avenue\, Amery\, WI\, 54001\, United States
END:VEVENT
BEGIN:VEVENT
DTSTART;TZID=UTC:20180827T080000
DTEND;TZID=UTC:20180827T150000
DTSTAMP:20260425T104817
CREATED:20180809T150950Z
LAST-MODIFIED:20180809T150950Z
UID:4285-1535356800-1535382000@eastlincolnalliance.com
SUMMARY:Back to School Prayer Vigil
DESCRIPTION:Sign up on the Information Table to pray for 20 minutes for our children as they return to school.
URL:https://eastlincolnalliance.com/event/back-to-school-prayer-vigil/
LOCATION:WI
END:VEVENT
BEGIN:VEVENT
DTSTART;TZID=UTC:20180826T110000
DTEND;TZID=UTC:20180826T123000
DTSTAMP:20260425T104817
CREATED:20180621T153349Z
LAST-MODIFIED:20180703T150150Z
UID:4175-1535281200-1535286600@eastlincolnalliance.com
SUMMARY:Baby Shower for Katie Inlow
DESCRIPTION:
URL:https://eastlincolnalliance.com/event/discovery-land-training/
LOCATION:East Lincoln Alliance Church\, 735 70th Avenue\, Amery\, WI\, 54001\, United States
END:VEVENT
BEGIN:VEVENT
DTSTART;TZID=UTC:20180826T093000
DTEND;TZID=UTC:20180826T104500
DTSTAMP:20260425T104817
CREATED:20180619T155829Z
LAST-MODIFIED:20180619T155829Z
UID:4139-1535275800-1535280300@eastlincolnalliance.com
SUMMARY:Worship Service & Discovery Land
DESCRIPTION:Nursery is provided during the Worship Service for 1-3 year olds.  Discovery Land for Kids is available during the Worship Service for ages 4 years – 5th grade.
URL:https://eastlincolnalliance.com/event/worship-service-discovery-land-20/
LOCATION:East Lincoln Alliance Church\, 735 70th Avenue\, Amery\, WI\, 54001\, United States
END:VEVENT
BEGIN:VEVENT
DTSTART;TZID=UTC:20180823T183000
DTEND;TZID=UTC:20180823T193000
DTSTAMP:20260425T104817
CREATED:20180809T161530Z
LAST-MODIFIED:20180809T161759Z
UID:4287-1535049000-1535052600@eastlincolnalliance.com
SUMMARY:Back to School Prayer Walk
DESCRIPTION:
URL:https://eastlincolnalliance.com/event/back-to-school-prayer-walk/
LOCATION:Lien Elementary School\, 469 Minneapolis Ave S\, Amery\, WI\, 54001\, United States
END:VEVENT
BEGIN:VEVENT
DTSTART;TZID=UTC:20180820T183000
DTEND;TZID=UTC:20180820T203000
DTSTAMP:20260425T104817
CREATED:20180619T160023Z
LAST-MODIFIED:20180619T160023Z
UID:4143-1534789800-1534797000@eastlincolnalliance.com
SUMMARY:Elders Meeting
DESCRIPTION:
URL:https://eastlincolnalliance.com/event/elders-meeting-11/
LOCATION:WI
END:VEVENT
BEGIN:VEVENT
DTSTART;TZID=UTC:20180819T093000
DTEND;TZID=UTC:20180819T104500
DTSTAMP:20260425T104817
CREATED:20180619T155730Z
LAST-MODIFIED:20180619T155730Z
UID:4137-1534671000-1534675500@eastlincolnalliance.com
SUMMARY:Worship Service & Discovery Land
DESCRIPTION:Nursery is provided during the Worship Service for 1-3 year olds.  Discovery Land for Kids is available during the Worship Service for ages 4 years – 5th grade.
URL:https://eastlincolnalliance.com/event/worship-service-discovery-land-19/
LOCATION:East Lincoln Alliance Church\, 735 70th Avenue\, Amery\, WI\, 54001\, United States
END:VEVENT
BEGIN:VEVENT
DTSTART;TZID=UTC:20180815T200000
DTEND;TZID=UTC:20180815T230000
DTSTAMP:20260425T104817
CREATED:20180802T154505Z
LAST-MODIFIED:20180802T154738Z
UID:4254-1534363200-1534374000@eastlincolnalliance.com
SUMMARY:Survivor in the Dark
DESCRIPTION:All middle school and high school students are invited to Survivor in the Dark.  Parents are encouraged to come and hang out around the campfire.
URL:https://eastlincolnalliance.com/event/survivor-in-the-dark-2/
LOCATION:Tollakson’s\, 896 105th Avenue\, Amery\, WI\, 54001
ORGANIZER;CN="Kent Tollakson":MAILTO:cornerstonecounsel@gmail.com
END:VEVENT
BEGIN:VEVENT
DTSTART;TZID=UTC:20180812T110000
DTEND;TZID=UTC:20180812T120000
DTSTAMP:20260425T104817
CREATED:20180619T161427Z
LAST-MODIFIED:20180619T161427Z
UID:4154-1534071600-1534075200@eastlincolnalliance.com
SUMMARY:Missions Committee Meeting
DESCRIPTION:
URL:https://eastlincolnalliance.com/event/missions-committee-meeting/
LOCATION:East Lincoln Alliance Church\, 735 70th Avenue\, Amery\, WI\, 54001\, United States
END:VEVENT
BEGIN:VEVENT
DTSTART;TZID=UTC:20180812T093000
DTEND;TZID=UTC:20180812T104500
DTSTAMP:20260425T104817
CREATED:20180619T155616Z
LAST-MODIFIED:20180619T155616Z
UID:4135-1534066200-1534070700@eastlincolnalliance.com
SUMMARY:Worship Service & Discovery Land
DESCRIPTION:Nursery is provided during the Worship Service for 1-3 year olds.  Discovery Land for Kids is available during the Worship Service for ages 4 years – 5th grade.
URL:https://eastlincolnalliance.com/event/worship-service-discovery-land-18/
LOCATION:WI
END:VEVENT
BEGIN:VEVENT
DTSTART;TZID=UTC:20180811T100000
DTEND;TZID=UTC:20180811T150000
DTSTAMP:20260425T104817
CREATED:20180619T161304Z
LAST-MODIFIED:20180619T161753Z
UID:4152-1533981600-1533999600@eastlincolnalliance.com
SUMMARY:Missions Fundraiser Brat Stand
DESCRIPTION:Come to Dick’s Market and support our missionaries.
URL:https://eastlincolnalliance.com/event/missions-fundraiser-brat-stand-6/
LOCATION:Dick’s Market\, 1050 River Place Mall\, Amery\, WI\, 54001
END:VEVENT
BEGIN:VEVENT
DTSTART;TZID=UTC:20180811T090000
DTEND;TZID=UTC:20180811T160000
DTSTAMP:20260425T104817
CREATED:20180619T160248Z
LAST-MODIFIED:20180619T160248Z
UID:4145-1533978000-1534003200@eastlincolnalliance.com
SUMMARY:Women's Craft Day
DESCRIPTION:To attend\, RSVP Amanda Fisk.
URL:https://eastlincolnalliance.com/event/womens-craft-day-4/
LOCATION:East Lincoln Alliance Church\, 735 70th Avenue\, Amery\, WI\, 54001\, United States
ORGANIZER;CN="Amanda Fisk":MAILTO:annisseau@gmail.com
END:VEVENT
BEGIN:VEVENT
DTSTART;TZID=UTC:20180810T100000
DTEND;TZID=UTC:20180810T180000
DTSTAMP:20260425T104817
CREATED:20180619T161203Z
LAST-MODIFIED:20180619T161203Z
UID:4150-1533895200-1533924000@eastlincolnalliance.com
SUMMARY:Missions Fundraiser Brat Stand
DESCRIPTION:Come to Dick’s Market and support our missionaries.
URL:https://eastlincolnalliance.com/event/missions-fundraiser-brat-stand-5/
LOCATION:Dick’s Market\, 1050 River Place Mall\, Amery\, WI\, 54001
END:VEVENT
BEGIN:VEVENT
DTSTART;TZID=UTC:20180806T183000
DTEND;TZID=UTC:20180806T203000
DTSTAMP:20260425T104817
CREATED:20180619T155936Z
LAST-MODIFIED:20180619T155936Z
UID:4141-1533580200-1533587400@eastlincolnalliance.com
SUMMARY:Elders Meeting
DESCRIPTION:
URL:https://eastlincolnalliance.com/event/elders-meeting-10/
LOCATION:WI
END:VEVENT
BEGIN:VEVENT
DTSTART;TZID=UTC:20180805T170000
DTEND;TZID=UTC:20180805T203000
DTSTAMP:20260425T104817
CREATED:20180619T163646Z
LAST-MODIFIED:20180619T163646Z
UID:4156-1533488400-1533501000@eastlincolnalliance.com
SUMMARY:Baptismal Service & Potluck
DESCRIPTION:Potluck at 5 pm\, Service at 6 pm with campfire to follow.
URL:https://eastlincolnalliance.com/event/baptismal-service-potluck/
LOCATION:Clear Lake Park\, Clear Lake\, WI\, United States
END:VEVENT
BEGIN:VEVENT
DTSTART;TZID=UTC:20180805T093000
DTEND;TZID=UTC:20180805T104500
DTSTAMP:20260425T104817
CREATED:20180619T155153Z
LAST-MODIFIED:20180619T155336Z
UID:4133-1533461400-1533465900@eastlincolnalliance.com
SUMMARY:Worship Service & Discovery Land
DESCRIPTION:Nursery is provided during the Worship Service for 1-3 year olds.  Discovery Land for Kids is available during the Worship Service for ages 4 years – 5th grade. \n 
URL:https://eastlincolnalliance.com/event/worship-service-discovery-land-17/
LOCATION:East Lincoln Alliance Church\, 735 70th Avenue\, Amery\, WI\, 54001\, United States
END:VEVENT
BEGIN:VEVENT
DTSTART;TZID=UTC:20180804T140000
DTEND;TZID=UTC:20180804T200000
DTSTAMP:20260425T104817
CREATED:20180619T160359Z
LAST-MODIFIED:20180716T141342Z
UID:4147-1533391200-1533412800@eastlincolnalliance.com
SUMMARY:Hope aLive Event
DESCRIPTION:Join us for games & activities\, followed by brats and grilled corn on the cob.  After dinner\, the East Lincoln Band will open\, followed by a featured performance by  Square One Band.
URL:https://eastlincolnalliance.com/event/music-concert/
LOCATION:Michael Park\, 132 Central Street\, Amery\, WI\, 54001\, United States
END:VEVENT
BEGIN:VEVENT
DTSTART;TZID=UTC:20180730T183000
DTEND;TZID=UTC:20180730T193000
DTSTAMP:20260425T104817
CREATED:20180709T152239Z
LAST-MODIFIED:20180709T152743Z
UID:4196-1532975400-1532979000@eastlincolnalliance.com
SUMMARY:Prayer Walk @ Michael Park
DESCRIPTION:Join the Prayer Team as they pray for the Hope aLive Event.
URL:https://eastlincolnalliance.com/event/prayer-walk-2/
LOCATION:Michael Park\, 132 Central Street\, Amery\, WI\, 54001\, United States
END:VEVENT
BEGIN:VEVENT
DTSTART;TZID=UTC:20180729T110000
DTEND;TZID=UTC:20180729T113000
DTSTAMP:20260425T104817
CREATED:20180614T163014Z
LAST-MODIFIED:20180614T163014Z
UID:4106-1532862000-1532863800@eastlincolnalliance.com
SUMMARY:Youth Ministry Volunteers Meeting
DESCRIPTION:
URL:https://eastlincolnalliance.com/event/youth-ministry-volunteers-meeting-2/
LOCATION:East Lincoln Alliance Church\, 735 70th Avenue\, Amery\, WI\, 54001\, United States
ORGANIZER;CN="Kent Tollakson":MAILTO:cornerstonecounsel@gmail.com
END:VEVENT
BEGIN:VEVENT
DTSTART;TZID=UTC:20180729T093000
DTEND;TZID=UTC:20180729T104500
DTSTAMP:20260425T104817
CREATED:20180517T150713Z
LAST-MODIFIED:20180517T150713Z
UID:4060-1532856600-1532861100@eastlincolnalliance.com
SUMMARY:Worship Service & Discovery Land
DESCRIPTION:Nursery is provided during the Worship Service for 1-3 year olds.  Discovery Land for Kids is available during the Worship Service for ages 4 years – 5th grade.
URL:https://eastlincolnalliance.com/event/worship-service-discovery-land-16/
LOCATION:WI
END:VEVENT
BEGIN:VEVENT
DTSTART;TZID=UTC:20180727T123000
DTEND;TZID=UTC:20180727T140000
DTSTAMP:20260425T104817
CREATED:20180621T153225Z
LAST-MODIFIED:20180621T153225Z
UID:4173-1532694600-1532700000@eastlincolnalliance.com
SUMMARY:CEF 5 Day Club
DESCRIPTION:For kids ages 5 to 12.  Free lunch for kids from 11:15 am – 12:30 pm.
URL:https://eastlincolnalliance.com/event/cef-5-day-club-4/
LOCATION:Amery Intermediate School\, 543 Minneapolis Avenue\, Amery\, WI\, 54001
END:VEVENT
BEGIN:VEVENT
DTSTART;TZID=UTC:20180726T123000
DTEND;TZID=UTC:20180726T140000
DTSTAMP:20260425T104817
CREATED:20180621T153122Z
LAST-MODIFIED:20180621T153122Z
UID:4171-1532608200-1532613600@eastlincolnalliance.com
SUMMARY:CEF 5 Day Club
DESCRIPTION:For kids ages 5 to 12.  Free lunch for kids from 11:15 am – 12:30 pm.
URL:https://eastlincolnalliance.com/event/cef-5-day-club-3/
LOCATION:Amery Intermediate School\, 543 Minneapolis Avenue\, Amery\, WI\, 54001
END:VEVENT
BEGIN:VEVENT
DTSTART;TZID=UTC:20180725T200000
DTEND;TZID=UTC:20180725T230000
DTSTAMP:20260425T104817
CREATED:20180709T162552Z
LAST-MODIFIED:20180709T162552Z
UID:4202-1532548800-1532559600@eastlincolnalliance.com
SUMMARY:Survivor in the Dark
DESCRIPTION:All middle school and high school students are invited to Survivor in the Dark.  Parents are encouraged to come and hang out around the campfire.
URL:https://eastlincolnalliance.com/event/survivor-in-the-dark/
LOCATION:Tollakson’s\, 896 105th Avenue\, Amery\, WI\, 54001
ORGANIZER;CN="Kent Tollakson":MAILTO:cornerstonecounsel@gmail.com
END:VEVENT
BEGIN:VEVENT
DTSTART;TZID=UTC:20180725T123000
DTEND;TZID=UTC:20180725T140000
DTSTAMP:20260425T104817
CREATED:20180621T153012Z
LAST-MODIFIED:20180621T153012Z
UID:4169-1532521800-1532527200@eastlincolnalliance.com
SUMMARY:CEF 5 Day Club
DESCRIPTION:For kids ages 5 to 12.  Free lunch for kids from 11:15 am – 12:30 pm.
URL:https://eastlincolnalliance.com/event/cef-5-day-club-2/
LOCATION:Amery Intermediate School\, 543 Minneapolis Avenue\, Amery\, WI\, 54001
END:VEVENT
END:VCALENDAR