BEGIN:VCALENDAR
VERSION:2.0
PRODID:-//East Lincoln Alliance Church - ECPv6.15.20//NONSGML v1.0//EN
CALSCALE:GREGORIAN
METHOD:PUBLISH
X-WR-CALNAME:East Lincoln Alliance Church
X-ORIGINAL-URL:https://eastlincolnalliance.com
X-WR-CALDESC:Events for East Lincoln Alliance Church
REFRESH-INTERVAL;VALUE=DURATION:PT1H
X-Robots-Tag:noindex
X-PUBLISHED-TTL:PT1H
BEGIN:VTIMEZONE
TZID:UTC
BEGIN:STANDARD
TZOFFSETFROM:+0000
TZOFFSETTO:+0000
TZNAME:UTC
DTSTART:20240101T000000
END:STANDARD
END:VTIMEZONE
BEGIN:VEVENT
DTSTART;TZID=UTC:20251015T180000
DTEND;TZID=UTC:20251015T200000
DTSTAMP:20260425T151957
CREATED:20250902T181603Z
LAST-MODIFIED:20250902T181603Z
UID:10851-1760551200-1760558400@eastlincolnalliance.com
SUMMARY:Recharge
DESCRIPTION:All students 6-12th grade are invited to attend.  Make sure to invite your friends!
URL:https://eastlincolnalliance.com/event/recharge-118/
LOCATION:East Lincoln Alliance Church\, 735 70th Avenue\, Amery\, WI\, 54001\, United States
END:VEVENT
BEGIN:VEVENT
DTSTART;TZID=UTC:20251015T180000
DTEND;TZID=UTC:20251015T200000
DTSTAMP:20260425T151957
CREATED:20250902T203615Z
LAST-MODIFIED:20250902T203615Z
UID:10878-1760551200-1760558400@eastlincolnalliance.com
SUMMARY:Son Seekers
DESCRIPTION:Son Seekers is a program for K-5th graders.  Programming is 6-8pm every Wednesday at East Lincoln Alliance Church. We will have games\, stories\, songs\, crafts.
URL:https://eastlincolnalliance.com/event/son-seekers-58/
LOCATION:East Lincoln Alliance Church\, 735 70th Avenue\, Amery\, WI\, 54001\, United States
END:VEVENT
BEGIN:VEVENT
DTSTART;TZID=UTC:20251017T180000
DTEND;TZID=UTC:20251017T200000
DTSTAMP:20260425T151957
CREATED:20250721T132906Z
LAST-MODIFIED:20250721T132906Z
UID:10756-1760724000-1760731200@eastlincolnalliance.com
SUMMARY:Grace Marriage
DESCRIPTION:
URL:https://eastlincolnalliance.com/event/grace-marriage-9/
LOCATION:East Lincoln Alliance Church\, 735 70th Avenue\, Amery\, WI\, 54001\, United States
END:VEVENT
BEGIN:VEVENT
DTSTART;TZID=UTC:20251019T084500
DTEND;TZID=UTC:20251019T094500
DTSTAMP:20260425T151957
CREATED:20250909T193441Z
LAST-MODIFIED:20250909T193441Z
UID:10969-1760863500-1760867100@eastlincolnalliance.com
SUMMARY:Discipleship Hour
DESCRIPTION:Join us for Discipleship Hour from 8:45-9:45am.  All 6th grade and up are invited.
URL:https://eastlincolnalliance.com/event/discipleship-hour-76/
LOCATION:East Lincoln Alliance Church\, 735 70th Avenue\, Amery\, WI\, 54001\, United States
END:VEVENT
BEGIN:VEVENT
DTSTART;TZID=UTC:20251019T100000
DTEND;TZID=UTC:20251019T111500
DTSTAMP:20260425T151957
CREATED:20250909T195018Z
LAST-MODIFIED:20250909T195018Z
UID:10995-1760868000-1760872500@eastlincolnalliance.com
SUMMARY:Worship Service
DESCRIPTION:We welcome you to our regular worship service every Sunday @ 10:00am.\n\n\n\nWe offer the following services for kids during the Worship Service: \nEarly Childhood care for 1-3 year olds in the East Wing \n4 years old-Kindergarten in the West Wing (Discovery Land) \n1st-5th Grade in the East Wing (Discovery Land)
URL:https://eastlincolnalliance.com/event/worship-service-172/
LOCATION:East Lincoln Alliance Church\, 735 70th Avenue\, Amery\, WI\, 54001\, United States
END:VEVENT
BEGIN:VEVENT
DTSTART;TZID=UTC:20251019T113000
DTEND;TZID=UTC:20251019T130000
DTSTAMP:20260425T151957
CREATED:20250513T164054Z
LAST-MODIFIED:20250513T164054Z
UID:10526-1760873400-1760878800@eastlincolnalliance.com
SUMMARY:Missions Fundraiser Lunch
DESCRIPTION:
URL:https://eastlincolnalliance.com/event/missions-fundraiser-lunch/
LOCATION:East Lincoln Alliance Church\, 735 70th Avenue\, Amery\, WI\, 54001\, United States
END:VEVENT
BEGIN:VEVENT
DTSTART;TZID=UTC:20251020T180000
DTEND;TZID=UTC:20251020T203000
DTSTAMP:20260425T151957
CREATED:20250922T150435Z
LAST-MODIFIED:20250922T150435Z
UID:11053-1760983200-1760992200@eastlincolnalliance.com
SUMMARY:Elder Meeting
DESCRIPTION:
URL:https://eastlincolnalliance.com/event/elder-meeting-16/
LOCATION:East Lincoln Alliance Church\, 735 70th Avenue\, Amery\, WI\, 54001\, United States
END:VEVENT
BEGIN:VEVENT
DTSTART;TZID=UTC:20251021T183000
DTEND;TZID=UTC:20251021T193000
DTSTAMP:20260425T151957
CREATED:20250909T200840Z
LAST-MODIFIED:20250909T200840Z
UID:11022-1761071400-1761075000@eastlincolnalliance.com
SUMMARY:Prayer Gathering
DESCRIPTION:All are invited to join as we pray for each other\, our community and world.  Every Tuesday\, 6:30pm
URL:https://eastlincolnalliance.com/event/prayer-gathering-80/
LOCATION:East Lincoln Alliance Church\, 735 70th Avenue\, Amery\, WI\, 54001\, United States
END:VEVENT
BEGIN:VEVENT
DTSTART;TZID=UTC:20251022T090000
DTEND;TZID=UTC:20251022T160000
DTSTAMP:20260425T151957
CREATED:20251017T011207Z
LAST-MODIFIED:20251017T011207Z
UID:11087-1761123600-1761148800@eastlincolnalliance.com
SUMMARY:Women's Craft Day
DESCRIPTION:Women are invited to join on Wednesday\, October 22nd 9am-4pm at Cindy Moe’s for a day of crafting and fellowship. Bring whatever project you are working on or just come and visit! Pack a lunch. Contact Julie Anderson if you have questions\, 715-607-8022.
URL:https://eastlincolnalliance.com/event/womens-craft-day-40/
LOCATION:WI
END:VEVENT
BEGIN:VEVENT
DTSTART;TZID=UTC:20251022T151500
DTEND;TZID=UTC:20251022T163000
DTSTAMP:20260425T151957
CREATED:20250902T204526Z
LAST-MODIFIED:20250902T204526Z
UID:10908-1761146100-1761150600@eastlincolnalliance.com
SUMMARY:After School Good News Club
DESCRIPTION:All K-5th grade students are invited to After School Good News Club at Lien Elementary School (Amery) right after school (3:15pm) until 4:30pm every Wednesday that Amery Schools are in session. \nStudents attending the Intermediate School should ride the transfer bus to the Elementary School. Registration Forms must be filled out (below).   Questions? Contact Mary Schussman. \neastlincolnalliance.com/ninja-forms/10okpn/
URL:https://eastlincolnalliance.com/event/after-school-good-news-club-90/
LOCATION:Lien Elementary School\, 469 Minneapolis Ave S\, Amery\, WI\, 54001\, United States
END:VEVENT
BEGIN:VEVENT
DTSTART;TZID=UTC:20251022T180000
DTEND;TZID=UTC:20251022T200000
DTSTAMP:20260425T151957
CREATED:20250902T181742Z
LAST-MODIFIED:20250902T181742Z
UID:10853-1761156000-1761163200@eastlincolnalliance.com
SUMMARY:Recharge
DESCRIPTION:All students 6-12th grade are invited to attend.  Make sure to invite your friends!
URL:https://eastlincolnalliance.com/event/recharge-119/
LOCATION:East Lincoln Alliance Church\, 735 70th Avenue\, Amery\, WI\, 54001\, United States
END:VEVENT
BEGIN:VEVENT
DTSTART;TZID=UTC:20251022T180000
DTEND;TZID=UTC:20251022T200000
DTSTAMP:20260425T151957
CREATED:20250902T203637Z
LAST-MODIFIED:20250902T203637Z
UID:10880-1761156000-1761163200@eastlincolnalliance.com
SUMMARY:Son Seekers
DESCRIPTION:Son Seekers is a program for K-5th graders.  Programming is 6-8pm every Wednesday at East Lincoln Alliance Church. We will have games\, stories\, songs\, crafts.
URL:https://eastlincolnalliance.com/event/son-seekers-59/
LOCATION:East Lincoln Alliance Church\, 735 70th Avenue\, Amery\, WI\, 54001\, United States
END:VEVENT
BEGIN:VEVENT
DTSTART;TZID=UTC:20251025T180000
DTEND;TZID=UTC:20251025T210000
DTSTAMP:20260425T151957
CREATED:20251010T160545Z
LAST-MODIFIED:20251010T160545Z
UID:11079-1761415200-1761426000@eastlincolnalliance.com
SUMMARY:Underground Church
DESCRIPTION:Attention all 6th-12th graders!  Are you ready to face the unknown?  Join us for an immersive experience during an Underground Church event.  Together\, we’ll navigate challenges\, share stories and find hope.  Bring a friend!  It’ll be an evening of excitement and adventure along with a time of worship. \nLocation: 753 55th Ave\, Clayton \nPlease fill out a Parent Permission form here.
URL:https://eastlincolnalliance.com/event/underground-church-3/
LOCATION:WI
END:VEVENT
BEGIN:VEVENT
DTSTART;TZID=UTC:20251026T084500
DTEND;TZID=UTC:20251026T094500
DTSTAMP:20260425T151957
CREATED:20250909T193512Z
LAST-MODIFIED:20250909T193512Z
UID:10971-1761468300-1761471900@eastlincolnalliance.com
SUMMARY:Discipleship Hour
DESCRIPTION:Join us for Discipleship Hour from 8:45-9:45am.  All 6th grade and up are invited.
URL:https://eastlincolnalliance.com/event/discipleship-hour-77/
LOCATION:East Lincoln Alliance Church\, 735 70th Avenue\, Amery\, WI\, 54001\, United States
END:VEVENT
BEGIN:VEVENT
DTSTART;TZID=UTC:20251026T100000
DTEND;TZID=UTC:20251026T111500
DTSTAMP:20260425T151957
CREATED:20250909T195055Z
LAST-MODIFIED:20250909T195055Z
UID:10997-1761472800-1761477300@eastlincolnalliance.com
SUMMARY:Worship Service
DESCRIPTION:We welcome you to our regular worship service every Sunday @ 10:00am.\n\n\n\nWe offer the following services for kids during the Worship Service: \nEarly Childhood care for 1-3 year olds in the East Wing \n4 years old-Kindergarten in the West Wing (Discovery Land) \n1st-5th Grade in the East Wing (Discovery Land)
URL:https://eastlincolnalliance.com/event/worship-service-173/
LOCATION:East Lincoln Alliance Church\, 735 70th Avenue\, Amery\, WI\, 54001\, United States
END:VEVENT
BEGIN:VEVENT
DTSTART;TZID=UTC:20251028T193000
DTEND;TZID=UTC:20251028T203000
DTSTAMP:20260425T151957
CREATED:20250909T200912Z
LAST-MODIFIED:20250909T200912Z
UID:11024-1761679800-1761683400@eastlincolnalliance.com
SUMMARY:Prayer Gathering
DESCRIPTION:All are invited to join as we pray for each other\, our community and world.  Every Tuesday\, 6:30pm
URL:https://eastlincolnalliance.com/event/prayer-gathering-81/
LOCATION:East Lincoln Alliance Church\, 735 70th Avenue\, Amery\, WI\, 54001\, United States
END:VEVENT
BEGIN:VEVENT
DTSTART;TZID=UTC:20251029T151500
DTEND;TZID=UTC:20251029T163000
DTSTAMP:20260425T151957
CREATED:20250902T204553Z
LAST-MODIFIED:20250902T204553Z
UID:10910-1761750900-1761755400@eastlincolnalliance.com
SUMMARY:After School Good News Club
DESCRIPTION:All K-5th grade students are invited to After School Good News Club at Lien Elementary School (Amery) right after school (3:15pm) until 4:30pm every Wednesday that Amery Schools are in session. \nStudents attending the Intermediate School should ride the transfer bus to the Elementary School. Registration Forms must be filled out (below).   Questions? Contact Mary Schussman. \neastlincolnalliance.com/ninja-forms/10okpn/
URL:https://eastlincolnalliance.com/event/after-school-good-news-club-91/
LOCATION:Lien Elementary School\, 469 Minneapolis Ave S\, Amery\, WI\, 54001\, United States
END:VEVENT
BEGIN:VEVENT
DTSTART;TZID=UTC:20251029T180000
DTEND;TZID=UTC:20251029T200000
DTSTAMP:20260425T151957
CREATED:20250902T181802Z
LAST-MODIFIED:20250902T181802Z
UID:10855-1761760800-1761768000@eastlincolnalliance.com
SUMMARY:Recharge
DESCRIPTION:All students 6-12th grade are invited to attend.  Make sure to invite your friends!
URL:https://eastlincolnalliance.com/event/recharge-120/
LOCATION:East Lincoln Alliance Church\, 735 70th Avenue\, Amery\, WI\, 54001\, United States
END:VEVENT
BEGIN:VEVENT
DTSTART;TZID=UTC:20251029T180000
DTEND;TZID=UTC:20251029T200000
DTSTAMP:20260425T151957
CREATED:20250902T203659Z
LAST-MODIFIED:20250902T203659Z
UID:10882-1761760800-1761768000@eastlincolnalliance.com
SUMMARY:Son Seekers
DESCRIPTION:Son Seekers is a program for K-5th graders.  Programming is 6-8pm every Wednesday at East Lincoln Alliance Church. We will have games\, stories\, songs\, crafts.
URL:https://eastlincolnalliance.com/event/son-seekers-60/
LOCATION:East Lincoln Alliance Church\, 735 70th Avenue\, Amery\, WI\, 54001\, United States
END:VEVENT
BEGIN:VEVENT
DTSTART;TZID=UTC:20251102T084500
DTEND;TZID=UTC:20251102T094500
DTSTAMP:20260425T151957
CREATED:20250909T193540Z
LAST-MODIFIED:20250909T193540Z
UID:10973-1762073100-1762076700@eastlincolnalliance.com
SUMMARY:Discipleship Hour
DESCRIPTION:Join us for Discipleship Hour from 8:45-9:45am.  All 6th grade and up are invited.
URL:https://eastlincolnalliance.com/event/discipleship-hour-78/
LOCATION:East Lincoln Alliance Church\, 735 70th Avenue\, Amery\, WI\, 54001\, United States
END:VEVENT
BEGIN:VEVENT
DTSTART;TZID=UTC:20251102T100000
DTEND;TZID=UTC:20251102T111500
DTSTAMP:20260425T151957
CREATED:20250909T195139Z
LAST-MODIFIED:20250909T195139Z
UID:10999-1762077600-1762082100@eastlincolnalliance.com
SUMMARY:Worship Service
DESCRIPTION:We welcome you to our regular worship service every Sunday @ 10:00am.\n\n\n\nWe offer the following services for kids during the Worship Service: \nEarly Childhood care for 1-3 year olds in the East Wing \n4 years old-Kindergarten in the West Wing (Discovery Land) \n1st-5th Grade in the East Wing (Discovery Land)
URL:https://eastlincolnalliance.com/event/worship-service-174/
LOCATION:East Lincoln Alliance Church\, 735 70th Avenue\, Amery\, WI\, 54001\, United States
END:VEVENT
BEGIN:VEVENT
DTSTART;TZID=UTC:20251104T183000
DTEND;TZID=UTC:20251104T193000
DTSTAMP:20260425T151957
CREATED:20250909T200937Z
LAST-MODIFIED:20251027T152725Z
UID:11026-1762281000-1762284600@eastlincolnalliance.com
SUMMARY:Prayer Gathering for the Persecuted Church
DESCRIPTION:All are invited to join as we pray for the persecuted church.
URL:https://eastlincolnalliance.com/event/prayer-gathering-82/
LOCATION:East Lincoln Alliance Church\, 735 70th Avenue\, Amery\, WI\, 54001\, United States
END:VEVENT
BEGIN:VEVENT
DTSTART;TZID=UTC:20251105T151500
DTEND;TZID=UTC:20251105T163000
DTSTAMP:20260425T151957
CREATED:20250902T204621Z
LAST-MODIFIED:20250902T204621Z
UID:10912-1762355700-1762360200@eastlincolnalliance.com
SUMMARY:After School Good News Club
DESCRIPTION:All K-5th grade students are invited to After School Good News Club at Lien Elementary School (Amery) right after school (3:15pm) until 4:30pm every Wednesday that Amery Schools are in session. \nStudents attending the Intermediate School should ride the transfer bus to the Elementary School. Registration Forms must be filled out (below).   Questions? Contact Mary Schussman. \neastlincolnalliance.com/ninja-forms/10okpn/
URL:https://eastlincolnalliance.com/event/after-school-good-news-club-92/
LOCATION:Lien Elementary School\, 469 Minneapolis Ave S\, Amery\, WI\, 54001\, United States
END:VEVENT
BEGIN:VEVENT
DTSTART;TZID=UTC:20251105T180000
DTEND;TZID=UTC:20251105T200000
DTSTAMP:20260425T151957
CREATED:20250902T181827Z
LAST-MODIFIED:20250902T181827Z
UID:10857-1762365600-1762372800@eastlincolnalliance.com
SUMMARY:Recharge
DESCRIPTION:All students 6-12th grade are invited to attend.  Make sure to invite your friends!
URL:https://eastlincolnalliance.com/event/recharge-121/
LOCATION:East Lincoln Alliance Church\, 735 70th Avenue\, Amery\, WI\, 54001\, United States
END:VEVENT
BEGIN:VEVENT
DTSTART;TZID=UTC:20251105T180000
DTEND;TZID=UTC:20251105T200000
DTSTAMP:20260425T151957
CREATED:20250902T203719Z
LAST-MODIFIED:20250902T203719Z
UID:10884-1762365600-1762372800@eastlincolnalliance.com
SUMMARY:Son Seekers
DESCRIPTION:Son Seekers is a program for K-5th graders.  Programming is 6-8pm every Wednesday at East Lincoln Alliance Church. We will have games\, stories\, songs\, crafts.
URL:https://eastlincolnalliance.com/event/son-seekers-61/
LOCATION:East Lincoln Alliance Church\, 735 70th Avenue\, Amery\, WI\, 54001\, United States
END:VEVENT
BEGIN:VEVENT
DTSTART;TZID=UTC:20251108T160000
DTEND;TZID=UTC:20251108T190000
DTSTAMP:20260425T151957
CREATED:20251010T155517Z
LAST-MODIFIED:20251010T155517Z
UID:11075-1762617600-1762628400@eastlincolnalliance.com
SUMMARY:Dinners for Six
DESCRIPTION:All women are invited to gather and grow together at our next Dinners for Six.  Sign up to be a hostess or a guest for Saturday\, November 8th at 4pm.
URL:https://eastlincolnalliance.com/event/dinners-for-six-6/
LOCATION:WI
END:VEVENT
BEGIN:VEVENT
DTSTART;TZID=UTC:20251109T084500
DTEND;TZID=UTC:20251109T094500
DTSTAMP:20260425T151957
CREATED:20250909T193703Z
LAST-MODIFIED:20250909T193703Z
UID:10975-1762677900-1762681500@eastlincolnalliance.com
SUMMARY:Discipleship Hour
DESCRIPTION:Join us for Discipleship Hour from 8:45-9:45am.  All 6th grade and up are invited.
URL:https://eastlincolnalliance.com/event/discipleship-hour-79/
LOCATION:East Lincoln Alliance Church\, 735 70th Avenue\, Amery\, WI\, 54001\, United States
END:VEVENT
BEGIN:VEVENT
DTSTART;TZID=UTC:20251109T100000
DTEND;TZID=UTC:20251109T111500
DTSTAMP:20260425T151957
CREATED:20250909T195207Z
LAST-MODIFIED:20250909T195207Z
UID:11001-1762682400-1762686900@eastlincolnalliance.com
SUMMARY:Worship Service
DESCRIPTION:We welcome you to our regular worship service every Sunday @ 10:00am.\n\n\n\nWe offer the following services for kids during the Worship Service: \nEarly Childhood care for 1-3 year olds in the East Wing \n4 years old-Kindergarten in the West Wing (Discovery Land) \n1st-5th Grade in the East Wing (Discovery Land)
URL:https://eastlincolnalliance.com/event/worship-service-175/
LOCATION:East Lincoln Alliance Church\, 735 70th Avenue\, Amery\, WI\, 54001\, United States
END:VEVENT
BEGIN:VEVENT
DTSTART;TZID=UTC:20251109T100000
DTEND;TZID=UTC:20251109T130000
DTSTAMP:20260425T151957
CREATED:20251010T160323Z
LAST-MODIFIED:20251010T160323Z
UID:11077-1762682400-1762693200@eastlincolnalliance.com
SUMMARY:MN Adult & Teen Challenge Choir
DESCRIPTION:We will be hosting MN Adult & Teen Challenge Choir on Sunday\, November 9th.  Choir members will share testimonies and music that testify of God’s transforming power in their lives.  We will enjoy a potluck meal after the service.
URL:https://eastlincolnalliance.com/event/mn-adult-teen-challenge-choir-4/
LOCATION:East Lincoln Alliance Church\, 735 70th Avenue\, Amery\, WI\, 54001\, United States
END:VEVENT
BEGIN:VEVENT
DTSTART;TZID=UTC:20251111T183000
DTEND;TZID=UTC:20251111T193000
DTSTAMP:20260425T151957
CREATED:20250909T201002Z
LAST-MODIFIED:20250909T201002Z
UID:11028-1762885800-1762889400@eastlincolnalliance.com
SUMMARY:Prayer Gathering
DESCRIPTION:All are invited to join as we pray for each other\, our community and world.  Every Tuesday\, 6:30pm
URL:https://eastlincolnalliance.com/event/prayer-gathering-83/
LOCATION:East Lincoln Alliance Church\, 735 70th Avenue\, Amery\, WI\, 54001\, United States
END:VEVENT
END:VCALENDAR