BEGIN:VCALENDAR
VERSION:2.0
PRODID:-//East Lincoln Alliance Church - ECPv6.15.20//NONSGML v1.0//EN
CALSCALE:GREGORIAN
METHOD:PUBLISH
X-WR-CALNAME:East Lincoln Alliance Church
X-ORIGINAL-URL:https://eastlincolnalliance.com
X-WR-CALDESC:Events for East Lincoln Alliance Church
REFRESH-INTERVAL;VALUE=DURATION:PT1H
X-Robots-Tag:noindex
X-PUBLISHED-TTL:PT1H
BEGIN:VTIMEZONE
TZID:UTC
BEGIN:STANDARD
TZOFFSETFROM:+0000
TZOFFSETTO:+0000
TZNAME:UTC
DTSTART:20170101T000000
END:STANDARD
END:VTIMEZONE
BEGIN:VEVENT
DTSTART;TZID=UTC:20181209T093000
DTEND;TZID=UTC:20181209T104500
DTSTAMP:20260425T161053
CREATED:20181018T162049Z
LAST-MODIFIED:20181018T162049Z
UID:4524-1544347800-1544352300@eastlincolnalliance.com
SUMMARY:Worship Service & Discovery Land
DESCRIPTION:Nursery is provided during the Worship Service for 1-3 year olds.  Discovery Land for Kids is available during the Worship Service for ages 4 years – 5th grade.
URL:https://eastlincolnalliance.com/event/worship-service-discovery-land-35/
LOCATION:East Lincoln Alliance Church\, 735 70th Avenue\, Amery\, WI\, 54001\, United States
END:VEVENT
BEGIN:VEVENT
DTSTART;TZID=UTC:20181208T090000
DTEND;TZID=UTC:20181208T160000
DTSTAMP:20260425T161053
CREATED:20181018T163113Z
LAST-MODIFIED:20181018T163113Z
UID:4539-1544259600-1544284800@eastlincolnalliance.com
SUMMARY:Women's Craft Day
DESCRIPTION:
URL:https://eastlincolnalliance.com/event/womens-craft-day-8/
LOCATION:East Lincoln Alliance Church\, 735 70th Avenue\, Amery\, WI\, 54001\, United States
ORGANIZER;CN="Amanda Fisk":MAILTO:annisseau@gmail.com
END:VEVENT
BEGIN:VEVENT
DTSTART;TZID=UTC:20181207T180000
DTEND;TZID=UTC:20181207T200000
DTSTAMP:20260425T161053
CREATED:20181019T143124Z
LAST-MODIFIED:20181019T143124Z
UID:4556-1544205600-1544212800@eastlincolnalliance.com
SUMMARY:Christmas Café
DESCRIPTION:
URL:https://eastlincolnalliance.com/event/christmas-cafe/
LOCATION:East Lincoln Alliance Church\, 735 70th Avenue\, Amery\, WI\, 54001\, United States
END:VEVENT
BEGIN:VEVENT
DTSTART;TZID=UTC:20181205T180000
DTEND;TZID=UTC:20181205T200000
DTSTAMP:20260425T161053
CREATED:20181019T142646Z
LAST-MODIFIED:20181019T142646Z
UID:4550-1544032800-1544040000@eastlincolnalliance.com
SUMMARY:Recharge
DESCRIPTION:
URL:https://eastlincolnalliance.com/event/recharge-20/
LOCATION:East Lincoln Alliance Church\, 735 70th Avenue\, Amery\, WI\, 54001\, United States
ORGANIZER;CN="Kent Tollakson":MAILTO:cornerstonecounsel@gmail.com
END:VEVENT
BEGIN:VEVENT
DTSTART;TZID=UTC:20181205T150000
DTEND;TZID=UTC:20181205T163000
DTSTAMP:20260425T161053
CREATED:20181019T142239Z
LAST-MODIFIED:20181019T142239Z
UID:4544-1544022000-1544027400@eastlincolnalliance.com
SUMMARY:Good News Club
DESCRIPTION:
URL:https://eastlincolnalliance.com/event/good-news-club-2/
LOCATION:Amery Schools\, Minneapolis Ave\, Amery\, WI\, 54001\, United States
END:VEVENT
BEGIN:VEVENT
DTSTART;TZID=UTC:20181203T183000
DTEND;TZID=UTC:20181203T203000
DTSTAMP:20260425T161053
CREATED:20181018T162848Z
LAST-MODIFIED:20181018T162848Z
UID:4535-1543861800-1543869000@eastlincolnalliance.com
SUMMARY:Elder Meeting
DESCRIPTION:
URL:https://eastlincolnalliance.com/event/elder-meeting-4/
LOCATION:WI
END:VEVENT
BEGIN:VEVENT
DTSTART;TZID=UTC:20181202T093000
DTEND;TZID=UTC:20181202T104500
DTSTAMP:20260425T161053
CREATED:20181018T161910Z
LAST-MODIFIED:20181018T161910Z
UID:4522-1543743000-1543747500@eastlincolnalliance.com
SUMMARY:Worship Service & Discovery Land
DESCRIPTION:Nursery is provided during the Worship Service for 1-3 year olds.  Discovery Land for Kids is available during the Worship Service for ages 4 years – 5th grade.
URL:https://eastlincolnalliance.com/event/worship-service-discovery-land-34/
LOCATION:East Lincoln Alliance Church\, 735 70th Avenue\, Amery\, WI\, 54001\, United States
END:VEVENT
BEGIN:VEVENT
DTSTART;TZID=UTC:20181128T180000
DTEND;TZID=UTC:20181128T200000
DTSTAMP:20260425T161053
CREATED:20180928T155958Z
LAST-MODIFIED:20180928T155958Z
UID:4475-1543428000-1543435200@eastlincolnalliance.com
SUMMARY:Recharge
DESCRIPTION:
URL:https://eastlincolnalliance.com/event/recharge-19/
LOCATION:East Lincoln Alliance Church\, 735 70th Avenue\, Amery\, WI\, 54001\, United States
ORGANIZER;CN="Kent Tollakson":MAILTO:cornerstonecounsel@gmail.com
END:VEVENT
BEGIN:VEVENT
DTSTART;TZID=UTC:20181128T150000
DTEND;TZID=UTC:20181128T163000
DTSTAMP:20260425T161053
CREATED:20180928T155752Z
LAST-MODIFIED:20180928T155752Z
UID:4471-1543417200-1543422600@eastlincolnalliance.com
SUMMARY:Good News Club
DESCRIPTION:
URL:https://eastlincolnalliance.com/event/good-news-club/
LOCATION:Amery Schools\, Minneapolis Ave\, Amery\, WI\, 54001\, United States
END:VEVENT
BEGIN:VEVENT
DTSTART;TZID=UTC:20181128T130000
DTEND;TZID=UTC:20181128T210000
DTSTAMP:20260425T161053
CREATED:20181109T171612Z
LAST-MODIFIED:20181116T151131Z
UID:4587-1543410000-1543438800@eastlincolnalliance.com
SUMMARY:Life Touch Photo Directory
DESCRIPTION:
URL:https://eastlincolnalliance.com/event/life-touch-photo-directory/
LOCATION:East Lincoln Alliance Church\, 735 70th Avenue\, Amery\, WI\, 54001\, United States
END:VEVENT
BEGIN:VEVENT
DTSTART;TZID=UTC:20181127T140000
DTEND;TZID=UTC:20181127T210000
DTSTAMP:20260425T161053
CREATED:20181109T173552Z
LAST-MODIFIED:20181109T173631Z
UID:4589-1543327200-1543352400@eastlincolnalliance.com
SUMMARY:Life Touch Photo Directory
DESCRIPTION:
URL:https://eastlincolnalliance.com/event/life-touch-photo-event/
LOCATION:WI
END:VEVENT
BEGIN:VEVENT
DTSTART;TZID=UTC:20181126T140000
DTEND;TZID=UTC:20181126T210000
DTSTAMP:20260425T161053
CREATED:20181115T173101Z
LAST-MODIFIED:20181115T173101Z
UID:4606-1543240800-1543266000@eastlincolnalliance.com
SUMMARY:Life Touch Photo Directory
DESCRIPTION:
URL:https://eastlincolnalliance.com/event/life-touch-photo-directory-2/
LOCATION:East Lincoln Alliance Church\, 735 70th Avenue\, Amery\, WI\, 54001\, United States
END:VEVENT
BEGIN:VEVENT
DTSTART;TZID=UTC:20181125T093000
DTEND;TZID=UTC:20181125T104500
DTSTAMP:20260425T161053
CREATED:20180928T154648Z
LAST-MODIFIED:20180928T154648Z
UID:4456-1543138200-1543142700@eastlincolnalliance.com
SUMMARY:Worship Service & Discovery Land
DESCRIPTION:Nursery is provided during the Worship Service for 1-3 year olds.  Discovery Land for Kids is available during the Worship Service for ages 4 years – 5th grade.
URL:https://eastlincolnalliance.com/event/worship-service-discovery-land-33/
LOCATION:East Lincoln Alliance Church\, 735 70th Avenue\, Amery\, WI\, 54001\, United States
END:VEVENT
BEGIN:VEVENT
DTSTART;TZID=UTC:20181121T190000
DTEND;TZID=UTC:20181121T200000
DTSTAMP:20260425T161053
CREATED:20180928T160321Z
LAST-MODIFIED:20181022T165605Z
UID:4477-1542826800-1542830400@eastlincolnalliance.com
SUMMARY:Thanksgiving Eve Service
DESCRIPTION:
URL:https://eastlincolnalliance.com/event/thanksgiving-eve-service/
LOCATION:East Lincoln Alliance Church\, 735 70th Avenue\, Amery\, WI\, 54001\, United States
END:VEVENT
BEGIN:VEVENT
DTSTART;TZID=UTC:20181119T183000
DTEND;TZID=UTC:20181119T203000
DTSTAMP:20260425T161053
CREATED:20181012T150715Z
LAST-MODIFIED:20181012T150715Z
UID:4514-1542652200-1542659400@eastlincolnalliance.com
SUMMARY:Elder Meeting
DESCRIPTION:
URL:https://eastlincolnalliance.com/event/elder-meeting-3/
LOCATION:WI
END:VEVENT
BEGIN:VEVENT
DTSTART;TZID=UTC:20181118T110000
DTEND;TZID=UTC:20181118T120000
DTSTAMP:20260425T161053
CREATED:20181018T150053Z
LAST-MODIFIED:20181018T150053Z
UID:4520-1542538800-1542542400@eastlincolnalliance.com
SUMMARY:Missions Committee Meeting
DESCRIPTION:
URL:https://eastlincolnalliance.com/event/missions-committee-meeting-3/
LOCATION:WI
END:VEVENT
BEGIN:VEVENT
DTSTART;TZID=UTC:20181118T104500
DTEND;TZID=UTC:20181118T120000
DTSTAMP:20260425T161053
CREATED:20181011T143650Z
LAST-MODIFIED:20181011T143650Z
UID:4507-1542537900-1542542400@eastlincolnalliance.com
SUMMARY:Soup-er Sunday
DESCRIPTION:Join us for a hot soup meal with the church family.  Proceeds support Cornerstone Counseling.
URL:https://eastlincolnalliance.com/event/soup-er-sunday-5/
LOCATION:East Lincoln Alliance Church\, 735 70th Avenue\, Amery\, WI\, 54001\, United States
END:VEVENT
BEGIN:VEVENT
DTSTART;TZID=UTC:20181118T093000
DTEND;TZID=UTC:20181118T104500
DTSTAMP:20260425T161053
CREATED:20180928T154438Z
LAST-MODIFIED:20180928T154534Z
UID:4454-1542533400-1542537900@eastlincolnalliance.com
SUMMARY:Worship Service & Discovery Land
DESCRIPTION:Nursery is provided during the Worship Service for 1-3 year olds.  Discovery Land for Kids is available during the Worship Service for ages 4 years – 5th grade.
URL:https://eastlincolnalliance.com/event/worship-service-discovery-land-32/
LOCATION:East Lincoln Alliance Church\, 735 70th Avenue\, Amery\, WI\, 54001\, United States
END:VEVENT
BEGIN:VEVENT
DTSTART;TZID=UTC:20181114T180000
DTEND;TZID=UTC:20181114T200000
DTSTAMP:20260425T161053
CREATED:20180928T155855Z
LAST-MODIFIED:20180928T155855Z
UID:4473-1542218400-1542225600@eastlincolnalliance.com
SUMMARY:Recharge
DESCRIPTION:
URL:https://eastlincolnalliance.com/event/recharge-18/
LOCATION:East Lincoln Alliance Church\, 735 70th Avenue\, Amery\, WI\, 54001\, United States
ORGANIZER;CN="Kent Tollakson":MAILTO:cornerstonecounsel@gmail.com
END:VEVENT
BEGIN:VEVENT
DTSTART;TZID=UTC:20181114T150000
DTEND;TZID=UTC:20181114T163000
DTSTAMP:20260425T161053
CREATED:20180928T155414Z
LAST-MODIFIED:20180928T155414Z
UID:4466-1542207600-1542213000@eastlincolnalliance.com
SUMMARY:Good News Clubs
DESCRIPTION:
URL:https://eastlincolnalliance.com/event/good-news-clubs-19/
LOCATION:Amery Schools\, Minneapolis Ave\, Amery\, WI\, 54001\, United States
END:VEVENT
BEGIN:VEVENT
DTSTART;TZID=UTC:20181111T104500
DTEND;TZID=UTC:20181111T120000
DTSTAMP:20260425T161053
CREATED:20181010T144408Z
LAST-MODIFIED:20181010T144408Z
UID:4504-1541933100-1541937600@eastlincolnalliance.com
SUMMARY:Annual Meeting & Potluck
DESCRIPTION:
URL:https://eastlincolnalliance.com/event/annual-meeting-potluck/
LOCATION:East Lincoln Alliance Church\, 735 70th Avenue\, Amery\, WI\, 54001\, United States
END:VEVENT
BEGIN:VEVENT
DTSTART;TZID=UTC:20181111T093000
DTEND;TZID=UTC:20181111T104500
DTSTAMP:20260425T161053
CREATED:20180928T154036Z
LAST-MODIFIED:20180928T154101Z
UID:4450-1541928600-1541933100@eastlincolnalliance.com
SUMMARY:Worship Service & Discovery Land
DESCRIPTION:Nursery is provided during the Worship Service for 1-3 year olds.  Discovery Land for Kids is available during the Worship Service for ages 4 years – 5th grade.
URL:https://eastlincolnalliance.com/event/worship-service-discovery-land-30/
LOCATION:East Lincoln Alliance Church\, 735 70th Avenue\, Amery\, WI\, 54001\, United States
END:VEVENT
BEGIN:VEVENT
DTSTART;TZID=UTC:20181110T100000
DTEND;TZID=UTC:20181110T120000
DTSTAMP:20260425T161053
CREATED:20181025T142603Z
LAST-MODIFIED:20181025T142711Z
UID:4569-1541844000-1541851200@eastlincolnalliance.com
SUMMARY:Essential Oils Make & Take Class
DESCRIPTION:Please RSVP to Julie Anderson.  Minimal cost for supplies.
URL:https://eastlincolnalliance.com/event/essential-oils-make-take-class/
LOCATION:East Lincoln Alliance Church\, 735 70th Avenue\, Amery\, WI\, 54001\, United States
END:VEVENT
BEGIN:VEVENT
DTSTART;TZID=UTC:20181110T090000
DTEND;TZID=UTC:20181110T160000
DTSTAMP:20260425T161053
CREATED:20180928T154834Z
LAST-MODIFIED:20180928T160444Z
UID:4458-1541840400-1541865600@eastlincolnalliance.com
SUMMARY:Women's Craft Day
DESCRIPTION:
URL:https://eastlincolnalliance.com/event/womens-craft-day-7/
LOCATION:East Lincoln Alliance Church\, 735 70th Avenue\, Amery\, WI\, 54001\, United States
ORGANIZER;CN="Amanda Fisk":MAILTO:annisseau@gmail.com
END:VEVENT
BEGIN:VEVENT
DTSTART;TZID=UTC:20181110T080000
DTEND;TZID=UTC:20181110T150000
DTSTAMP:20260425T161053
CREATED:20181025T142925Z
LAST-MODIFIED:20181025T142949Z
UID:4572-1541836800-1541862000@eastlincolnalliance.com
SUMMARY:Woman Up! Make Up Workshop
DESCRIPTION:Make Up Workshop for those who missed September 22.  RSVP Rosemary Sheffel.
URL:https://eastlincolnalliance.com/event/woman-up-make-up-workshop/
LOCATION:East Lincoln Alliance Church\, 735 70th Avenue\, Amery\, WI\, 54001\, United States
END:VEVENT
BEGIN:VEVENT
DTSTART;TZID=UTC:20181107T180000
DTEND;TZID=UTC:20181107T200000
DTSTAMP:20260425T161053
CREATED:20180928T155520Z
LAST-MODIFIED:20180928T155611Z
UID:4468-1541613600-1541620800@eastlincolnalliance.com
SUMMARY:Recharge
DESCRIPTION:
URL:https://eastlincolnalliance.com/event/good-news-clubs-20/
LOCATION:East Lincoln Alliance Church\, 735 70th Avenue\, Amery\, WI\, 54001\, United States
ORGANIZER;CN="Kent Tollakson":MAILTO:cornerstonecounsel@gmail.com
END:VEVENT
BEGIN:VEVENT
DTSTART;TZID=UTC:20181107T150000
DTEND;TZID=UTC:20181107T163000
DTSTAMP:20260425T161053
CREATED:20180928T155304Z
LAST-MODIFIED:20180928T155304Z
UID:4464-1541602800-1541608200@eastlincolnalliance.com
SUMMARY:Good News Clubs
DESCRIPTION:
URL:https://eastlincolnalliance.com/event/good-news-clubs-18/
LOCATION:Amery Schools\, Minneapolis Ave\, Amery\, WI\, 54001\, United States
END:VEVENT
BEGIN:VEVENT
DTSTART;TZID=UTC:20181105T183000
DTEND;TZID=UTC:20181105T203000
DTSTAMP:20260425T161053
CREATED:20181012T150622Z
LAST-MODIFIED:20181012T150622Z
UID:4512-1541442600-1541449800@eastlincolnalliance.com
SUMMARY:Elder Meeting
DESCRIPTION:
URL:https://eastlincolnalliance.com/event/elder-meeting-2/
LOCATION:WI
END:VEVENT
BEGIN:VEVENT
DTSTART;TZID=UTC:20181104T110000
DTEND;TZID=UTC:20181104T120000
DTSTAMP:20260425T161053
CREATED:20181025T142153Z
LAST-MODIFIED:20181025T142153Z
UID:4567-1541329200-1541332800@eastlincolnalliance.com
SUMMARY:Prayer Team Meeting
DESCRIPTION:
URL:https://eastlincolnalliance.com/event/prayer-team-meeting-2/
LOCATION:WI
END:VEVENT
BEGIN:VEVENT
DTSTART;TZID=UTC:20181104T093000
DTEND;TZID=UTC:20181104T104500
DTSTAMP:20260425T161053
CREATED:20180928T154256Z
LAST-MODIFIED:20180928T154256Z
UID:4452-1541323800-1541328300@eastlincolnalliance.com
SUMMARY:Worship Service & Discovery Land
DESCRIPTION:Nursery is provided during the Worship Service for 1-3 year olds.  Discovery Land for Kids is available during the Worship Service for ages 4 years – 5th grade.
URL:https://eastlincolnalliance.com/event/worship-service-discovery-land-31/
LOCATION:East Lincoln Alliance Church\, 735 70th Avenue\, Amery\, WI\, 54001\, United States
END:VEVENT
END:VCALENDAR