BEGIN:VCALENDAR
VERSION:2.0
PRODID:-//East Lincoln Alliance Church - ECPv6.15.20//NONSGML v1.0//EN
CALSCALE:GREGORIAN
METHOD:PUBLISH
X-WR-CALNAME:East Lincoln Alliance Church
X-ORIGINAL-URL:https://eastlincolnalliance.com
X-WR-CALDESC:Events for East Lincoln Alliance Church
REFRESH-INTERVAL;VALUE=DURATION:PT1H
X-Robots-Tag:noindex
X-PUBLISHED-TTL:PT1H
BEGIN:VTIMEZONE
TZID:UTC
BEGIN:STANDARD
TZOFFSETFROM:+0000
TZOFFSETTO:+0000
TZNAME:UTC
DTSTART:20170101T000000
END:STANDARD
END:VTIMEZONE
BEGIN:VEVENT
DTSTART;TZID=UTC:20180610T104500
DTEND;TZID=UTC:20180610T113000
DTSTAMP:20260425T103839
CREATED:20180510T150317Z
LAST-MODIFIED:20180510T151254Z
UID:4026-1528627500-1528630200@eastlincolnalliance.com
SUMMARY:Congregational Meeting
DESCRIPTION:A brief Congregational Meeting to vote on an elder candidate following Worship Service.
URL:https://eastlincolnalliance.com/event/congregational-meeting/
LOCATION:East Lincoln Alliance Church\, 735 70th Avenue\, Amery\, WI\, 54001\, United States
END:VEVENT
BEGIN:VEVENT
DTSTART;TZID=UTC:20180610T093000
DTEND;TZID=UTC:20180610T104500
DTSTAMP:20260425T103839
CREATED:20180426T145217Z
LAST-MODIFIED:20180426T145237Z
UID:3996-1528623000-1528627500@eastlincolnalliance.com
SUMMARY:Worship Service & Discovery Land
DESCRIPTION:Nursery is provided during the Worship Service for 1-3 year olds.  Discovery Land for Kids is available during the Worship Service for ages 4 years – 5th grade.
URL:https://eastlincolnalliance.com/event/worship-service-discovery-land-9/
LOCATION:East Lincoln Alliance Church\, 735 70th Avenue\, Amery\, WI\, 54001\, United States
END:VEVENT
BEGIN:VEVENT
DTSTART;TZID=UTC:20180609T090000
DTEND;TZID=UTC:20180609T160000
DTSTAMP:20260425T103839
CREATED:20180517T151227Z
LAST-MODIFIED:20180517T151227Z
UID:4064-1528534800-1528560000@eastlincolnalliance.com
SUMMARY:Women's Craft Day
DESCRIPTION:To attend\, RSVP Amanda Fisk.
URL:https://eastlincolnalliance.com/event/womens-craft-day-2/
LOCATION:East Lincoln Alliance Church\, 735 70th Avenue\, Amery\, WI\, 54001\, United States
ORGANIZER;CN="Amanda Fisk":MAILTO:annisseau@gmail.com
END:VEVENT
BEGIN:VEVENT
DTSTART;VALUE=DATE:20180608
DTEND;VALUE=DATE:20180609
DTSTAMP:20260425T103839
CREATED:20180516T144541Z
LAST-MODIFIED:20180516T144820Z
UID:4040-1528416000-1528502399@eastlincolnalliance.com
SUMMARY:Youth Group - Joyful Noise Concert
DESCRIPTION:Contact Kent Tollakson for more details.
URL:https://eastlincolnalliance.com/event/youth-group-joyful-noise-concert/
LOCATION:WI
ORGANIZER;CN="Kent Tollakson":MAILTO:cornerstonecounsel@gmail.com
END:VEVENT
BEGIN:VEVENT
DTSTART;TZID=UTC:20180604T183000
DTEND;TZID=UTC:20180604T203000
DTSTAMP:20260425T103839
CREATED:20180426T145821Z
LAST-MODIFIED:20180427T141416Z
UID:4002-1528137000-1528144200@eastlincolnalliance.com
SUMMARY:Elders Meeting
DESCRIPTION:
URL:https://eastlincolnalliance.com/event/elders-meeting-3/
LOCATION:WI
END:VEVENT
BEGIN:VEVENT
DTSTART;TZID=UTC:20180603T093000
DTEND;TZID=UTC:20180603T104500
DTSTAMP:20260425T103839
CREATED:20180426T145058Z
LAST-MODIFIED:20180426T145058Z
UID:3994-1528018200-1528022700@eastlincolnalliance.com
SUMMARY:Worship Service & Discovery Land
DESCRIPTION:Nursery is provided during the Worship Service for 1-3 year olds.  Discovery Land for Kids is available during the Worship Service for ages 4 years – 5th grade.
URL:https://eastlincolnalliance.com/event/worship-service-discovery-land-8/
LOCATION:East Lincoln Alliance Church\, 735 70th Avenue\, Amery\, WI\, 54001\, United States
END:VEVENT
BEGIN:VEVENT
DTSTART;TZID=UTC:20180527T093000
DTEND;TZID=UTC:20180527T104500
DTSTAMP:20260425T103839
CREATED:20180409T182901Z
LAST-MODIFIED:20180409T182914Z
UID:3950-1527413400-1527417900@eastlincolnalliance.com
SUMMARY:Worship Service & Discovery Land
DESCRIPTION:Nursery is provided during the Worship Service for 1-3 year olds.  Discovery Land for Kids is available during the Worship Service for ages 4 years – 5th grade.
URL:https://eastlincolnalliance.com/event/worship-service-discovery-land-7/
LOCATION:East Lincoln Alliance Church\, 735 70th Avenue\, Amery\, WI\, 54001\, United States
END:VEVENT
BEGIN:VEVENT
DTSTART;TZID=UTC:20180526T080000
DTEND;TZID=UTC:20180526T120000
DTSTAMP:20260425T103839
CREATED:20180412T151456Z
LAST-MODIFIED:20180516T152816Z
UID:3979-1527321600-1527336000@eastlincolnalliance.com
SUMMARY:Missions Fundraiser Garage Sale
DESCRIPTION:
URL:https://eastlincolnalliance.com/event/missions-fundraiser-garage-sale-3/
LOCATION:Parsonage\, 737 70th Avenue Co Rd J\, Amery\, WI\, 54001\, United States
END:VEVENT
BEGIN:VEVENT
DTSTART;TZID=UTC:20180525T080000
DTEND;TZID=UTC:20180525T180000
DTSTAMP:20260425T103839
CREATED:20180412T151340Z
LAST-MODIFIED:20180516T152653Z
UID:3977-1527235200-1527271200@eastlincolnalliance.com
SUMMARY:Missions Fundraiser Garage Sale
DESCRIPTION:
URL:https://eastlincolnalliance.com/event/missions-fundraiser-garage-sale-2/
LOCATION:Parsonage\, 737 70th Avenue Co Rd J\, Amery\, WI\, 54001\, United States
END:VEVENT
BEGIN:VEVENT
DTSTART;TZID=UTC:20180524T150000
DTEND;TZID=UTC:20180524T180000
DTSTAMP:20260425T103839
CREATED:20180412T151213Z
LAST-MODIFIED:20180412T151213Z
UID:3974-1527174000-1527184800@eastlincolnalliance.com
SUMMARY:Missions Fundraiser Garage Sale
DESCRIPTION:
URL:https://eastlincolnalliance.com/event/missions-fundraiser-garage-sale/
LOCATION:Parsonage\, 737 70th Avenue Co Rd J\, Amery\, WI\, 54001\, United States
END:VEVENT
BEGIN:VEVENT
DTSTART;TZID=UTC:20180521T183000
DTEND;TZID=UTC:20180521T203000
DTSTAMP:20260425T103839
CREATED:20180409T184756Z
LAST-MODIFIED:20180427T141321Z
UID:3965-1526927400-1526934600@eastlincolnalliance.com
SUMMARY:Elders Meeting
DESCRIPTION:
URL:https://eastlincolnalliance.com/event/elders-meeting-6/
LOCATION:WI
END:VEVENT
BEGIN:VEVENT
DTSTART;TZID=UTC:20180520T110000
DTEND;TZID=UTC:20180520T120000
DTSTAMP:20260425T103839
CREATED:20180503T145159Z
LAST-MODIFIED:20180503T145159Z
UID:4020-1526814000-1526817600@eastlincolnalliance.com
SUMMARY:Prayer Team Meeting
DESCRIPTION:
URL:https://eastlincolnalliance.com/event/prayer-team-meeting/
LOCATION:East Lincoln Alliance Church\, 735 70th Avenue\, Amery\, WI\, 54001\, United States
END:VEVENT
BEGIN:VEVENT
DTSTART;TZID=UTC:20180520T093000
DTEND;TZID=UTC:20180520T104500
DTSTAMP:20260425T103839
CREATED:20180409T182706Z
LAST-MODIFIED:20180409T182706Z
UID:3948-1526808600-1526813100@eastlincolnalliance.com
SUMMARY:Worship Service & Discovery Land
DESCRIPTION:Nursery is provided during the Worship Service for 1-3 year olds.  Discovery Land for Kids is available during the Worship Service for ages 4 years – 5th grade.
URL:https://eastlincolnalliance.com/event/worship-service-discovery-land-6/
LOCATION:East Lincoln Alliance Church\, 735 70th Avenue\, Amery\, WI\, 54001\, United States
END:VEVENT
BEGIN:VEVENT
DTSTART;TZID=UTC:20180513T093000
DTEND;TZID=UTC:20180513T104500
DTSTAMP:20260425T103839
CREATED:20180409T182557Z
LAST-MODIFIED:20180409T182557Z
UID:3946-1526203800-1526208300@eastlincolnalliance.com
SUMMARY:Worship Service & Discovery Land
DESCRIPTION:Nursery is provided during the Worship Service for 1-3 year olds.  Discovery Land for Kids is available during the Worship Service for ages 4 years – 5th grade.
URL:https://eastlincolnalliance.com/event/worship-service-discovery-land-5/
LOCATION:East Lincoln Alliance Church\, 735 70th Avenue\, Amery\, WI\, 54001\, United States
END:VEVENT
BEGIN:VEVENT
DTSTART;TZID=UTC:20180512T000000
DTEND;TZID=UTC:20180512T000000
DTSTAMP:20260425T103839
CREATED:20180409T184703Z
LAST-MODIFIED:20180409T184703Z
UID:3963-1526083200-1526083200@eastlincolnalliance.com
SUMMARY:No Women's Craft Day
DESCRIPTION:There will not be a craft day at the church this month.
URL:https://eastlincolnalliance.com/event/no-womens-craft-day/
LOCATION:East Lincoln Alliance Church\, 735 70th Avenue\, Amery\, WI\, 54001\, United States
ORGANIZER;CN="Amanda Fisk":MAILTO:annisseau@gmail.com
END:VEVENT
BEGIN:VEVENT
DTSTART;TZID=UTC:20180507T183000
DTEND;TZID=UTC:20180507T203000
DTSTAMP:20260425T103839
CREATED:20180409T184426Z
LAST-MODIFIED:20180427T141213Z
UID:3961-1525717800-1525725000@eastlincolnalliance.com
SUMMARY:Elders Meeting
DESCRIPTION:
URL:https://eastlincolnalliance.com/event/elders-meeting-5/
LOCATION:WI
END:VEVENT
BEGIN:VEVENT
DTSTART;TZID=UTC:20180506T104500
DTEND;TZID=UTC:20180506T120000
DTSTAMP:20260425T103839
CREATED:20180430T172538Z
LAST-MODIFIED:20180430T172538Z
UID:4014-1525603500-1525608000@eastlincolnalliance.com
SUMMARY:Women's Ministry Meeting
DESCRIPTION:
URL:https://eastlincolnalliance.com/event/womens-ministry-meeting-3/
LOCATION:East Lincoln Alliance Church\, 735 70th Avenue\, Amery\, WI\, 54001\, United States
END:VEVENT
BEGIN:VEVENT
DTSTART;TZID=UTC:20180506T104500
DTEND;TZID=UTC:20180506T120000
DTSTAMP:20260425T103839
CREATED:20180409T184324Z
LAST-MODIFIED:20180409T184324Z
UID:3959-1525603500-1525608000@eastlincolnalliance.com
SUMMARY:Soup-er Sunday
DESCRIPTION:Join us for a hot soup meal with the church family.  Proceeds support Cornerstone Counseling.
URL:https://eastlincolnalliance.com/event/soup-er-sunday-2/
LOCATION:East Lincoln Alliance Church\, 735 70th Avenue\, Amery\, WI\, 54001\, United States
END:VEVENT
BEGIN:VEVENT
DTSTART;TZID=UTC:20180506T093000
DTEND;TZID=UTC:20180506T104500
DTSTAMP:20260425T103839
CREATED:20180409T182053Z
LAST-MODIFIED:20180409T182422Z
UID:3943-1525599000-1525603500@eastlincolnalliance.com
SUMMARY:Worship Service & Discovery Land
DESCRIPTION:Nursery is provided during the Worship Service for 1-3 year olds.  Discovery Land for Kids is available during the Worship Service for ages 4 years – 5th grade.
URL:https://eastlincolnalliance.com/event/worship-service-discovery-land-4/
LOCATION:East Lincoln Alliance Church\, 735 70th Avenue\, Amery\, WI\, 54001\, United States
END:VEVENT
BEGIN:VEVENT
DTSTART;VALUE=DATE:20180503
DTEND;VALUE=DATE:20180504
DTSTAMP:20260425T103839
CREATED:20180424T153725Z
LAST-MODIFIED:20180424T153725Z
UID:3991-1525305600-1525391999@eastlincolnalliance.com
SUMMARY:National Day of Prayer - Unity
DESCRIPTION:The Prayer Room will be open all day.  We will meet from 6:30-7:30 pm to pray as a group.
URL:https://eastlincolnalliance.com/event/national-day-of-prayer-unity/
LOCATION:WI
END:VEVENT
BEGIN:VEVENT
DTSTART;TZID=UTC:20180502T173000
DTEND;TZID=UTC:20180502T193000
DTSTAMP:20260425T103839
CREATED:20180409T183125Z
LAST-MODIFIED:20180411T142737Z
UID:3952-1525282200-1525289400@eastlincolnalliance.com
SUMMARY:RECHARGE Mexican Fiesta Fundraiser
DESCRIPTION:Come enjoy a large build your own taco bar with dessert.  A free-will offering will be taken.  Proceeds benefit the youth ministry.
URL:https://eastlincolnalliance.com/event/mexican-fiesta-fundraiser-for-recharge/
LOCATION:East Lincoln Alliance Church\, 735 70th Avenue\, Amery\, WI\, 54001\, United States
END:VEVENT
BEGIN:VEVENT
DTSTART;TZID=UTC:20180429T111500
DTEND;TZID=UTC:20180429T123000
DTSTAMP:20260425T103839
CREATED:20180411T162938Z
LAST-MODIFIED:20180416T153749Z
UID:3971-1525000500-1525005000@eastlincolnalliance.com
SUMMARY:Appreciation Luncheon for Children & Youth Ministry Volunteers
DESCRIPTION:
URL:https://eastlincolnalliance.com/event/appreciation-luncheon-for-children-youth-ministry-volunteers/
LOCATION:East Lincoln Alliance Church\, 735 70th Avenue\, Amery\, WI\, 54001\, United States
END:VEVENT
BEGIN:VEVENT
DTSTART;TZID=UTC:20180429T110000
DTEND;TZID=UTC:20180429T120000
DTSTAMP:20260425T103839
CREATED:20180416T153414Z
LAST-MODIFIED:20180416T153414Z
UID:3983-1524999600-1525003200@eastlincolnalliance.com
SUMMARY:Women's Ministry Meeting
DESCRIPTION:
URL:https://eastlincolnalliance.com/event/womens-ministry-meeting-2/
LOCATION:East Lincoln Alliance Church\, 735 70th Avenue\, Amery\, WI\, 54001\, United States
END:VEVENT
BEGIN:VEVENT
DTSTART;TZID=UTC:20180429T093000
DTEND;TZID=UTC:20180429T104500
DTSTAMP:20260425T103839
CREATED:20180328T160558Z
LAST-MODIFIED:20180416T153654Z
UID:3889-1524994200-1524998700@eastlincolnalliance.com
SUMMARY:Worship Service & Discovery Land
DESCRIPTION:Nursery is provided during the Worship Service for 1-3 year olds.  Discovery Land for Kids is available during the Worship Service for ages 4 years – 5th grade.
URL:https://eastlincolnalliance.com/event/worship-service-discovery-land-3/
LOCATION:East Lincoln Alliance Church\, 735 70th Avenue\, Amery\, WI\, 54001\, United States
END:VEVENT
BEGIN:VEVENT
DTSTART;TZID=UTC:20180428T080000
DTEND;TZID=UTC:20180428T120000
DTSTAMP:20260425T103839
CREATED:20180328T162830Z
LAST-MODIFIED:20180328T162830Z
UID:3906-1524902400-1524916800@eastlincolnalliance.com
SUMMARY:Spring Work Days
DESCRIPTION:Join us the week of Monday\, April 23 as we clean the church.  Sign up to work during the week or come on Saturday at 8 am with a potluck at noon. \nSee the Information Table for more details.
URL:https://eastlincolnalliance.com/event/spring-work-days/
LOCATION:East Lincoln Alliance Church\, 735 70th Avenue\, Amery\, WI\, 54001\, United States
END:VEVENT
BEGIN:VEVENT
DTSTART;TZID=UTC:20180425T180000
DTEND;TZID=UTC:20180425T200000
DTSTAMP:20260425T103839
CREATED:20180328T160019Z
LAST-MODIFIED:20180328T160019Z
UID:3882-1524679200-1524686400@eastlincolnalliance.com
SUMMARY:Recharge
DESCRIPTION:
URL:https://eastlincolnalliance.com/event/recharge-8/
LOCATION:East Lincoln Alliance Church\, 735 70th Avenue\, Amery\, WI\, 54001\, United States
END:VEVENT
BEGIN:VEVENT
DTSTART;TZID=UTC:20180425T173000
DTEND;TZID=UTC:20180425T190000
DTSTAMP:20260425T103839
CREATED:20180406T165226Z
LAST-MODIFIED:20180406T165226Z
UID:3934-1524677400-1524682800@eastlincolnalliance.com
SUMMARY:Uplifting Our Youth In Prayer
DESCRIPTION:Join us in the Prayer Room in the east wing as we pray for our youth.
URL:https://eastlincolnalliance.com/event/uplifting-our-youth-in-prayer-3/
LOCATION:East Lincoln Alliance Church\, 735 70th Avenue\, Amery\, WI\, 54001\, United States
END:VEVENT
BEGIN:VEVENT
DTSTART;TZID=UTC:20180425T150000
DTEND;TZID=UTC:20180425T163000
DTSTAMP:20260425T103839
CREATED:20180328T155642Z
LAST-MODIFIED:20180409T180946Z
UID:3876-1524668400-1524673800@eastlincolnalliance.com
SUMMARY:Good News Clubs
DESCRIPTION:
URL:https://eastlincolnalliance.com/event/good-news-clubs-8/
LOCATION:Amery Schools\, Minneapolis Ave\, Amery\, WI\, 54001\, United States
END:VEVENT
BEGIN:VEVENT
DTSTART;TZID=UTC:20180423T190000
DTEND;TZID=UTC:20180423T203000
DTSTAMP:20260425T103839
CREATED:20180409T181601Z
LAST-MODIFIED:20180409T181619Z
UID:3941-1524510000-1524515400@eastlincolnalliance.com
SUMMARY:Elders Meeting
DESCRIPTION:
URL:https://eastlincolnalliance.com/event/elders-meeting-4/
LOCATION:Parsonage\, 737 70th Avenue Co Rd J\, Amery\, WI\, 54001\, United States
END:VEVENT
BEGIN:VEVENT
DTSTART;TZID=UTC:20180422T093000
DTEND;TZID=UTC:20180422T104500
DTSTAMP:20260425T103839
CREATED:20180328T160455Z
LAST-MODIFIED:20180328T160455Z
UID:3887-1524389400-1524393900@eastlincolnalliance.com
SUMMARY:Worship Service & Discovery Land
DESCRIPTION:Nursery is provided during the Worship Service for 1-3 year olds.  Discovery Land for Kids is available during the Worship Service for ages 4 years – 5th grade.
URL:https://eastlincolnalliance.com/event/worship-service-discovery-land-2/
LOCATION:WI
END:VEVENT
END:VCALENDAR