BEGIN:VCALENDAR
VERSION:2.0
PRODID:-//East Lincoln Alliance Church - ECPv6.15.20//NONSGML v1.0//EN
CALSCALE:GREGORIAN
METHOD:PUBLISH
X-WR-CALNAME:East Lincoln Alliance Church
X-ORIGINAL-URL:https://eastlincolnalliance.com
X-WR-CALDESC:Events for East Lincoln Alliance Church
REFRESH-INTERVAL;VALUE=DURATION:PT1H
X-Robots-Tag:noindex
X-PUBLISHED-TTL:PT1H
BEGIN:VTIMEZONE
TZID:UTC
BEGIN:STANDARD
TZOFFSETFROM:+0000
TZOFFSETTO:+0000
TZNAME:UTC
DTSTART:20170101T000000
END:STANDARD
END:VTIMEZONE
BEGIN:VEVENT
DTSTART;TZID=UTC:20190113T093000
DTEND;TZID=UTC:20190113T104500
DTSTAMP:20260425T120451
CREATED:20181128T172317Z
LAST-MODIFIED:20181128T172317Z
UID:4626-1547371800-1547376300@eastlincolnalliance.com
SUMMARY:Worship Service & Discovery Land
DESCRIPTION:Nursery is provided during the Worship Service for 1-3 year olds.  Discovery Land for Kids is available during the Worship Service for ages 4 years – 5th grade.
URL:https://eastlincolnalliance.com/event/worship-service-discovery-land-39/
LOCATION:East Lincoln Alliance Church\, 735 70th Avenue\, Amery\, WI\, 54001\, United States
END:VEVENT
BEGIN:VEVENT
DTSTART;TZID=UTC:20190112T100000
DTEND;TZID=UTC:20190112T120000
DTSTAMP:20260425T120451
CREATED:20181231T174239Z
LAST-MODIFIED:20190103T172808Z
UID:4732-1547287200-1547294400@eastlincolnalliance.com
SUMMARY:Make & Take Project
DESCRIPTION:Make & take home a  Mini Paper Photo Album.  Sign up on the Information Table or RSVP Julie Anderson.
URL:https://eastlincolnalliance.com/event/ladies-craft-day-make-take/
LOCATION:East Lincoln Alliance Church\, 735 70th Avenue\, Amery\, WI\, 54001\, United States
END:VEVENT
BEGIN:VEVENT
DTSTART;TZID=UTC:20190112T090000
DTEND;TZID=UTC:20190112T160000
DTSTAMP:20260425T120451
CREATED:20181129T160528Z
LAST-MODIFIED:20190103T175135Z
UID:4636-1547283600-1547308800@eastlincolnalliance.com
SUMMARY:Women's Craft Day
DESCRIPTION:To attend\, RSVP Amanda Fisk.
URL:https://eastlincolnalliance.com/event/womens-craft-day-9/
LOCATION:East Lincoln Alliance Church\, 735 70th Avenue\, Amery\, WI\, 54001\, United States
ORGANIZER;CN="Amanda Fisk":MAILTO:annisseau@gmail.com
END:VEVENT
BEGIN:VEVENT
DTSTART;TZID=UTC:20190109T180000
DTEND;TZID=UTC:20190109T200000
DTSTAMP:20260425T120451
CREATED:20181129T162427Z
LAST-MODIFIED:20181129T162427Z
UID:4652-1547056800-1547064000@eastlincolnalliance.com
SUMMARY:Recharge
DESCRIPTION:
URL:https://eastlincolnalliance.com/event/recharge-24/
LOCATION:East Lincoln Alliance Church\, 735 70th Avenue\, Amery\, WI\, 54001\, United States
ORGANIZER;CN="Kent Tollakson":MAILTO:cornerstonecounsel@gmail.com
END:VEVENT
BEGIN:VEVENT
DTSTART;TZID=UTC:20190109T150000
DTEND;TZID=UTC:20190109T163000
DTSTAMP:20260425T120451
CREATED:20181129T161902Z
LAST-MODIFIED:20181129T161902Z
UID:4642-1547046000-1547051400@eastlincolnalliance.com
SUMMARY:Good News Clubs
DESCRIPTION:
URL:https://eastlincolnalliance.com/event/good-news-clubs-24/
LOCATION:Amery Schools\, Minneapolis Ave\, Amery\, WI\, 54001\, United States
END:VEVENT
BEGIN:VEVENT
DTSTART;TZID=UTC:20190107T183000
DTEND;TZID=UTC:20190107T203000
DTSTAMP:20260425T120451
CREATED:20181128T172930Z
LAST-MODIFIED:20181128T172930Z
UID:4632-1546885800-1546893000@eastlincolnalliance.com
SUMMARY:Elders Meeting
DESCRIPTION:
URL:https://eastlincolnalliance.com/event/elders-meeting-16/
LOCATION:WI
END:VEVENT
BEGIN:VEVENT
DTSTART;TZID=UTC:20190106T110000
DTEND;TZID=UTC:20190106T120000
DTSTAMP:20260425T120451
CREATED:20181214T153744Z
LAST-MODIFIED:20181221T152807Z
UID:4677-1546772400-1546776000@eastlincolnalliance.com
SUMMARY:Recharge Parents Mission Trip Meeting
DESCRIPTION:Meeting for parents of students 8th grade & up concerning an upcoming mission trip to the Dominican Republic in 2020.
URL:https://eastlincolnalliance.com/event/recharge-parents-mission-trip-meeting/
LOCATION:East Lincoln Alliance Church\, 735 70th Avenue\, Amery\, WI\, 54001\, United States
ORGANIZER;CN="Kent Tollakson":MAILTO:cornerstonecounsel@gmail.com
END:VEVENT
BEGIN:VEVENT
DTSTART;TZID=UTC:20190106T093000
DTEND;TZID=UTC:20190106T104500
DTSTAMP:20260425T120451
CREATED:20181128T172023Z
LAST-MODIFIED:20181128T172023Z
UID:4624-1546767000-1546771500@eastlincolnalliance.com
SUMMARY:Worship Service & Discovery Land
DESCRIPTION:Nursery is provided during the Worship Service for 1-3 year olds.  Discovery Land for Kids is available during the Worship Service for ages 4 years – 5th grade.
URL:https://eastlincolnalliance.com/event/worship-service-discovery-land-38/
LOCATION:East Lincoln Alliance Church\, 735 70th Avenue\, Amery\, WI\, 54001\, United States
END:VEVENT
BEGIN:VEVENT
DTSTART;TZID=UTC:20190102T160000
DTEND;TZID=UTC:20190102T210000
DTSTAMP:20260425T120451
CREATED:20181220T153148Z
LAST-MODIFIED:20181221T152950Z
UID:4685-1546444800-1546462800@eastlincolnalliance.com
SUMMARY:Youth Ministry Service Night
DESCRIPTION:The Youth Group will travel to the Feed My Starving Children  facility in MN to pack food from 4-9 pm.
URL:https://eastlincolnalliance.com/event/youth-ministry-service-night/
LOCATION:WI
ORGANIZER;CN="Kent Tollakson":MAILTO:cornerstonecounsel@gmail.com
END:VEVENT
BEGIN:VEVENT
DTSTART;TZID=UTC:20181230T093000
DTEND;TZID=UTC:20181230T104500
DTSTAMP:20260425T120451
CREATED:20181018T162535Z
LAST-MODIFIED:20181119T165046Z
UID:4530-1546162200-1546166700@eastlincolnalliance.com
SUMMARY:Worship Service & Discovery Land
DESCRIPTION:Nursery is provided during the Worship Service for 1-3 year olds.  Discovery Land for Kids is available during the Worship Service for ages 4 years  – 5th grade.
URL:https://eastlincolnalliance.com/event/worship-service-no-discovery-land/
LOCATION:WI
END:VEVENT
BEGIN:VEVENT
DTSTART;VALUE=DATE:20181225
DTEND;VALUE=DATE:20181226
DTSTAMP:20260425T120451
CREATED:20181019T144704Z
LAST-MODIFIED:20181019T144704Z
UID:4558-1545696000-1545782399@eastlincolnalliance.com
SUMMARY:MERRY CHRISTMAS!
DESCRIPTION:
URL:https://eastlincolnalliance.com/event/merry-christmas/
LOCATION:WI
END:VEVENT
BEGIN:VEVENT
DTSTART;TZID=UTC:20181224T160000
DTEND;TZID=UTC:20181224T170000
DTSTAMP:20260425T120451
CREATED:20181018T162719Z
LAST-MODIFIED:20181018T162719Z
UID:4533-1545667200-1545670800@eastlincolnalliance.com
SUMMARY:Christmas Eve Service
DESCRIPTION:
URL:https://eastlincolnalliance.com/event/christmas-eve-service/
LOCATION:East Lincoln Alliance Church\, 735 70th Avenue\, Amery\, WI\, 54001\, United States
END:VEVENT
BEGIN:VEVENT
DTSTART;TZID=UTC:20181223T093000
DTEND;TZID=UTC:20181223T104500
DTSTAMP:20260425T120451
CREATED:20181018T162334Z
LAST-MODIFIED:20181119T165127Z
UID:4528-1545557400-1545561900@eastlincolnalliance.com
SUMMARY:Worship Service - No Discovery Land
DESCRIPTION:Nursery is provided during the Worship Service for 1-3 year olds.
URL:https://eastlincolnalliance.com/event/worship-service-discovery-land-37/
LOCATION:East Lincoln Alliance Church\, 735 70th Avenue\, Amery\, WI\, 54001\, United States
END:VEVENT
BEGIN:VEVENT
DTSTART;TZID=UTC:20181219T180000
DTEND;TZID=UTC:20181219T200000
DTSTAMP:20260425T120451
CREATED:20181019T142851Z
LAST-MODIFIED:20181019T142851Z
UID:4554-1545242400-1545249600@eastlincolnalliance.com
SUMMARY:Recharge
DESCRIPTION:
URL:https://eastlincolnalliance.com/event/recharge-22/
LOCATION:East Lincoln Alliance Church\, 735 70th Avenue\, Amery\, WI\, 54001\, United States
ORGANIZER;CN="Kent Tollakson":MAILTO:cornerstonecounsel@gmail.com
END:VEVENT
BEGIN:VEVENT
DTSTART;TZID=UTC:20181219T150000
DTEND;TZID=UTC:20181219T163000
DTSTAMP:20260425T120451
CREATED:20181019T142532Z
LAST-MODIFIED:20181019T142532Z
UID:4548-1545231600-1545237000@eastlincolnalliance.com
SUMMARY:Good News Clubs
DESCRIPTION:
URL:https://eastlincolnalliance.com/event/good-news-clubs-22/
LOCATION:Amery Schools\, Minneapolis Ave\, Amery\, WI\, 54001\, United States
END:VEVENT
BEGIN:VEVENT
DTSTART;TZID=UTC:20181217T183000
DTEND;TZID=UTC:20181217T203000
DTSTAMP:20260425T120451
CREATED:20181018T162945Z
LAST-MODIFIED:20181018T162945Z
UID:4537-1545071400-1545078600@eastlincolnalliance.com
SUMMARY:Elder Meeting
DESCRIPTION:
URL:https://eastlincolnalliance.com/event/elder-meeting-5/
LOCATION:WI
END:VEVENT
BEGIN:VEVENT
DTSTART;TZID=UTC:20181216T093000
DTEND;TZID=UTC:20181216T104500
DTSTAMP:20260425T120451
CREATED:20181018T162216Z
LAST-MODIFIED:20181018T162216Z
UID:4526-1544952600-1544957100@eastlincolnalliance.com
SUMMARY:Worship Service & Discovery Land
DESCRIPTION:Nursery is provided during the Worship Service for 1-3 year olds.  Discovery Land for Kids is available during the Worship Service for ages 4 years – 5th grade.
URL:https://eastlincolnalliance.com/event/worship-service-discovery-land-36/
LOCATION:East Lincoln Alliance Church\, 735 70th Avenue\, Amery\, WI\, 54001\, United States
END:VEVENT
BEGIN:VEVENT
DTSTART;TZID=UTC:20181212T180000
DTEND;TZID=UTC:20181212T200000
DTSTAMP:20260425T120451
CREATED:20181019T142749Z
LAST-MODIFIED:20181019T142749Z
UID:4552-1544637600-1544644800@eastlincolnalliance.com
SUMMARY:Recharge
DESCRIPTION:
URL:https://eastlincolnalliance.com/event/recharge-21/
LOCATION:East Lincoln Alliance Church\, 735 70th Avenue\, Amery\, WI\, 54001\, United States
ORGANIZER;CN="Kent Tollakson":MAILTO:cornerstonecounsel@gmail.com
END:VEVENT
BEGIN:VEVENT
DTSTART;TZID=UTC:20181212T150000
DTEND;TZID=UTC:20181212T163000
DTSTAMP:20260425T120451
CREATED:20181019T142416Z
LAST-MODIFIED:20181019T142416Z
UID:4546-1544626800-1544632200@eastlincolnalliance.com
SUMMARY:Good News Clubs
DESCRIPTION:
URL:https://eastlincolnalliance.com/event/good-news-clubs-21/
LOCATION:Amery Schools\, Minneapolis Ave\, Amery\, WI\, 54001\, United States
END:VEVENT
BEGIN:VEVENT
DTSTART;TZID=UTC:20181209T104500
DTEND;TZID=UTC:20181209T120000
DTSTAMP:20260425T120451
CREATED:20181019T142110Z
LAST-MODIFIED:20181019T142110Z
UID:4542-1544352300-1544356800@eastlincolnalliance.com
SUMMARY:Soup-er Sunday
DESCRIPTION:Join us for a hot soup meal with the church family.  Proceeds support Cornerstone Counseling.
URL:https://eastlincolnalliance.com/event/soup-er-sunday-6/
LOCATION:East Lincoln Alliance Church\, 735 70th Avenue\, Amery\, WI\, 54001\, United States
END:VEVENT
BEGIN:VEVENT
DTSTART;TZID=UTC:20181209T093000
DTEND;TZID=UTC:20181209T104500
DTSTAMP:20260425T120451
CREATED:20181018T162049Z
LAST-MODIFIED:20181018T162049Z
UID:4524-1544347800-1544352300@eastlincolnalliance.com
SUMMARY:Worship Service & Discovery Land
DESCRIPTION:Nursery is provided during the Worship Service for 1-3 year olds.  Discovery Land for Kids is available during the Worship Service for ages 4 years – 5th grade.
URL:https://eastlincolnalliance.com/event/worship-service-discovery-land-35/
LOCATION:East Lincoln Alliance Church\, 735 70th Avenue\, Amery\, WI\, 54001\, United States
END:VEVENT
BEGIN:VEVENT
DTSTART;TZID=UTC:20181208T090000
DTEND;TZID=UTC:20181208T160000
DTSTAMP:20260425T120451
CREATED:20181018T163113Z
LAST-MODIFIED:20181018T163113Z
UID:4539-1544259600-1544284800@eastlincolnalliance.com
SUMMARY:Women's Craft Day
DESCRIPTION:
URL:https://eastlincolnalliance.com/event/womens-craft-day-8/
LOCATION:East Lincoln Alliance Church\, 735 70th Avenue\, Amery\, WI\, 54001\, United States
ORGANIZER;CN="Amanda Fisk":MAILTO:annisseau@gmail.com
END:VEVENT
BEGIN:VEVENT
DTSTART;TZID=UTC:20181207T180000
DTEND;TZID=UTC:20181207T200000
DTSTAMP:20260425T120451
CREATED:20181019T143124Z
LAST-MODIFIED:20181019T143124Z
UID:4556-1544205600-1544212800@eastlincolnalliance.com
SUMMARY:Christmas Café
DESCRIPTION:
URL:https://eastlincolnalliance.com/event/christmas-cafe/
LOCATION:East Lincoln Alliance Church\, 735 70th Avenue\, Amery\, WI\, 54001\, United States
END:VEVENT
BEGIN:VEVENT
DTSTART;TZID=UTC:20181205T180000
DTEND;TZID=UTC:20181205T200000
DTSTAMP:20260425T120451
CREATED:20181019T142646Z
LAST-MODIFIED:20181019T142646Z
UID:4550-1544032800-1544040000@eastlincolnalliance.com
SUMMARY:Recharge
DESCRIPTION:
URL:https://eastlincolnalliance.com/event/recharge-20/
LOCATION:East Lincoln Alliance Church\, 735 70th Avenue\, Amery\, WI\, 54001\, United States
ORGANIZER;CN="Kent Tollakson":MAILTO:cornerstonecounsel@gmail.com
END:VEVENT
BEGIN:VEVENT
DTSTART;TZID=UTC:20181205T150000
DTEND;TZID=UTC:20181205T163000
DTSTAMP:20260425T120451
CREATED:20181019T142239Z
LAST-MODIFIED:20181019T142239Z
UID:4544-1544022000-1544027400@eastlincolnalliance.com
SUMMARY:Good News Club
DESCRIPTION:
URL:https://eastlincolnalliance.com/event/good-news-club-2/
LOCATION:Amery Schools\, Minneapolis Ave\, Amery\, WI\, 54001\, United States
END:VEVENT
BEGIN:VEVENT
DTSTART;TZID=UTC:20181203T183000
DTEND;TZID=UTC:20181203T203000
DTSTAMP:20260425T120451
CREATED:20181018T162848Z
LAST-MODIFIED:20181018T162848Z
UID:4535-1543861800-1543869000@eastlincolnalliance.com
SUMMARY:Elder Meeting
DESCRIPTION:
URL:https://eastlincolnalliance.com/event/elder-meeting-4/
LOCATION:WI
END:VEVENT
BEGIN:VEVENT
DTSTART;TZID=UTC:20181202T093000
DTEND;TZID=UTC:20181202T104500
DTSTAMP:20260425T120451
CREATED:20181018T161910Z
LAST-MODIFIED:20181018T161910Z
UID:4522-1543743000-1543747500@eastlincolnalliance.com
SUMMARY:Worship Service & Discovery Land
DESCRIPTION:Nursery is provided during the Worship Service for 1-3 year olds.  Discovery Land for Kids is available during the Worship Service for ages 4 years – 5th grade.
URL:https://eastlincolnalliance.com/event/worship-service-discovery-land-34/
LOCATION:East Lincoln Alliance Church\, 735 70th Avenue\, Amery\, WI\, 54001\, United States
END:VEVENT
BEGIN:VEVENT
DTSTART;TZID=UTC:20181128T180000
DTEND;TZID=UTC:20181128T200000
DTSTAMP:20260425T120451
CREATED:20180928T155958Z
LAST-MODIFIED:20180928T155958Z
UID:4475-1543428000-1543435200@eastlincolnalliance.com
SUMMARY:Recharge
DESCRIPTION:
URL:https://eastlincolnalliance.com/event/recharge-19/
LOCATION:East Lincoln Alliance Church\, 735 70th Avenue\, Amery\, WI\, 54001\, United States
ORGANIZER;CN="Kent Tollakson":MAILTO:cornerstonecounsel@gmail.com
END:VEVENT
BEGIN:VEVENT
DTSTART;TZID=UTC:20181128T150000
DTEND;TZID=UTC:20181128T163000
DTSTAMP:20260425T120451
CREATED:20180928T155752Z
LAST-MODIFIED:20180928T155752Z
UID:4471-1543417200-1543422600@eastlincolnalliance.com
SUMMARY:Good News Club
DESCRIPTION:
URL:https://eastlincolnalliance.com/event/good-news-club/
LOCATION:Amery Schools\, Minneapolis Ave\, Amery\, WI\, 54001\, United States
END:VEVENT
BEGIN:VEVENT
DTSTART;TZID=UTC:20181128T130000
DTEND;TZID=UTC:20181128T210000
DTSTAMP:20260425T120451
CREATED:20181109T171612Z
LAST-MODIFIED:20181116T151131Z
UID:4587-1543410000-1543438800@eastlincolnalliance.com
SUMMARY:Life Touch Photo Directory
DESCRIPTION:
URL:https://eastlincolnalliance.com/event/life-touch-photo-directory/
LOCATION:East Lincoln Alliance Church\, 735 70th Avenue\, Amery\, WI\, 54001\, United States
END:VEVENT
END:VCALENDAR