BEGIN:VCALENDAR
VERSION:2.0
PRODID:-//East Lincoln Alliance Church - ECPv6.15.20//NONSGML v1.0//EN
CALSCALE:GREGORIAN
METHOD:PUBLISH
X-WR-CALNAME:East Lincoln Alliance Church
X-ORIGINAL-URL:https://eastlincolnalliance.com
X-WR-CALDESC:Events for East Lincoln Alliance Church
REFRESH-INTERVAL;VALUE=DURATION:PT1H
X-Robots-Tag:noindex
X-PUBLISHED-TTL:PT1H
BEGIN:VTIMEZONE
TZID:UTC
BEGIN:STANDARD
TZOFFSETFROM:+0000
TZOFFSETTO:+0000
TZNAME:UTC
DTSTART:20170101T000000
END:STANDARD
END:VTIMEZONE
BEGIN:VEVENT
DTSTART;TZID=UTC:20181031T150000
DTEND;TZID=UTC:20181031T163000
DTSTAMP:20260425T122953
CREATED:20180817T165452Z
LAST-MODIFIED:20181025T142043Z
UID:4343-1540998000-1541003400@eastlincolnalliance.com
SUMMARY:NO Good News Clubs
DESCRIPTION:
URL:https://eastlincolnalliance.com/event/good-news-clubs-17/
LOCATION:Amery Schools\, Minneapolis Ave\, Amery\, WI\, 54001\, United States
END:VEVENT
BEGIN:VEVENT
DTSTART;TZID=UTC:20181029T180000
DTEND;TZID=UTC:20181029T200000
DTSTAMP:20260425T122953
CREATED:20180817T163733Z
LAST-MODIFIED:20180817T163733Z
UID:4325-1540836000-1540843200@eastlincolnalliance.com
SUMMARY:Secret Prayer Sister Reveal
DESCRIPTION:
URL:https://eastlincolnalliance.com/event/secret-prayer-sister-reveal/
LOCATION:WI
END:VEVENT
BEGIN:VEVENT
DTSTART;TZID=UTC:20181028T110000
DTEND;TZID=UTC:20181028T123000
DTSTAMP:20260425T122953
CREATED:20181002T145813Z
LAST-MODIFIED:20181011T152047Z
UID:4482-1540724400-1540729800@eastlincolnalliance.com
SUMMARY:Wilcox Baby Shower
DESCRIPTION:The entire church family is invited to a baby shower following the Worship Service for Jordan & Krista Wilcox.  They are in need of diapers and baby boy clothes.
URL:https://eastlincolnalliance.com/event/krista-wilcox-baby-shower/
LOCATION:East Lincoln Alliance Church\, 735 70th Avenue\, Amery\, WI\, 54001\, United States
END:VEVENT
BEGIN:VEVENT
DTSTART;TZID=UTC:20181028T093000
DTEND;TZID=UTC:20181028T104500
DTSTAMP:20260425T122953
CREATED:20180817T162912Z
LAST-MODIFIED:20180928T153529Z
UID:4313-1540719000-1540723500@eastlincolnalliance.com
SUMMARY:Worship Service & Discovery Land
DESCRIPTION:Nursery is provided during the Worship Service for 1-3 year olds.  Discovery Land for Kids is available during the Worship Service for ages 4 years – 5th grade.
URL:https://eastlincolnalliance.com/event/worship-service-discovery-land-29/
LOCATION:East Lincoln Alliance Church\, 735 70th Avenue\, Amery\, WI\, 54001\, United States
END:VEVENT
BEGIN:VEVENT
DTSTART;VALUE=DATE:20181026
DTEND;VALUE=DATE:20181029
DTSTAMP:20260425T122953
CREATED:20180927T161445Z
LAST-MODIFIED:20180927T161445Z
UID:4444-1540512000-1540771199@eastlincolnalliance.com
SUMMARY:Jr. High Retreat
DESCRIPTION:
URL:https://eastlincolnalliance.com/event/jr-high-retreat/
LOCATION:WI
END:VEVENT
BEGIN:VEVENT
DTSTART;TZID=UTC:20181024T180000
DTEND;TZID=UTC:20181024T200000
DTSTAMP:20260425T122953
CREATED:20180817T165352Z
LAST-MODIFIED:20180817T165352Z
UID:4341-1540404000-1540411200@eastlincolnalliance.com
SUMMARY:Recharge
DESCRIPTION:
URL:https://eastlincolnalliance.com/event/recharge-16/
LOCATION:East Lincoln Alliance Church\, 735 70th Avenue\, Amery\, WI\, 54001\, United States
END:VEVENT
BEGIN:VEVENT
DTSTART;TZID=UTC:20181024T150000
DTEND;TZID=UTC:20181024T163000
DTSTAMP:20260425T122953
CREATED:20180817T165301Z
LAST-MODIFIED:20180817T165301Z
UID:4339-1540393200-1540398600@eastlincolnalliance.com
SUMMARY:Good News Clubs
DESCRIPTION:
URL:https://eastlincolnalliance.com/event/good-news-clubs-16/
LOCATION:Amery Schools\, Minneapolis Ave\, Amery\, WI\, 54001\, United States
END:VEVENT
BEGIN:VEVENT
DTSTART;TZID=UTC:20181022T183000
DTEND;TZID=UTC:20181022T203000
DTSTAMP:20260425T122953
CREATED:20180817T163211Z
LAST-MODIFIED:20180817T163211Z
UID:4317-1540233000-1540240200@eastlincolnalliance.com
SUMMARY:Elders Meeting
DESCRIPTION:
URL:https://eastlincolnalliance.com/event/elders-meeting-15/
LOCATION:WI
END:VEVENT
BEGIN:VEVENT
DTSTART;TZID=UTC:20181021T110000
DTEND;TZID=UTC:20181021T123000
DTSTAMP:20260425T122953
CREATED:20180817T163631Z
LAST-MODIFIED:20180817T163631Z
UID:4323-1540119600-1540125000@eastlincolnalliance.com
SUMMARY:Discovery Land Training
DESCRIPTION:
URL:https://eastlincolnalliance.com/event/discovery-land-training-2/
LOCATION:WI
END:VEVENT
BEGIN:VEVENT
DTSTART;TZID=UTC:20181021T110000
DTEND;TZID=UTC:20181021T120000
DTSTAMP:20260425T122953
CREATED:20180817T163500Z
LAST-MODIFIED:20180817T163500Z
UID:4321-1540119600-1540123200@eastlincolnalliance.com
SUMMARY:Women's Ministry Meeting
DESCRIPTION:
URL:https://eastlincolnalliance.com/event/womens-ministry-meeting-5/
LOCATION:WI
END:VEVENT
BEGIN:VEVENT
DTSTART;TZID=UTC:20181021T093000
DTEND;TZID=UTC:20181021T104500
DTSTAMP:20260425T122953
CREATED:20180817T162755Z
LAST-MODIFIED:20180817T162755Z
UID:4311-1540114200-1540118700@eastlincolnalliance.com
SUMMARY:Worship Service & Discovery Land
DESCRIPTION:Nursery is provided during the Worship Service for 1-3 year olds.  Discovery Land for Kids is available during the Worship Service for ages 4 years – 5th grade.
URL:https://eastlincolnalliance.com/event/worship-service-discovery-land-28/
LOCATION:East Lincoln Alliance Church\, 735 70th Avenue\, Amery\, WI\, 54001\, United States
END:VEVENT
BEGIN:VEVENT
DTSTART;TZID=UTC:20181017T180000
DTEND;TZID=UTC:20181017T200000
DTSTAMP:20260425T122953
CREATED:20180817T165202Z
LAST-MODIFIED:20180817T165202Z
UID:4337-1539799200-1539806400@eastlincolnalliance.com
SUMMARY:Recharge
DESCRIPTION:
URL:https://eastlincolnalliance.com/event/recharge-15/
LOCATION:East Lincoln Alliance Church\, 735 70th Avenue\, Amery\, WI\, 54001\, United States
END:VEVENT
BEGIN:VEVENT
DTSTART;TZID=UTC:20181017T150000
DTEND;TZID=UTC:20181017T163000
DTSTAMP:20260425T122953
CREATED:20180817T165105Z
LAST-MODIFIED:20180817T165105Z
UID:4335-1539788400-1539793800@eastlincolnalliance.com
SUMMARY:Good News Clubs
DESCRIPTION:
URL:https://eastlincolnalliance.com/event/good-news-clubs-15/
LOCATION:Amery Schools\, Minneapolis Ave\, Amery\, WI\, 54001\, United States
END:VEVENT
BEGIN:VEVENT
DTSTART;TZID=UTC:20181015T183000
DTEND;TZID=UTC:20181015T193000
DTSTAMP:20260425T122953
CREATED:20180927T161324Z
LAST-MODIFIED:20180927T161324Z
UID:4442-1539628200-1539631800@eastlincolnalliance.com
SUMMARY:Praying for the Prodigal
DESCRIPTION:Join us as we pray for family and friends to grow in faith with our Lord Jesus.
URL:https://eastlincolnalliance.com/event/praying-for-the-prodigal/
LOCATION:Parsonage\, 737 70th Avenue Co Rd J\, Amery\, WI\, 54001\, United States
END:VEVENT
BEGIN:VEVENT
DTSTART;TZID=UTC:20181014T104500
DTEND;TZID=UTC:20181014T120000
DTSTAMP:20260425T122953
CREATED:20180924T143224Z
LAST-MODIFIED:20180924T143356Z
UID:4437-1539513900-1539518400@eastlincolnalliance.com
SUMMARY:Soup-er Sunday
DESCRIPTION:Join us for a hot soup meal with the church family.  Proceeds support Cornerstone Counseling.
URL:https://eastlincolnalliance.com/event/soup-er-sunday-3/
LOCATION:WI
END:VEVENT
BEGIN:VEVENT
DTSTART;TZID=UTC:20181014T093000
DTEND;TZID=UTC:20181014T104500
DTSTAMP:20260425T122953
CREATED:20180817T162630Z
LAST-MODIFIED:20180817T162630Z
UID:4309-1539509400-1539513900@eastlincolnalliance.com
SUMMARY:Worship Service & Discovery Land
DESCRIPTION:Nursery is provided during the Worship Service for 1-3 year olds.  Discovery Land for Kids is available during the Worship Service for ages 4 years – 5th grade.
URL:https://eastlincolnalliance.com/event/worship-service-discovery-land-27/
LOCATION:East Lincoln Alliance Church\, 735 70th Avenue\, Amery\, WI\, 54001\, United States
END:VEVENT
BEGIN:VEVENT
DTSTART;TZID=UTC:20181013T090000
DTEND;TZID=UTC:20181013T160000
DTSTAMP:20260425T122953
CREATED:20180817T163401Z
LAST-MODIFIED:20180928T160658Z
UID:4319-1539421200-1539446400@eastlincolnalliance.com
SUMMARY:Women's Craft Day
DESCRIPTION:
URL:https://eastlincolnalliance.com/event/womens-craft-day-6/
LOCATION:East Lincoln Alliance Church\, 735 70th Avenue\, Amery\, WI\, 54001\, United States
ORGANIZER;CN="Amanda Fisk":MAILTO:annisseau@gmail.com
END:VEVENT
BEGIN:VEVENT
DTSTART;TZID=UTC:20181010T180000
DTEND;TZID=UTC:20181010T200000
DTSTAMP:20260425T122953
CREATED:20180817T165004Z
LAST-MODIFIED:20180817T165004Z
UID:4333-1539194400-1539201600@eastlincolnalliance.com
SUMMARY:Recharge
DESCRIPTION:
URL:https://eastlincolnalliance.com/event/recharge-14/
LOCATION:East Lincoln Alliance Church\, 735 70th Avenue\, Amery\, WI\, 54001\, United States
END:VEVENT
BEGIN:VEVENT
DTSTART;TZID=UTC:20181010T150000
DTEND;TZID=UTC:20181010T163000
DTSTAMP:20260425T122953
CREATED:20180817T164221Z
LAST-MODIFIED:20180817T164904Z
UID:4331-1539183600-1539189000@eastlincolnalliance.com
SUMMARY:Good News Clubs
DESCRIPTION:
URL:https://eastlincolnalliance.com/event/good-news-clubs-14/
LOCATION:Amery Schools\, Minneapolis Ave\, Amery\, WI\, 54001\, United States
END:VEVENT
BEGIN:VEVENT
DTSTART;TZID=UTC:20181008T183000
DTEND;TZID=UTC:20181008T203000
DTSTAMP:20260425T122953
CREATED:20180817T163118Z
LAST-MODIFIED:20180817T163118Z
UID:4315-1539023400-1539030600@eastlincolnalliance.com
SUMMARY:Elders Meeting
DESCRIPTION:
URL:https://eastlincolnalliance.com/event/elders-meeting-14/
LOCATION:WI
END:VEVENT
BEGIN:VEVENT
DTSTART;TZID=UTC:20181007T093000
DTEND;TZID=UTC:20181007T104500
DTSTAMP:20260425T122953
CREATED:20180817T162501Z
LAST-MODIFIED:20180823T144426Z
UID:4307-1538904600-1538909100@eastlincolnalliance.com
SUMMARY:Worship Service -- NO Discovery Land
DESCRIPTION:Nursery is provided during the Worship Service for 1-3 year olds.  NO Discovery Land this week.
URL:https://eastlincolnalliance.com/event/worship-service-discovery-land-26/
LOCATION:East Lincoln Alliance Church\, 735 70th Avenue\, Amery\, WI\, 54001\, United States
END:VEVENT
BEGIN:VEVENT
DTSTART;TZID=UTC:20181003T180000
DTEND;TZID=UTC:20181003T200000
DTSTAMP:20260425T122953
CREATED:20180817T163944Z
LAST-MODIFIED:20180817T164113Z
UID:4329-1538589600-1538596800@eastlincolnalliance.com
SUMMARY:Recharge
DESCRIPTION:
URL:https://eastlincolnalliance.com/event/recharge-13/
LOCATION:East Lincoln Alliance Church\, 735 70th Avenue\, Amery\, WI\, 54001\, United States
END:VEVENT
BEGIN:VEVENT
DTSTART;TZID=UTC:20181003T150000
DTEND;TZID=UTC:20181003T163000
DTSTAMP:20260425T122953
CREATED:20180817T163850Z
LAST-MODIFIED:20180817T163850Z
UID:4327-1538578800-1538584200@eastlincolnalliance.com
SUMMARY:Good News Clubs
DESCRIPTION:
URL:https://eastlincolnalliance.com/event/good-news-clubs-13/
LOCATION:Amery Schools\, Minneapolis Ave\, Amery\, WI\, 54001\, United States
END:VEVENT
BEGIN:VEVENT
DTSTART;TZID=UTC:20181002T093000
DTEND;TZID=UTC:20181002T113000
DTSTAMP:20260425T122953
CREATED:20180924T170140Z
LAST-MODIFIED:20180924T170140Z
UID:4440-1538472600-1538479800@eastlincolnalliance.com
SUMMARY:Fall Conference - Small Group Speaker
DESCRIPTION:Tim will be sharing at the Tuesday Women’s Small Groups.
URL:https://eastlincolnalliance.com/event/fall-conference-small-group-speaker-2/
LOCATION:East Lincoln Alliance Church\, 735 70th Avenue\, Amery\, WI\, 54001\, United States
END:VEVENT
BEGIN:VEVENT
DTSTART;TZID=UTC:20181001T093000
DTEND;TZID=UTC:20181001T150000
DTSTAMP:20260425T122953
CREATED:20180914T163148Z
LAST-MODIFIED:20180914T164243Z
UID:4417-1538386200-1538406000@eastlincolnalliance.com
SUMMARY:Fall Conference
DESCRIPTION:Tim will be sharing in the Amery Schools.
URL:https://eastlincolnalliance.com/event/fall-conference-2/
LOCATION:Amery Schools\, Minneapolis Ave\, Amery\, WI\, 54001\, United States
END:VEVENT
BEGIN:VEVENT
DTSTART;TZID=UTC:20180930T093000
DTEND;TZID=UTC:20180930T123000
DTSTAMP:20260425T122953
CREATED:20180914T163026Z
LAST-MODIFIED:20180914T163026Z
UID:4415-1538299800-1538310600@eastlincolnalliance.com
SUMMARY:Fall Conference - Guest Speaker & Potluck
DESCRIPTION:
URL:https://eastlincolnalliance.com/event/fall-conference-guest-speaker-potluck/
LOCATION:WI
END:VEVENT
BEGIN:VEVENT
DTSTART;TZID=UTC:20180930T093000
DTEND;TZID=UTC:20180930T104500
DTSTAMP:20260425T122953
CREATED:20180725T144807Z
LAST-MODIFIED:20180725T144807Z
UID:4241-1538299800-1538304300@eastlincolnalliance.com
SUMMARY:Worship Service & Discovery Land
DESCRIPTION:Nursery is provided during the Worship Service for 1-3 year olds.  Discovery Land for Kids is available during the Worship Service for ages 4 years – 5th grade.
URL:https://eastlincolnalliance.com/event/worship-service-discovery-land-25/
LOCATION:East Lincoln Alliance Church\, 735 70th Avenue\, Amery\, WI\, 54001\, United States
END:VEVENT
BEGIN:VEVENT
DTSTART;TZID=UTC:20180929T160000
DTEND;TZID=UTC:20180929T200000
DTSTAMP:20260425T122953
CREATED:20180914T162715Z
LAST-MODIFIED:20180914T162715Z
UID:4413-1538236800-1538251200@eastlincolnalliance.com
SUMMARY:Fall Conference - Hayride\, Potluck Picnic\, Campfire
DESCRIPTION:4 pm Hayride – 5 pm Potluck Picnic @ Kent & Karalee Tollakson’s \nMeat & S’Mores provided! \nBring chairs & a dish to pass.
URL:https://eastlincolnalliance.com/event/fall-conference-hayride-potluck-picnic-campfire/
LOCATION:Tollakson’s\, 896 105th Avenue\, Amery\, WI\, 54001
END:VEVENT
BEGIN:VEVENT
DTSTART;TZID=UTC:20180929T080000
DTEND;TZID=UTC:20180929T100000
DTSTAMP:20260425T122953
CREATED:20180914T162431Z
LAST-MODIFIED:20180914T164002Z
UID:4411-1538208000-1538215200@eastlincolnalliance.com
SUMMARY:Fall Conference - Men & Boys Breakfast
DESCRIPTION:
URL:https://eastlincolnalliance.com/event/fall-conference-men-boys-breakfast/
LOCATION:East Lincoln Alliance Church\, 735 70th Avenue\, Amery\, WI\, 54001\, United States
END:VEVENT
BEGIN:VEVENT
DTSTART;TZID=UTC:20180927T130000
DTEND;TZID=UTC:20180927T150000
DTSTAMP:20260425T122953
CREATED:20180914T161615Z
LAST-MODIFIED:20180921T154754Z
UID:4404-1538053200-1538060400@eastlincolnalliance.com
SUMMARY:Fall Conference - Small Group Speaker
DESCRIPTION:Tim will be sharing at Williamson’s.  All are invited!
URL:https://eastlincolnalliance.com/event/fall-conference-tim-sharing-w-recharge/
LOCATION:Vern & Bonnie Williamson\, 759 Golf Way\, Amery\, WI\, 54001\, United States
END:VEVENT
END:VCALENDAR