BEGIN:VCALENDAR
VERSION:2.0
PRODID:-//East Lincoln Alliance Church - ECPv6.15.20//NONSGML v1.0//EN
CALSCALE:GREGORIAN
METHOD:PUBLISH
X-WR-CALNAME:East Lincoln Alliance Church
X-ORIGINAL-URL:https://eastlincolnalliance.com
X-WR-CALDESC:Events for East Lincoln Alliance Church
REFRESH-INTERVAL;VALUE=DURATION:PT1H
X-Robots-Tag:noindex
X-PUBLISHED-TTL:PT1H
BEGIN:VTIMEZONE
TZID:UTC
BEGIN:STANDARD
TZOFFSETFROM:+0000
TZOFFSETTO:+0000
TZNAME:UTC
DTSTART:20180101T000000
END:STANDARD
END:VTIMEZONE
BEGIN:VEVENT
DTSTART;TZID=UTC:20190224T093000
DTEND;TZID=UTC:20190224T104500
DTSTAMP:20260425T154956
CREATED:20181221T172608Z
LAST-MODIFIED:20181221T172608Z
UID:4698-1551000600-1551005100@eastlincolnalliance.com
SUMMARY:Worship Service & Discovery Land
DESCRIPTION:Nursery is provided during the Worship Service for 1-3 year olds.  Discovery Land for Kids is available during the Worship Service for ages 4 years – 5th grade.
URL:https://eastlincolnalliance.com/event/worship-service-discovery-land-45/
LOCATION:East Lincoln Alliance Church\, 735 70th Avenue\, Amery\, WI\, 54001\, United States
END:VEVENT
BEGIN:VEVENT
DTSTART;TZID=UTC:20190223T080000
DTEND;TZID=UTC:20190223T100000
DTSTAMP:20260425T154956
CREATED:20190124T173855Z
LAST-MODIFIED:20190128T162017Z
UID:4801-1550908800-1550916000@eastlincolnalliance.com
SUMMARY:Set It On Fire Men's Breaksfast
DESCRIPTION:Pancakes\, sausages & eggs will be served.  Free-will offering will be taken.
URL:https://eastlincolnalliance.com/event/set-it-on-fire-mens-breaksfast/
LOCATION:East Lincoln Alliance Church\, 735 70th Avenue\, Amery\, WI\, 54001\, United States
END:VEVENT
BEGIN:VEVENT
DTSTART;TZID=UTC:20190220T180000
DTEND;TZID=UTC:20190220T200000
DTSTAMP:20260425T154956
CREATED:20181221T173344Z
LAST-MODIFIED:20181221T173344Z
UID:4712-1550685600-1550692800@eastlincolnalliance.com
SUMMARY:Recharge
DESCRIPTION:
URL:https://eastlincolnalliance.com/event/recharge-29/
LOCATION:East Lincoln Alliance Church\, 735 70th Avenue\, Amery\, WI\, 54001\, United States
ORGANIZER;CN="Kent Tollakson":MAILTO:cornerstonecounsel@gmail.com
END:VEVENT
BEGIN:VEVENT
DTSTART;TZID=UTC:20190220T150000
DTEND;TZID=UTC:20190220T163000
DTSTAMP:20260425T154956
CREATED:20181221T172928Z
LAST-MODIFIED:20181221T172928Z
UID:4704-1550674800-1550680200@eastlincolnalliance.com
SUMMARY:Good News Clubs
DESCRIPTION:
URL:https://eastlincolnalliance.com/event/good-news-clubs-23/
LOCATION:Amery Schools\, Minneapolis Ave\, Amery\, WI\, 54001\, United States
END:VEVENT
BEGIN:VEVENT
DTSTART;TZID=UTC:20190217T104500
DTEND;TZID=UTC:20190217T120000
DTSTAMP:20260425T154956
CREATED:20190110T161432Z
LAST-MODIFIED:20190110T161432Z
UID:4751-1550400300-1550404800@eastlincolnalliance.com
SUMMARY:Annual Meeting & Potluck
DESCRIPTION:
URL:https://eastlincolnalliance.com/event/annual-meeting-potluck-2/
LOCATION:East Lincoln Alliance Church\, 735 70th Avenue\, Amery\, WI\, 54001\, United States
END:VEVENT
BEGIN:VEVENT
DTSTART;TZID=UTC:20190217T093000
DTEND;TZID=UTC:20190217T104500
DTSTAMP:20260425T154956
CREATED:20181221T172426Z
LAST-MODIFIED:20181221T172426Z
UID:4695-1550395800-1550400300@eastlincolnalliance.com
SUMMARY:Worship Service & Discovery Land
DESCRIPTION:Nursery is provided during the Worship Service for 1-3 year olds.  Discovery Land for Kids is available during the Worship Service for ages 4 years – 5th grade.
URL:https://eastlincolnalliance.com/event/worship-service-discovery-land-44/
LOCATION:East Lincoln Alliance Church\, 735 70th Avenue\, Amery\, WI\, 54001\, United States
END:VEVENT
BEGIN:VEVENT
DTSTART;TZID=UTC:20190215T180000
DTEND;TZID=UTC:20190216T160000
DTSTAMP:20260425T154956
CREATED:20181221T174530Z
LAST-MODIFIED:20181221T174550Z
UID:4720-1550253600-1550332800@eastlincolnalliance.com
SUMMARY:Elders Retreat
DESCRIPTION:
URL:https://eastlincolnalliance.com/event/elder-retreat/
LOCATION:WI
END:VEVENT
BEGIN:VEVENT
DTSTART;TZID=UTC:20190215T180000
DTEND;TZID=UTC:20190216T113000
DTSTAMP:20260425T154956
CREATED:20181221T174917Z
LAST-MODIFIED:20190118T173904Z
UID:4723-1550253600-1550316600@eastlincolnalliance.com
SUMMARY:Women's Winter Retreat
DESCRIPTION:Join us at our Annual Women’s Winter Retreat.  Supper will be at 6 pm on Friday and Brunch will be from 9:30-11:30 am on Saturday.  Come Friday night\, Saturday morning or spend the night. \n 
URL:https://eastlincolnalliance.com/event/womens-mid-winter-retreat/
LOCATION:Parsonage\, 737 70th Avenue Co Rd J\, Amery\, WI\, 54001\, United States
END:VEVENT
BEGIN:VEVENT
DTSTART;TZID=UTC:20190213T180000
DTEND;TZID=UTC:20190213T200000
DTSTAMP:20260425T154956
CREATED:20181221T173248Z
LAST-MODIFIED:20181221T173248Z
UID:4710-1550080800-1550088000@eastlincolnalliance.com
SUMMARY:Recharge
DESCRIPTION:
URL:https://eastlincolnalliance.com/event/recharge-28/
LOCATION:East Lincoln Alliance Church\, 735 70th Avenue\, Amery\, WI\, 54001\, United States
ORGANIZER;CN="Kent Tollakson":MAILTO:cornerstonecounsel@gmail.com
END:VEVENT
BEGIN:VEVENT
DTSTART;TZID=UTC:20190213T150000
DTEND;TZID=UTC:20190213T163000
DTSTAMP:20260425T154956
CREATED:20181221T172827Z
LAST-MODIFIED:20181221T172827Z
UID:4702-1550070000-1550075400@eastlincolnalliance.com
SUMMARY:Good News Club
DESCRIPTION:
URL:https://eastlincolnalliance.com/event/good-news-club-4/
LOCATION:Amery Schools\, Minneapolis Ave\, Amery\, WI\, 54001\, United States
END:VEVENT
BEGIN:VEVENT
DTSTART;TZID=UTC:20190211T183000
DTEND;TZID=UTC:20190211T193000
DTSTAMP:20260425T154956
CREATED:20190125T160020Z
LAST-MODIFIED:20190125T160020Z
UID:4807-1549909800-1549913400@eastlincolnalliance.com
SUMMARY:Praying for the Prodigal
DESCRIPTION:Join us as we pray for prodigals in our lives.  If you can’t attend\, a Prayer Request Box is on the Information Table.
URL:https://eastlincolnalliance.com/event/praying-for-the-prodigal-2/
LOCATION:Parsonage\, 737 70th Avenue Co Rd J\, Amery\, WI\, 54001\, United States
END:VEVENT
BEGIN:VEVENT
DTSTART;TZID=UTC:20190210T104500
DTEND;TZID=UTC:20190210T120000
DTSTAMP:20260425T154956
CREATED:20190110T161926Z
LAST-MODIFIED:20190110T161926Z
UID:4756-1549795500-1549800000@eastlincolnalliance.com
SUMMARY:Soup-er Sunday
DESCRIPTION:Join us for a hot soup meal with the church family.  Proceeds support Cornerstone Counseling.
URL:https://eastlincolnalliance.com/event/soup-er-sunday-8/
LOCATION:East Lincoln Alliance Church\, 735 70th Avenue\, Amery\, WI\, 54001\, United States
END:VEVENT
BEGIN:VEVENT
DTSTART;TZID=UTC:20190210T093000
DTEND;TZID=UTC:20190210T104500
DTSTAMP:20260425T154956
CREATED:20181221T172307Z
LAST-MODIFIED:20181221T172307Z
UID:4693-1549791000-1549795500@eastlincolnalliance.com
SUMMARY:Worship Service & Discovery Land
DESCRIPTION:Nursery is provided during the Worship Service for 1-3 year olds.  Discovery Land for Kids is available during the Worship Service for ages 4 years – 5th grade.
URL:https://eastlincolnalliance.com/event/worship-service-discovery-land-43/
LOCATION:East Lincoln Alliance Church\, 735 70th Avenue\, Amery\, WI\, 54001\, United States
END:VEVENT
BEGIN:VEVENT
DTSTART;TZID=UTC:20190209T090000
DTEND;TZID=UTC:20190209T160000
DTSTAMP:20260425T154956
CREATED:20181221T174433Z
LAST-MODIFIED:20190103T174943Z
UID:4718-1549702800-1549728000@eastlincolnalliance.com
SUMMARY:Woman's Craft Day
DESCRIPTION:To attend\, RSVP Amanda Fisk.
URL:https://eastlincolnalliance.com/event/womans-craft-day-2/
LOCATION:East Lincoln Alliance Church\, 735 70th Avenue\, Amery\, WI\, 54001\, United States
ORGANIZER;CN="Amanda Fisk":MAILTO:annisseau@gmail.com
END:VEVENT
BEGIN:VEVENT
DTSTART;TZID=UTC:20190206T180000
DTEND;TZID=UTC:20190206T200000
DTSTAMP:20260425T154956
CREATED:20181221T173145Z
LAST-MODIFIED:20181221T173145Z
UID:4708-1549476000-1549483200@eastlincolnalliance.com
SUMMARY:Recharge
DESCRIPTION:
URL:https://eastlincolnalliance.com/event/recharge-23/
LOCATION:East Lincoln Alliance Church\, 735 70th Avenue\, Amery\, WI\, 54001\, United States
ORGANIZER;CN="Kent Tollakson":MAILTO:cornerstonecounsel@gmail.com
END:VEVENT
BEGIN:VEVENT
DTSTART;TZID=UTC:20190206T150000
DTEND;TZID=UTC:20190206T163000
DTSTAMP:20260425T154956
CREATED:20181221T172730Z
LAST-MODIFIED:20181221T172730Z
UID:4700-1549465200-1549470600@eastlincolnalliance.com
SUMMARY:Good News Club
DESCRIPTION:
URL:https://eastlincolnalliance.com/event/good-news-club-3/
LOCATION:Amery Schools\, Minneapolis Ave\, Amery\, WI\, 54001\, United States
END:VEVENT
BEGIN:VEVENT
DTSTART;TZID=UTC:20190203T093000
DTEND;TZID=UTC:20190203T104500
DTSTAMP:20260425T154956
CREATED:20181221T172154Z
LAST-MODIFIED:20181221T175309Z
UID:4691-1549186200-1549190700@eastlincolnalliance.com
SUMMARY:Worship Service & Discovery Land
DESCRIPTION:Nursery is provided during the Worship Service for 1-3 year olds.  Discovery Land for Kids is available during the Worship Service for ages 4 years – 5th grade.
URL:https://eastlincolnalliance.com/event/worship-service-discovery-land-42/
LOCATION:East Lincoln Alliance Church\, 735 70th Avenue\, Amery\, WI\, 54001\, United States
END:VEVENT
BEGIN:VEVENT
DTSTART;TZID=UTC:20190201T180000
DTEND;TZID=UTC:20190203T140000
DTSTAMP:20260425T154956
CREATED:20181221T175032Z
LAST-MODIFIED:20181221T175032Z
UID:4725-1549044000-1549202400@eastlincolnalliance.com
SUMMARY:OASIS Sr. High Retreat
DESCRIPTION:
URL:https://eastlincolnalliance.com/event/oasis-sr-high-retreat/
LOCATION:WI
ORGANIZER;CN="Kent Tollakson":MAILTO:cornerstonecounsel@gmail.com
END:VEVENT
BEGIN:VEVENT
DTSTART;TZID=UTC:20190130T180000
DTEND;TZID=UTC:20190130T200000
DTSTAMP:20260425T154956
CREATED:20181129T162722Z
LAST-MODIFIED:20181129T162722Z
UID:4658-1548871200-1548878400@eastlincolnalliance.com
SUMMARY:Recharge
DESCRIPTION:
URL:https://eastlincolnalliance.com/event/recharge-27/
LOCATION:East Lincoln Alliance Church\, 735 70th Avenue\, Amery\, WI\, 54001\, United States
ORGANIZER;CN="Kent Tollakson":MAILTO:cornerstonecounsel@gmail.com
END:VEVENT
BEGIN:VEVENT
DTSTART;TZID=UTC:20190130T150000
DTEND;TZID=UTC:20190130T163000
DTSTAMP:20260425T154956
CREATED:20181129T162214Z
LAST-MODIFIED:20181129T162214Z
UID:4648-1548860400-1548865800@eastlincolnalliance.com
SUMMARY:Good News Clubs
DESCRIPTION:
URL:https://eastlincolnalliance.com/event/good-news-clubs-27/
LOCATION:Amery Schools\, Minneapolis Ave\, Amery\, WI\, 54001\, United States
END:VEVENT
BEGIN:VEVENT
DTSTART;TZID=UTC:20190128T183000
DTEND;TZID=UTC:20190128T203000
DTSTAMP:20260425T154956
CREATED:20190110T161659Z
LAST-MODIFIED:20190110T161659Z
UID:4753-1548700200-1548707400@eastlincolnalliance.com
SUMMARY:Elder Meeting
DESCRIPTION:
URL:https://eastlincolnalliance.com/event/elder-meeting-6/
LOCATION:WI
END:VEVENT
BEGIN:VEVENT
DTSTART;TZID=UTC:20190127T093000
DTEND;TZID=UTC:20190127T104500
DTSTAMP:20260425T154956
CREATED:20181128T172709Z
LAST-MODIFIED:20181128T172709Z
UID:4630-1548581400-1548585900@eastlincolnalliance.com
SUMMARY:Worship Service & Discovery Land
DESCRIPTION:Nursery is provided during the Worship Service for 1-3 year olds.  Discovery Land for Kids is available during the Worship Service for ages 4 years – 5th grade.
URL:https://eastlincolnalliance.com/event/worship-service-discovery-land-41/
LOCATION:East Lincoln Alliance Church\, 735 70th Avenue\, Amery\, WI\, 54001\, United States
END:VEVENT
BEGIN:VEVENT
DTSTART;TZID=UTC:20190123T180000
DTEND;TZID=UTC:20190123T200000
DTSTAMP:20260425T154956
CREATED:20181129T162626Z
LAST-MODIFIED:20181129T162626Z
UID:4656-1548266400-1548273600@eastlincolnalliance.com
SUMMARY:Recharge
DESCRIPTION:
URL:https://eastlincolnalliance.com/event/recharge-26/
LOCATION:East Lincoln Alliance Church\, 735 70th Avenue\, Amery\, WI\, 54001\, United States
ORGANIZER;CN="Kent Tollakson":MAILTO:cornerstonecounsel@gmail.com
END:VEVENT
BEGIN:VEVENT
DTSTART;TZID=UTC:20190123T150000
DTEND;TZID=UTC:20190123T163000
DTSTAMP:20260425T154956
CREATED:20181129T162116Z
LAST-MODIFIED:20181129T162116Z
UID:4646-1548255600-1548261000@eastlincolnalliance.com
SUMMARY:Good News Clubs
DESCRIPTION:
URL:https://eastlincolnalliance.com/event/good-news-clubs-26/
LOCATION:Amery Schools\, Minneapolis Ave\, Amery\, WI\, 54001\, United States
END:VEVENT
BEGIN:VEVENT
DTSTART;TZID=UTC:20190120T093000
DTEND;TZID=UTC:20190120T104500
DTSTAMP:20260425T154956
CREATED:20181128T172429Z
LAST-MODIFIED:20181128T172429Z
UID:4628-1547976600-1547981100@eastlincolnalliance.com
SUMMARY:Worship Service & Discovery Land
DESCRIPTION:Nursery is provided during the Worship Service for 1-3 year olds.  Discovery Land for Kids is available during the Worship Service for ages 4 years – 5th grade.
URL:https://eastlincolnalliance.com/event/worship-service-discovery-land-40/
LOCATION:East Lincoln Alliance Church\, 735 70th Avenue\, Amery\, WI\, 54001\, United States
END:VEVENT
BEGIN:VEVENT
DTSTART;TZID=UTC:20190116T180000
DTEND;TZID=UTC:20190116T200000
DTSTAMP:20260425T154956
CREATED:20181129T162522Z
LAST-MODIFIED:20181129T162522Z
UID:4654-1547661600-1547668800@eastlincolnalliance.com
SUMMARY:Recharge
DESCRIPTION:
URL:https://eastlincolnalliance.com/event/recharge-25/
LOCATION:East Lincoln Alliance Church\, 735 70th Avenue\, Amery\, WI\, 54001\, United States
ORGANIZER;CN="Kent Tollakson":MAILTO:cornerstonecounsel@gmail.com
END:VEVENT
BEGIN:VEVENT
DTSTART;TZID=UTC:20190116T150000
DTEND;TZID=UTC:20190116T163000
DTSTAMP:20260425T154956
CREATED:20181129T162010Z
LAST-MODIFIED:20181129T162010Z
UID:4644-1547650800-1547656200@eastlincolnalliance.com
SUMMARY:Good News Clubs
DESCRIPTION:
URL:https://eastlincolnalliance.com/event/good-news-clubs-25/
LOCATION:Amery Schools\, Minneapolis Ave\, Amery\, WI\, 54001\, United States
END:VEVENT
BEGIN:VEVENT
DTSTART;TZID=UTC:20190113T110000
DTEND;TZID=UTC:20190113T120000
DTSTAMP:20260425T154956
CREATED:20181231T173726Z
LAST-MODIFIED:20181231T173726Z
UID:4728-1547377200-1547380800@eastlincolnalliance.com
SUMMARY:Evangelism Committee Meeting
DESCRIPTION:
URL:https://eastlincolnalliance.com/event/evangelism-committee-meeting/
LOCATION:East Lincoln Alliance Church\, 735 70th Avenue\, Amery\, WI\, 54001\, United States
END:VEVENT
BEGIN:VEVENT
DTSTART;TZID=UTC:20190113T104500
DTEND;TZID=UTC:20190113T120000
DTSTAMP:20260425T154956
CREATED:20181129T161249Z
LAST-MODIFIED:20181129T161444Z
UID:4638-1547376300-1547380800@eastlincolnalliance.com
SUMMARY:Soup-er Sunday
DESCRIPTION:Join us for a hot soup meal with the church family.  Proceeds support Cornerstone Counseling.
URL:https://eastlincolnalliance.com/event/soup-er-sunday-7/
LOCATION:East Lincoln Alliance Church\, 735 70th Avenue\, Amery\, WI\, 54001\, United States
END:VEVENT
BEGIN:VEVENT
DTSTART;TZID=UTC:20190113T093000
DTEND;TZID=UTC:20190113T104500
DTSTAMP:20260425T154956
CREATED:20181128T172317Z
LAST-MODIFIED:20181128T172317Z
UID:4626-1547371800-1547376300@eastlincolnalliance.com
SUMMARY:Worship Service & Discovery Land
DESCRIPTION:Nursery is provided during the Worship Service for 1-3 year olds.  Discovery Land for Kids is available during the Worship Service for ages 4 years – 5th grade.
URL:https://eastlincolnalliance.com/event/worship-service-discovery-land-39/
LOCATION:East Lincoln Alliance Church\, 735 70th Avenue\, Amery\, WI\, 54001\, United States
END:VEVENT
END:VCALENDAR