BEGIN:VCALENDAR
VERSION:2.0
PRODID:-//East Lincoln Alliance Church - ECPv6.15.20//NONSGML v1.0//EN
CALSCALE:GREGORIAN
METHOD:PUBLISH
X-WR-CALNAME:East Lincoln Alliance Church
X-ORIGINAL-URL:https://eastlincolnalliance.com
X-WR-CALDESC:Events for East Lincoln Alliance Church
REFRESH-INTERVAL;VALUE=DURATION:PT1H
X-Robots-Tag:noindex
X-PUBLISHED-TTL:PT1H
BEGIN:VTIMEZONE
TZID:UTC
BEGIN:STANDARD
TZOFFSETFROM:+0000
TZOFFSETTO:+0000
TZNAME:UTC
DTSTART:20180101T000000
END:STANDARD
END:VTIMEZONE
BEGIN:VEVENT
DTSTART;TZID=UTC:20190515T180000
DTEND;TZID=UTC:20190515T200000
DTSTAMP:20260426T023007
CREATED:20190430T151834Z
LAST-MODIFIED:20190430T151834Z
UID:5040-1557943200-1557950400@eastlincolnalliance.com
SUMMARY:Recharge
DESCRIPTION:Free Cone Night
URL:https://eastlincolnalliance.com/event/recharge-40/
LOCATION:East Lincoln Alliance Church\, 735 70th Avenue\, Amery\, WI\, 54001\, United States
ORGANIZER;CN="Kent Tollakson":MAILTO:cornerstonecounsel@gmail.com
END:VEVENT
BEGIN:VEVENT
DTSTART;TZID=UTC:20190512T093000
DTEND;TZID=UTC:20190512T104500
DTSTAMP:20260426T023007
CREATED:20190320T161444Z
LAST-MODIFIED:20190320T161444Z
UID:4931-1557653400-1557657900@eastlincolnalliance.com
SUMMARY:Worship Service & Discovery Land
DESCRIPTION:Nursery is provided during the Worship Service for 1-3 year olds. Discovery Land for Kids is available during the Worship Service for ages 4 years – 5th grade.
URL:https://eastlincolnalliance.com/event/worship-service-discovery-land-55/
LOCATION:East Lincoln Alliance Church\, 735 70th Avenue\, Amery\, WI\, 54001\, United States
END:VEVENT
BEGIN:VEVENT
DTSTART;TZID=UTC:20190511T090000
DTEND;TZID=UTC:20190511T120000
DTSTAMP:20260426T023007
CREATED:20190426T153529Z
LAST-MODIFIED:20190426T153529Z
UID:5029-1557565200-1557576000@eastlincolnalliance.com
SUMMARY:Women's Craft Day
DESCRIPTION:To attend\, RSVP Julie Anderson.
URL:https://eastlincolnalliance.com/event/womens-craft-day-11/
LOCATION:East Lincoln Alliance Church\, 735 70th Avenue\, Amery\, WI\, 54001\, United States
END:VEVENT
BEGIN:VEVENT
DTSTART;TZID=UTC:20190508T180000
DTEND;TZID=UTC:20190508T200000
DTSTAMP:20260426T023007
CREATED:20190430T151730Z
LAST-MODIFIED:20190430T151730Z
UID:5038-1557338400-1557345600@eastlincolnalliance.com
SUMMARY:Recharge
DESCRIPTION:Dominican Republic Guest & Games
URL:https://eastlincolnalliance.com/event/recharge-39/
LOCATION:East Lincoln Alliance Church\, 735 70th Avenue\, Amery\, WI\, 54001\, United States
ORGANIZER;CN="Kent Tollakson":MAILTO:cornerstonecounsel@gmail.com
END:VEVENT
BEGIN:VEVENT
DTSTART;TZID=UTC:20190505T093000
DTEND;TZID=UTC:20190505T104500
DTSTAMP:20260426T023007
CREATED:20190320T161339Z
LAST-MODIFIED:20190320T161339Z
UID:4929-1557048600-1557053100@eastlincolnalliance.com
SUMMARY:Worship Service & Discovery Land
DESCRIPTION:Nursery is provided during the Worship Service for 1-3 year olds. Discovery Land for Kids is available during the Worship Service for ages 4 years – 5th grade.
URL:https://eastlincolnalliance.com/event/worship-service-discovery-land-54/
LOCATION:East Lincoln Alliance Church\, 735 70th Avenue\, Amery\, WI\, 54001\, United States
END:VEVENT
BEGIN:VEVENT
DTSTART;TZID=UTC:20190504T080000
DTEND;TZID=UTC:20190504T120000
DTSTAMP:20260426T023007
CREATED:20190320T160027Z
LAST-MODIFIED:20190320T160027Z
UID:4927-1556956800-1556971200@eastlincolnalliance.com
SUMMARY:Spring Work Days
DESCRIPTION:Join us the week of Monday\, April 29 as we clean the church. Sign up to work during the week or come on Saturday\, May 4 at 8 am with a potluck at noon. See the Information Table for more details.
URL:https://eastlincolnalliance.com/event/spring-work-days-2/
LOCATION:East Lincoln Alliance Church\, 735 70th Avenue\, Amery\, WI\, 54001\, United States
END:VEVENT
BEGIN:VEVENT
DTSTART;TZID=UTC:20190503T080000
DTEND;TZID=UTC:20190503T200000
DTSTAMP:20260426T023007
CREATED:20190404T163001Z
LAST-MODIFIED:20190404T163015Z
UID:4983-1556870400-1556913600@eastlincolnalliance.com
SUMMARY:Spring Work Days
DESCRIPTION:
URL:https://eastlincolnalliance.com/event/springwork-days/
LOCATION:WI
END:VEVENT
BEGIN:VEVENT
DTSTART;TZID=UTC:20190503T063000
DTEND;TZID=UTC:20190503T080000
DTSTAMP:20260426T023007
CREATED:20190320T161911Z
LAST-MODIFIED:20190404T161959Z
UID:4937-1556865000-1556870400@eastlincolnalliance.com
SUMMARY:Elders Breakfast Meeting
DESCRIPTION:
URL:https://eastlincolnalliance.com/event/elders-meeting-21/
LOCATION:WI
END:VEVENT
BEGIN:VEVENT
DTSTART;TZID=UTC:20190502T080000
DTEND;TZID=UTC:20190502T200000
DTSTAMP:20260426T023007
CREATED:20190404T162928Z
LAST-MODIFIED:20190404T162928Z
UID:4981-1556784000-1556827200@eastlincolnalliance.com
SUMMARY:Spring Work Days
DESCRIPTION:
URL:https://eastlincolnalliance.com/event/spring-work-days-5/
LOCATION:WI
END:VEVENT
BEGIN:VEVENT
DTSTART;TZID=UTC:20190502T080000
DTEND;TZID=UTC:20190502T170000
DTSTAMP:20260426T023007
CREATED:20190404T161533Z
LAST-MODIFIED:20190404T161533Z
UID:4974-1556784000-1556816400@eastlincolnalliance.com
SUMMARY:National Day of Prayer
DESCRIPTION:
URL:https://eastlincolnalliance.com/event/national-day-of-prayer/
LOCATION:WI
END:VEVENT
BEGIN:VEVENT
DTSTART;TZID=UTC:20190501T173000
DTEND;TZID=UTC:20190501T193000
DTSTAMP:20260426T023007
CREATED:20190320T162856Z
LAST-MODIFIED:20190415T163216Z
UID:4945-1556731800-1556739000@eastlincolnalliance.com
SUMMARY:Mexican Fiesta Fundraiser
DESCRIPTION:Enjoy a build your own Taco Bar along with bingo and pinatas for kids & adults!  A free-will offering will be taken.  Proceeds benefit the youth ministry.
URL:https://eastlincolnalliance.com/event/mexican-fiesta-fundraiser/
LOCATION:East Lincoln Alliance Church\, 735 70th Avenue\, Amery\, WI\, 54001\, United States
ORGANIZER;CN="Kent Tollakson":MAILTO:cornerstonecounsel@gmail.com
END:VEVENT
BEGIN:VEVENT
DTSTART;TZID=UTC:20190430T080000
DTEND;TZID=UTC:20190430T200000
DTSTAMP:20260426T023007
CREATED:20190404T162850Z
LAST-MODIFIED:20190404T162850Z
UID:4979-1556611200-1556654400@eastlincolnalliance.com
SUMMARY:Spring Work Days
DESCRIPTION:
URL:https://eastlincolnalliance.com/event/spring-work-days-4/
LOCATION:WI
END:VEVENT
BEGIN:VEVENT
DTSTART;TZID=UTC:20190429T080000
DTEND;TZID=UTC:20190429T200000
DTSTAMP:20260426T023007
CREATED:20190404T162809Z
LAST-MODIFIED:20190404T162809Z
UID:4977-1556524800-1556568000@eastlincolnalliance.com
SUMMARY:Spring Work Days
DESCRIPTION:
URL:https://eastlincolnalliance.com/event/spring-work-days-3/
LOCATION:East Lincoln Alliance Church\, 735 70th Avenue\, Amery\, WI\, 54001\, United States
END:VEVENT
BEGIN:VEVENT
DTSTART;TZID=UTC:20190428T104500
DTEND;TZID=UTC:20190428T120000
DTSTAMP:20260426T023007
CREATED:20190307T171309Z
LAST-MODIFIED:20190307T171309Z
UID:4911-1556448300-1556452800@eastlincolnalliance.com
SUMMARY:Women's Ministry Quarterly Meeting
DESCRIPTION:
URL:https://eastlincolnalliance.com/event/womens-ministry-quarterly-meeting/
LOCATION:WI
END:VEVENT
BEGIN:VEVENT
DTSTART;TZID=UTC:20190428T093000
DTEND;TZID=UTC:20190428T104500
DTSTAMP:20260426T023007
CREATED:20190307T165153Z
LAST-MODIFIED:20190307T165153Z
UID:4883-1556443800-1556448300@eastlincolnalliance.com
SUMMARY:Worship Service & Discovery Land
DESCRIPTION:Nursery is provided during the Worship Service for 1-3 year olds. Discovery Land for Kids is available during the Worship Service for ages 4 years – 5th grade.
URL:https://eastlincolnalliance.com/event/worship-service-discovery-land-53/
LOCATION:East Lincoln Alliance Church\, 735 70th Avenue\, Amery\, WI\, 54001\, United States
END:VEVENT
BEGIN:VEVENT
DTSTART;TZID=UTC:20190424T180000
DTEND;TZID=UTC:20190424T200000
DTSTAMP:20260426T023007
CREATED:20190307T170733Z
LAST-MODIFIED:20190307T170733Z
UID:4899-1556128800-1556136000@eastlincolnalliance.com
SUMMARY:Recharge
DESCRIPTION:
URL:https://eastlincolnalliance.com/event/recharge-38/
LOCATION:East Lincoln Alliance Church\, 735 70th Avenue\, Amery\, WI\, 54001\, United States
ORGANIZER;CN="Kent Tollakson":MAILTO:cornerstonecounsel@gmail.com
END:VEVENT
BEGIN:VEVENT
DTSTART;TZID=UTC:20190424T150000
DTEND;TZID=UTC:20190424T163000
DTSTAMP:20260426T023007
CREATED:20190307T170436Z
LAST-MODIFIED:20190307T170436Z
UID:4891-1556118000-1556123400@eastlincolnalliance.com
SUMMARY:Good News Clubs
DESCRIPTION:
URL:https://eastlincolnalliance.com/event/good-news-clubs-35/
LOCATION:Amery Schools\, Minneapolis Ave\, Amery\, WI\, 54001\, United States
END:VEVENT
BEGIN:VEVENT
DTSTART;TZID=UTC:20190422T183000
DTEND;TZID=UTC:20190422T193000
DTSTAMP:20260426T023007
CREATED:20190404T161442Z
LAST-MODIFIED:20190404T161442Z
UID:4972-1555957800-1555961400@eastlincolnalliance.com
SUMMARY:Prayer Event
DESCRIPTION:Join us at the church for a special time of prayer for the many at East Lincoln who are sick and suffering.
URL:https://eastlincolnalliance.com/event/prayer-event/
LOCATION:East Lincoln Alliance Church\, 735 70th Avenue\, Amery\, WI\, 54001\, United States
END:VEVENT
BEGIN:VEVENT
DTSTART;TZID=UTC:20190421T093000
DTEND;TZID=UTC:20190421T104500
DTSTAMP:20260426T023007
CREATED:20190307T165056Z
LAST-MODIFIED:20190307T165056Z
UID:4881-1555839000-1555843500@eastlincolnalliance.com
SUMMARY:Worship Service - No Discovery Land
DESCRIPTION:Join us for a special service to celebrate Christ’s resurrection!  Nursery is provided during the Worship Service for 1-3 year olds.
URL:https://eastlincolnalliance.com/event/worship-service-no-discovery-land-2/
LOCATION:East Lincoln Alliance Church\, 735 70th Avenue\, Amery\, WI\, 54001\, United States
END:VEVENT
BEGIN:VEVENT
DTSTART;TZID=UTC:20190421T073000
DTEND;TZID=UTC:20190421T090000
DTSTAMP:20260426T023007
CREATED:20190307T164836Z
LAST-MODIFIED:20190325T165001Z
UID:4879-1555831800-1555837200@eastlincolnalliance.com
SUMMARY:Easter Breakfast
DESCRIPTION:This is a Youth Group Fundraiser.  Free will donation.
URL:https://eastlincolnalliance.com/event/easter-breakfast/
LOCATION:East Lincoln Alliance Church\, 735 70th Avenue\, Amery\, WI\, 54001\, United States
ORGANIZER;CN="Kent Tollakson":MAILTO:cornerstonecounsel@gmail.com
END:VEVENT
BEGIN:VEVENT
DTSTART;TZID=UTC:20190419T190000
DTEND;TZID=UTC:20190419T200000
DTSTAMP:20260426T023007
CREATED:20190307T171149Z
LAST-MODIFIED:20190307T171149Z
UID:4909-1555700400-1555704000@eastlincolnalliance.com
SUMMARY:Good Friday Community Service
DESCRIPTION:
URL:https://eastlincolnalliance.com/event/good-friday-community-service/
LOCATION:East Lincoln Alliance Church\, 735 70th Avenue\, Amery\, WI\, 54001\, United States
END:VEVENT
BEGIN:VEVENT
DTSTART;TZID=UTC:20190417T180000
DTEND;TZID=UTC:20190417T200000
DTSTAMP:20260426T023007
CREATED:20190307T170654Z
LAST-MODIFIED:20190307T170654Z
UID:4897-1555524000-1555531200@eastlincolnalliance.com
SUMMARY:Recharge
DESCRIPTION:
URL:https://eastlincolnalliance.com/event/recharge-37/
LOCATION:East Lincoln Alliance Church\, 735 70th Avenue\, Amery\, WI\, 54001\, United States
ORGANIZER;CN="Kent Tollakson":MAILTO:cornerstonecounsel@gmail.com
END:VEVENT
BEGIN:VEVENT
DTSTART;TZID=UTC:20190417T150000
DTEND;TZID=UTC:20190417T163000
DTSTAMP:20260426T023007
CREATED:20190307T165942Z
LAST-MODIFIED:20190307T170351Z
UID:4889-1555513200-1555518600@eastlincolnalliance.com
SUMMARY:Good News Clubs
DESCRIPTION:
URL:https://eastlincolnalliance.com/event/good-news-clubs-34/
LOCATION:Amery Schools\, Minneapolis Ave\, Amery\, WI\, 54001\, United States
END:VEVENT
BEGIN:VEVENT
DTSTART;TZID=UTC:20190415T183000
DTEND;TZID=UTC:20190415T203000
DTSTAMP:20260426T023007
CREATED:20190307T170857Z
LAST-MODIFIED:20190307T170857Z
UID:4903-1555353000-1555360200@eastlincolnalliance.com
SUMMARY:Elders Meeting
DESCRIPTION:
URL:https://eastlincolnalliance.com/event/elders-meeting-20/
LOCATION:WI
END:VEVENT
BEGIN:VEVENT
DTSTART;TZID=UTC:20190414T104500
DTEND;TZID=UTC:20190414T120000
DTSTAMP:20260426T023007
CREATED:20190307T171011Z
LAST-MODIFIED:20190307T171011Z
UID:4905-1555238700-1555243200@eastlincolnalliance.com
SUMMARY:Soup-er Sunday
DESCRIPTION:Join us for a hot soup meal with the church family.  Proceeds support Cornerstone Counseling.
URL:https://eastlincolnalliance.com/event/soup-er-sunday-10/
LOCATION:East Lincoln Alliance Church\, 735 70th Avenue\, Amery\, WI\, 54001\, United States
END:VEVENT
BEGIN:VEVENT
DTSTART;TZID=UTC:20190414T093000
DTEND;TZID=UTC:20190414T104500
DTSTAMP:20260426T023007
CREATED:20190307T164635Z
LAST-MODIFIED:20190307T164635Z
UID:4877-1555234200-1555238700@eastlincolnalliance.com
SUMMARY:Worship Service & Discovery Land
DESCRIPTION:Nursery is provided during the Worship Service for 1-3 year olds. Discovery Land for Kids is available during the Worship Service for ages 4 years – 5th grade.
URL:https://eastlincolnalliance.com/event/worship-service-discovery-land-52/
LOCATION:East Lincoln Alliance Church\, 735 70th Avenue\, Amery\, WI\, 54001\, United States
END:VEVENT
BEGIN:VEVENT
DTSTART;TZID=UTC:20190413T123000
DTEND;TZID=UTC:20190413T183000
DTSTAMP:20260426T023007
CREATED:20190325T161335Z
LAST-MODIFIED:20190325T161335Z
UID:4958-1555158600-1555180200@eastlincolnalliance.com
SUMMARY:Women's Craft Day
DESCRIPTION:To attend\, RSVP Amanda Fisk.
URL:https://eastlincolnalliance.com/event/womens-craft-day-12/
LOCATION:East Lincoln Alliance Church\, 735 70th Avenue\, Amery\, WI\, 54001\, United States
ORGANIZER;CN="Amanda Fisk":MAILTO:annisseau@gmail.com
END:VEVENT
BEGIN:VEVENT
DTSTART;TZID=UTC:20190413T103000
DTEND;TZID=UTC:20190413T120000
DTSTAMP:20260426T023007
CREATED:20190307T171057Z
LAST-MODIFIED:20190307T171057Z
UID:4907-1555151400-1555156800@eastlincolnalliance.com
SUMMARY:Easter Egg Hunt
DESCRIPTION:
URL:https://eastlincolnalliance.com/event/easter-egg-hunt-2/
LOCATION:East Lincoln Alliance Church\, 735 70th Avenue\, Amery\, WI\, 54001\, United States
END:VEVENT
BEGIN:VEVENT
DTSTART;TZID=UTC:20190410T180000
DTEND;TZID=UTC:20190410T200000
DTSTAMP:20260426T023007
CREATED:20190307T170611Z
LAST-MODIFIED:20190307T170611Z
UID:4895-1554919200-1554926400@eastlincolnalliance.com
SUMMARY:Recharge
DESCRIPTION:
URL:https://eastlincolnalliance.com/event/recharge-36/
LOCATION:East Lincoln Alliance Church\, 735 70th Avenue\, Amery\, WI\, 54001\, United States
ORGANIZER;CN="Kent Tollakson":MAILTO:cornerstonecounsel@gmail.com
END:VEVENT
BEGIN:VEVENT
DTSTART;TZID=UTC:20190410T150000
DTEND;TZID=UTC:20190410T163000
DTSTAMP:20260426T023007
CREATED:20190307T165848Z
LAST-MODIFIED:20190307T165848Z
UID:4887-1554908400-1554913800@eastlincolnalliance.com
SUMMARY:Good News Clubs
DESCRIPTION:
URL:https://eastlincolnalliance.com/event/good-news-clubs-33/
LOCATION:Amery Schools\, Minneapolis Ave\, Amery\, WI\, 54001\, United States
END:VEVENT
END:VCALENDAR