BEGIN:VCALENDAR
VERSION:2.0
PRODID:-//East Lincoln Alliance Church - ECPv6.15.20//NONSGML v1.0//EN
CALSCALE:GREGORIAN
METHOD:PUBLISH
X-ORIGINAL-URL:https://eastlincolnalliance.com
X-WR-CALDESC:Events for East Lincoln Alliance Church
REFRESH-INTERVAL;VALUE=DURATION:PT1H
X-Robots-Tag:noindex
X-PUBLISHED-TTL:PT1H
BEGIN:VTIMEZONE
TZID:UTC
BEGIN:STANDARD
TZOFFSETFROM:+0000
TZOFFSETTO:+0000
TZNAME:UTC
DTSTART:20250101T000000
END:STANDARD
END:VTIMEZONE
BEGIN:VEVENT
DTSTART;TZID=UTC:20261031T100000
DTEND;TZID=UTC:20261031T120000
DTSTAMP:20260423T225635
CREATED:20260119T183829Z
LAST-MODIFIED:20260119T183829Z
UID:11475-1793440800-1793448000@eastlincolnalliance.com
SUMMARY:The Page Turners Meeting
DESCRIPTION:The Page Turners Reading Group is a group of women that share in their love for books and reading.  The group is always taking new members\, and women can join if a book looks interesting. Contact Jolene Wester if you have questions or would like to join the group 715-553-0002 or bookwomanjw@gmail.com. \nBook List \n\nOctober – Hudson Taylor & Maria: A Match Made in Heaven by John Charles Pollock\nNovember – A Walk in the Woods: Rediscovering America on the Appalachian Trail by Bill Bryson\nDecember – Pontius Pilate by Paul Maier\n\nPage Turners will meet the last Saturday\, of every month at ELAC at 10 am to discuss the book of the month.
URL:https://eastlincolnalliance.com/event/the-page-turners-meeting-21/
LOCATION:East Lincoln Alliance Church\, 735 70th Avenue\, Amery\, WI\, 54001\, United States
END:VEVENT
BEGIN:VEVENT
DTSTART;TZID=UTC:20261120T180000
DTEND;TZID=UTC:20261120T200000
DTSTAMP:20260423T225635
CREATED:20260108T212201Z
LAST-MODIFIED:20260108T212201Z
UID:11444-1795197600-1795204800@eastlincolnalliance.com
SUMMARY:Grace Marriage
DESCRIPTION:
URL:https://eastlincolnalliance.com/event/grace-marriage-22/
LOCATION:East Lincoln Alliance Church\, 735 70th Avenue\, Amery\, WI\, 54001\, United States
END:VEVENT
BEGIN:VEVENT
DTSTART;TZID=UTC:20261128T100000
DTEND;TZID=UTC:20261128T120000
DTSTAMP:20260423T225635
CREATED:20260119T183857Z
LAST-MODIFIED:20260119T183857Z
UID:11477-1795860000-1795867200@eastlincolnalliance.com
SUMMARY:The Page Turners Meeting
DESCRIPTION:The Page Turners Reading Group is a group of women that share in their love for books and reading.  The group is always taking new members\, and women can join if a book looks interesting. Contact Jolene Wester if you have questions or would like to join the group 715-553-0002 or bookwomanjw@gmail.com. \nBook List \n\nNovember – A Walk in the Woods: Rediscovering America on the Appalachian Trail by Bill Bryson\nDecember – Pontius Pilate by Paul Maier\n\nPage Turners will meet the last Saturday\, of every month at ELAC at 10 am to discuss the book of the month.
URL:https://eastlincolnalliance.com/event/the-page-turners-meeting-22/
LOCATION:East Lincoln Alliance Church\, 735 70th Avenue\, Amery\, WI\, 54001\, United States
END:VEVENT
BEGIN:VEVENT
DTSTART;TZID=UTC:20261129T113000
DTEND;TZID=UTC:20261129T140000
DTSTAMP:20260423T225635
CREATED:20260108T211634Z
LAST-MODIFIED:20260108T211634Z
UID:11420-1795951800-1795960800@eastlincolnalliance.com
SUMMARY:Single Women's Fellowship
DESCRIPTION:All single women are invited to a time of fellowship after church. We will enjoy lunch together and play games at Wendy Bachman’s.
URL:https://eastlincolnalliance.com/event/single-womens-fellowship-36/
LOCATION:WI
END:VEVENT
BEGIN:VEVENT
DTSTART;TZID=UTC:20261218T180000
DTEND;TZID=UTC:20261218T200000
DTSTAMP:20260423T225635
CREATED:20260108T212219Z
LAST-MODIFIED:20260108T212219Z
UID:11446-1797616800-1797624000@eastlincolnalliance.com
SUMMARY:Grace Marriage
DESCRIPTION:
URL:https://eastlincolnalliance.com/event/grace-marriage-23/
LOCATION:East Lincoln Alliance Church\, 735 70th Avenue\, Amery\, WI\, 54001\, United States
END:VEVENT
BEGIN:VEVENT
DTSTART;TZID=UTC:20261226T100000
DTEND;TZID=UTC:20261226T120000
DTSTAMP:20260423T225635
CREATED:20260119T183925Z
LAST-MODIFIED:20260119T183925Z
UID:11479-1798279200-1798286400@eastlincolnalliance.com
SUMMARY:The Page Turners Meeting
DESCRIPTION:The Page Turners Reading Group is a group of women that share in their love for books and reading.  The group is always taking new members\, and women can join if a book looks interesting. Contact Jolene Wester if you have questions or would like to join the group 715-553-0002 or bookwomanjw@gmail.com. \nBook List \n\nDecember – Pontius Pilate by Paul Maier\n\nPage Turners will meet the last Saturday\, of every month at ELAC at 10 am to discuss the book of the month.
URL:https://eastlincolnalliance.com/event/the-page-turners-meeting-23/
LOCATION:East Lincoln Alliance Church\, 735 70th Avenue\, Amery\, WI\, 54001\, United States
END:VEVENT
BEGIN:VEVENT
DTSTART;TZID=UTC:20261227T113000
DTEND;TZID=UTC:20261227T140000
DTSTAMP:20260423T225635
CREATED:20260108T211658Z
LAST-MODIFIED:20260108T211658Z
UID:11422-1798371000-1798380000@eastlincolnalliance.com
SUMMARY:Single Women's Fellowship
DESCRIPTION:All single women are invited to a time of fellowship after church. We will enjoy lunch together and play games at Wendy Bachman’s.
URL:https://eastlincolnalliance.com/event/single-womens-fellowship-37/
LOCATION:WI
END:VEVENT
END:VCALENDAR