BEGIN:VCALENDAR
VERSION:2.0
PRODID:-//East Lincoln Alliance Church - ECPv6.15.20//NONSGML v1.0//EN
CALSCALE:GREGORIAN
METHOD:PUBLISH
X-ORIGINAL-URL:https://eastlincolnalliance.com
X-WR-CALDESC:Events for East Lincoln Alliance Church
REFRESH-INTERVAL;VALUE=DURATION:PT1H
X-Robots-Tag:noindex
X-PUBLISHED-TTL:PT1H
BEGIN:VTIMEZONE
TZID:UTC
BEGIN:STANDARD
TZOFFSETFROM:+0000
TZOFFSETTO:+0000
TZNAME:UTC
DTSTART:20240101T000000
END:STANDARD
END:VTIMEZONE
BEGIN:VEVENT
DTSTART;TZID=UTC:20250729T183000
DTEND;TZID=UTC:20250729T193000
DTSTAMP:20260424T130403
CREATED:20250603T180641Z
LAST-MODIFIED:20250603T180641Z
UID:10631-1753813800-1753817400@eastlincolnalliance.com
SUMMARY:Prayer Gathering
DESCRIPTION:All are invited to join as we pray for each other\, our community and world.  Every Tuesday\, 6:30pm
URL:https://eastlincolnalliance.com/event/prayer-gathering-69/
LOCATION:East Lincoln Alliance Church\, 735 70th Avenue\, Amery\, WI\, 54001\, United States
END:VEVENT
BEGIN:VEVENT
DTSTART;TZID=UTC:20250731T103000
DTEND;TZID=UTC:20250731T150000
DTSTAMP:20260424T130403
CREATED:20250611T145536Z
LAST-MODIFIED:20250611T145536Z
UID:10673-1753957800-1753974000@eastlincolnalliance.com
SUMMARY:Group Learning
DESCRIPTION:Kayla Nelson
URL:https://eastlincolnalliance.com/event/group-learning-5/
LOCATION:East Lincoln Alliance Church\, 735 70th Avenue\, Amery\, WI\, 54001\, United States
END:VEVENT
BEGIN:VEVENT
DTSTART;TZID=UTC:20250803T084500
DTEND;TZID=UTC:20250803T094500
DTSTAMP:20260424T130403
CREATED:20250603T173412Z
LAST-MODIFIED:20250603T173412Z
UID:10581-1754210700-1754214300@eastlincolnalliance.com
SUMMARY:Discipleship Hour
DESCRIPTION:Join us for Discipleship Hour from 8:45-9:45am.  All 6th grade and up are invited.
URL:https://eastlincolnalliance.com/event/discipleship-hour-65/
LOCATION:East Lincoln Alliance Church\, 735 70th Avenue\, Amery\, WI\, 54001\, United States
END:VEVENT
BEGIN:VEVENT
DTSTART;TZID=UTC:20250803T100000
DTEND;TZID=UTC:20250803T111500
DTSTAMP:20260424T130403
CREATED:20250603T174237Z
LAST-MODIFIED:20250603T174237Z
UID:10605-1754215200-1754219700@eastlincolnalliance.com
SUMMARY:Worship Service
DESCRIPTION:We welcome you to our regular worship service every Sunday @ 10:00am.\n\n\n\nWe offer the following services for kids during the Worship Service: \nEarly Childhood care for 1-3 year olds in the East Wing \n4 years old-Kindergarten in the West Wing (Discovery Land) \n1st-5th Grade in the East Wing (Discovery Land)
URL:https://eastlincolnalliance.com/event/worship-service-161/
LOCATION:East Lincoln Alliance Church\, 735 70th Avenue\, Amery\, WI\, 54001\, United States
END:VEVENT
BEGIN:VEVENT
DTSTART;TZID=UTC:20250803T113000
DTEND;TZID=UTC:20250803T130000
DTSTAMP:20260424T130403
CREATED:20250718T221637Z
LAST-MODIFIED:20250718T221637Z
UID:10750-1754220600-1754226000@eastlincolnalliance.com
SUMMARY:Single Women's Fellowship
DESCRIPTION:All single women are invited to join on Sunday\, August 3rd at 11:30am.  We will be going out for lunch.
URL:https://eastlincolnalliance.com/event/single-womens-fellowship-23/
LOCATION:WI
END:VEVENT
BEGIN:VEVENT
DTSTART;TZID=UTC:20250803T170000
DTEND;TZID=UTC:20250803T190000
DTSTAMP:20260424T130403
CREATED:20250528T183542Z
LAST-MODIFIED:20250528T183542Z
UID:10558-1754240400-1754247600@eastlincolnalliance.com
SUMMARY:Picnic & Baptismal Service
DESCRIPTION:ELAC will be having its annual Baptismal Service on Sunday\, August 3rd 5-7pm.  The Baptismal Service will be held at Clear Lake Park with a potluck dinner at 5pm and the baptism after.  Contact the church office or Pastor Eric for more information.
URL:https://eastlincolnalliance.com/event/picnic-baptismal-service/
LOCATION:Clear Lake Park\, Clear Lake\, WI\, United States
END:VEVENT
BEGIN:VEVENT
DTSTART;TZID=UTC:20250805T183000
DTEND;TZID=UTC:20250805T193000
DTSTAMP:20260424T130403
CREATED:20250603T180704Z
LAST-MODIFIED:20250603T180704Z
UID:10633-1754418600-1754422200@eastlincolnalliance.com
SUMMARY:Prayer Gathering
DESCRIPTION:All are invited to join as we pray for each other\, our community and world.  Every Tuesday\, 6:30pm
URL:https://eastlincolnalliance.com/event/prayer-gathering-70/
LOCATION:East Lincoln Alliance Church\, 735 70th Avenue\, Amery\, WI\, 54001\, United States
END:VEVENT
BEGIN:VEVENT
DTSTART;TZID=UTC:20250807T103000
DTEND;TZID=UTC:20250807T150000
DTSTAMP:20260424T130403
CREATED:20250611T145603Z
LAST-MODIFIED:20250611T145603Z
UID:10675-1754562600-1754578800@eastlincolnalliance.com
SUMMARY:Group Learning
DESCRIPTION:Kayla Nelson
URL:https://eastlincolnalliance.com/event/group-learning-6/
LOCATION:East Lincoln Alliance Church\, 735 70th Avenue\, Amery\, WI\, 54001\, United States
END:VEVENT
BEGIN:VEVENT
DTSTART;TZID=UTC:20250808T093000
DTEND;TZID=UTC:20250808T180000
DTSTAMP:20260424T130403
CREATED:20250627T210544Z
LAST-MODIFIED:20250627T210544Z
UID:10713-1754645400-1754676000@eastlincolnalliance.com
SUMMARY:Youth Brat Stand
DESCRIPTION:The youth will be running the brat stand at Dick’s Market on August 8th & 9th. Plan to stop by to support them as they raise money for fun youth events!
URL:https://eastlincolnalliance.com/event/youth-brat-stand-3/
LOCATION:Dick’s Market\, 1050 River Place Mall\, Amery\, WI\, 54001\, United States
END:VEVENT
BEGIN:VEVENT
DTSTART;TZID=UTC:20250808T120000
DTEND;TZID=UTC:20250808T220000
DTSTAMP:20260424T130403
CREATED:20250804T145902Z
LAST-MODIFIED:20250804T145902Z
UID:10794-1754654400-1754690400@eastlincolnalliance.com
SUMMARY:Private Event
DESCRIPTION:Mara Stone
URL:https://eastlincolnalliance.com/event/private-event-14/
LOCATION:East Lincoln Alliance Church\, 735 70th Avenue\, Amery\, WI\, 54001\, United States
END:VEVENT
BEGIN:VEVENT
DTSTART;TZID=UTC:20250809T080000
DTEND;TZID=UTC:20250809T210000
DTSTAMP:20260424T130403
CREATED:20250307T213640Z
LAST-MODIFIED:20250307T213640Z
UID:10363-1754726400-1754773200@eastlincolnalliance.com
SUMMARY:Private Event
DESCRIPTION:Lyla Stone
URL:https://eastlincolnalliance.com/event/private-event-10/
LOCATION:East Lincoln Alliance Church\, 735 70th Avenue\, Amery\, WI\, 54001\, United States
END:VEVENT
BEGIN:VEVENT
DTSTART;TZID=UTC:20250809T093000
DTEND;TZID=UTC:20250809T170000
DTSTAMP:20260424T130403
CREATED:20250627T210603Z
LAST-MODIFIED:20250627T210603Z
UID:10715-1754731800-1754758800@eastlincolnalliance.com
SUMMARY:Youth Brat Stand
DESCRIPTION:The youth will be running the brat stand at Dick’s Market on August 8th & 9th. Plan to stop by to support them as they raise money for fun youth events!
URL:https://eastlincolnalliance.com/event/youth-brat-stand-4/
LOCATION:Dick’s Market\, 1050 River Place Mall\, Amery\, WI\, 54001\, United States
END:VEVENT
BEGIN:VEVENT
DTSTART;TZID=UTC:20250810T084500
DTEND;TZID=UTC:20250810T094500
DTSTAMP:20260424T130403
CREATED:20250603T173531Z
LAST-MODIFIED:20250603T173531Z
UID:10583-1754815500-1754819100@eastlincolnalliance.com
SUMMARY:Discipleship Hour
DESCRIPTION:Join us for Discipleship Hour from 8:45-9:45am.  All 6th grade and up are invited.
URL:https://eastlincolnalliance.com/event/discipleship-hour-66/
LOCATION:East Lincoln Alliance Church\, 735 70th Avenue\, Amery\, WI\, 54001\, United States
END:VEVENT
BEGIN:VEVENT
DTSTART;TZID=UTC:20250810T100000
DTEND;TZID=UTC:20250810T111500
DTSTAMP:20260424T130403
CREATED:20250603T174305Z
LAST-MODIFIED:20250603T174305Z
UID:10607-1754820000-1754824500@eastlincolnalliance.com
SUMMARY:Worship Service
DESCRIPTION:We welcome you to our regular worship service every Sunday @ 10:00am.\n\n\n\nWe offer the following services for kids during the Worship Service: \nEarly Childhood care for 1-3 year olds in the East Wing \n4 years old-Kindergarten in the West Wing (Discovery Land) \n1st-5th Grade in the East Wing (Discovery Land)
URL:https://eastlincolnalliance.com/event/worship-service-162/
LOCATION:East Lincoln Alliance Church\, 735 70th Avenue\, Amery\, WI\, 54001\, United States
END:VEVENT
BEGIN:VEVENT
DTSTART;TZID=UTC:20250810T180000
DTEND;TZID=UTC:20250810T190000
DTSTAMP:20260424T130403
CREATED:20250728T160446Z
LAST-MODIFIED:20250728T160605Z
UID:10779-1754848800-1754852400@eastlincolnalliance.com
SUMMARY:Church Softball
DESCRIPTION:Join us for some fun on the field! We are kicking off our softball effort Sunday\, August 10th at 6pm at the Clear Lake Elementary fields (135 8th Ave\, Clear Lake) with a game against United Covenant from Clear Lake.  Players will be mixed if needed between teams. \nPlayers must be at least 12 years old.  Join us for a non-competitive\, informal and fun atmosphere! \nThe next game will be Sunday\, August 17th vs First Lutheran Church Clear Lake.
URL:https://eastlincolnalliance.com/event/church-softball/
LOCATION:Clear Lake Elementary\, 135 8th Ave\, Clear Lake\, WI\, United States
END:VEVENT
BEGIN:VEVENT
DTSTART;TZID=UTC:20250812T183000
DTEND;TZID=UTC:20250812T193000
DTSTAMP:20260424T130403
CREATED:20250603T180729Z
LAST-MODIFIED:20250603T180729Z
UID:10635-1755023400-1755027000@eastlincolnalliance.com
SUMMARY:Prayer Gathering
DESCRIPTION:All are invited to join as we pray for each other\, our community and world.  Every Tuesday\, 6:30pm
URL:https://eastlincolnalliance.com/event/prayer-gathering-71/
LOCATION:East Lincoln Alliance Church\, 735 70th Avenue\, Amery\, WI\, 54001\, United States
END:VEVENT
BEGIN:VEVENT
DTSTART;TZID=UTC:20250813T090000
DTEND;TZID=UTC:20250813T160000
DTSTAMP:20260424T130403
CREATED:20250808T184730Z
LAST-MODIFIED:20250808T184730Z
UID:10800-1755075600-1755100800@eastlincolnalliance.com
SUMMARY:Women's Craft Day
DESCRIPTION:Women are invited to join on Wednesday\, August 13th 9am-4pm for a day of crafting and fellowship.  Bring whatever project you are working on or just come and visit! \nWe will be meeting at Bonnie Williamson’s.  Pack a lunch. \nContact Julie Anderson if you have questions or would like to host a craft day. 715-607-8022
URL:https://eastlincolnalliance.com/event/womens-craft-day-38/
LOCATION:Vern & Bonnie Williamson\, 759 Golf Way\, Amery\, WI\, 54001\, United States
END:VEVENT
BEGIN:VEVENT
DTSTART;TZID=UTC:20250814T103000
DTEND;TZID=UTC:20250814T150000
DTSTAMP:20260424T130403
CREATED:20250611T145630Z
LAST-MODIFIED:20250611T145630Z
UID:10677-1755167400-1755183600@eastlincolnalliance.com
SUMMARY:Group Learning
DESCRIPTION:Kayla Nelson
URL:https://eastlincolnalliance.com/event/group-learning-7/
LOCATION:East Lincoln Alliance Church\, 735 70th Avenue\, Amery\, WI\, 54001\, United States
END:VEVENT
BEGIN:VEVENT
DTSTART;TZID=UTC:20250815T100000
DTEND;TZID=UTC:20250815T150000
DTSTAMP:20260424T130403
CREATED:20250801T201142Z
LAST-MODIFIED:20250801T201142Z
UID:10788-1755252000-1755270000@eastlincolnalliance.com
SUMMARY:Brad Marquand's funeral
DESCRIPTION:rad Marquand’s visitation will be Friday\, August 15th 5-7:30pm at Williamson-White Funeral Home. The funeral will be Saturday\, August 16th at 11am at ELAC with a one-hour visitation prior to the service and a lunch following the service.
URL:https://eastlincolnalliance.com/event/brad-marquands-funeral/
LOCATION:East Lincoln Alliance Church\, 735 70th Avenue\, Amery\, WI\, 54001\, United States
END:VEVENT
BEGIN:VEVENT
DTSTART;TZID=UTC:20250815T180000
DTEND;TZID=UTC:20250815T200000
DTSTAMP:20260424T130403
CREATED:20250714T165829Z
LAST-MODIFIED:20250714T165829Z
UID:10743-1755280800-1755288000@eastlincolnalliance.com
SUMMARY:Grace Marriage
DESCRIPTION:
URL:https://eastlincolnalliance.com/event/grace-marriage-7/
LOCATION:East Lincoln Alliance Church\, 735 70th Avenue\, Amery\, WI\, 54001\, United States
END:VEVENT
BEGIN:VEVENT
DTSTART;TZID=UTC:20250816T120000
DTEND;TZID=UTC:20250816T133000
DTSTAMP:20260424T130403
CREATED:20250728T153033Z
LAST-MODIFIED:20250728T153302Z
UID:10771-1755345600-1755351000@eastlincolnalliance.com
SUMMARY:Hi-Rise Meal
DESCRIPTION:We will be serving our monthly meal to the residents of the Amery Hi-Rise on Saturday\, August 16th at 12pm. We are looking for help with the meal. \nFood can be dropped off at the Hi-Rise (300 Harriman Ave N\, Amery) on the 16th at 11:30am or text Kim Davis for alternate arrangements (320-266-4859). \nWe are also needing 5-7 people to help set up\, serve food/mingle and clean up. Please arrive at the Hi-Rise at 11:30am and should be done between 1-1:30pm. \nThere is a sign-up sheet at the Information Table at church or contact the church office to get your name added.  Any questions\, contact Kim Davis at 320-266-4859 or any of the planning team.
URL:https://eastlincolnalliance.com/event/hi-rise-meal-9/
LOCATION:Amery Hi Rise\, 300 Harriman Ave\, Amery\, 54001\, United States
END:VEVENT
BEGIN:VEVENT
DTSTART;TZID=UTC:20250817T084500
DTEND;TZID=UTC:20250817T094500
DTSTAMP:20260424T130403
CREATED:20250603T173602Z
LAST-MODIFIED:20250603T173603Z
UID:10585-1755420300-1755423900@eastlincolnalliance.com
SUMMARY:Discipleship Hour
DESCRIPTION:Join us for Discipleship Hour from 8:45-9:45am.  All 6th grade and up are invited.
URL:https://eastlincolnalliance.com/event/discipleship-hour-67/
LOCATION:East Lincoln Alliance Church\, 735 70th Avenue\, Amery\, WI\, 54001\, United States
END:VEVENT
BEGIN:VEVENT
DTSTART;TZID=UTC:20250817T100000
DTEND;TZID=UTC:20250817T111500
DTSTAMP:20260424T130403
CREATED:20250603T174709Z
LAST-MODIFIED:20250603T174709Z
UID:10609-1755424800-1755429300@eastlincolnalliance.com
SUMMARY:Worship Service
DESCRIPTION:We welcome you to our regular worship service every Sunday @ 10:00am.\n\n\n\nWe offer the following services for kids during the Worship Service: \nEarly Childhood care for 1-3 year olds in the East Wing \n4 years old-Kindergarten in the West Wing (Discovery Land) \n1st-5th Grade in the East Wing (Discovery Land)
URL:https://eastlincolnalliance.com/event/worship-service-163/
LOCATION:East Lincoln Alliance Church\, 735 70th Avenue\, Amery\, WI\, 54001\, United States
END:VEVENT
BEGIN:VEVENT
DTSTART;TZID=UTC:20250817T180000
DTEND;TZID=UTC:20250817T190000
DTSTAMP:20260424T130403
CREATED:20250728T160647Z
LAST-MODIFIED:20250728T160647Z
UID:10783-1755453600-1755457200@eastlincolnalliance.com
SUMMARY:Church Softball
DESCRIPTION:Join us for some fun on the field! Join us for a softball game on Sunday\, August 17th at 6pm at the Clear Lake Elementary fields (135 8th Ave\, Clear Lake) against First Lutheran Church Clear Lake. Players will be mixed if needed between teams.\nPlayers must be at least 12 years old. Join us for a non-competitive\, informal and fun atmosphere!
URL:https://eastlincolnalliance.com/event/church-softball-2/
LOCATION:Clear Lake Elementary\, 135 8th Ave\, Clear Lake\, WI\, United States
END:VEVENT
BEGIN:VEVENT
DTSTART;TZID=UTC:20250818T180000
DTEND;TZID=UTC:20250818T203000
DTSTAMP:20260424T130403
CREATED:20250603T181657Z
LAST-MODIFIED:20250603T181657Z
UID:10653-1755540000-1755549000@eastlincolnalliance.com
SUMMARY:Elder Meeting
DESCRIPTION:
URL:https://eastlincolnalliance.com/event/elder-meeting-14/
LOCATION:WI
END:VEVENT
BEGIN:VEVENT
DTSTART;TZID=UTC:20250819T183000
DTEND;TZID=UTC:20250819T193000
DTSTAMP:20260424T130403
CREATED:20250603T180800Z
LAST-MODIFIED:20250603T180800Z
UID:10637-1755628200-1755631800@eastlincolnalliance.com
SUMMARY:Prayer Gathering
DESCRIPTION:All are invited to join as we pray for each other\, our community and world.  Every Tuesday\, 6:30pm
URL:https://eastlincolnalliance.com/event/prayer-gathering-72/
LOCATION:East Lincoln Alliance Church\, 735 70th Avenue\, Amery\, WI\, 54001\, United States
END:VEVENT
BEGIN:VEVENT
DTSTART;TZID=UTC:20250821T103000
DTEND;TZID=UTC:20250821T150000
DTSTAMP:20260424T130403
CREATED:20250611T145713Z
LAST-MODIFIED:20250611T145713Z
UID:10679-1755772200-1755788400@eastlincolnalliance.com
SUMMARY:Group Learning
DESCRIPTION:Kayla Nelson
URL:https://eastlincolnalliance.com/event/group-learning-8/
LOCATION:East Lincoln Alliance Church\, 735 70th Avenue\, Amery\, WI\, 54001\, United States
END:VEVENT
BEGIN:VEVENT
DTSTART;TZID=UTC:20250821T173000
DTEND;TZID=UTC:20250821T193000
DTSTAMP:20260424T130403
CREATED:20250808T181216Z
LAST-MODIFIED:20250808T181216Z
UID:10796-1755797400-1755804600@eastlincolnalliance.com
SUMMARY:Group Learning - Final Dinner
DESCRIPTION:Kayla Nelson
URL:https://eastlincolnalliance.com/event/group-learning-final-dinner/
LOCATION:East Lincoln Alliance Church\, 735 70th Avenue\, Amery\, WI\, 54001\, United States
END:VEVENT
BEGIN:VEVENT
DTSTART;TZID=UTC:20250824T084500
DTEND;TZID=UTC:20250824T094500
DTSTAMP:20260424T130403
CREATED:20250603T173641Z
LAST-MODIFIED:20250603T173641Z
UID:10587-1756025100-1756028700@eastlincolnalliance.com
SUMMARY:Discipleship Hour
DESCRIPTION:Join us for Discipleship Hour from 8:45-9:45am.  All 6th grade and up are invited.
URL:https://eastlincolnalliance.com/event/discipleship-hour-68/
LOCATION:East Lincoln Alliance Church\, 735 70th Avenue\, Amery\, WI\, 54001\, United States
END:VEVENT
BEGIN:VEVENT
DTSTART;TZID=UTC:20250824T100000
DTEND;TZID=UTC:20250824T111500
DTSTAMP:20260424T130403
CREATED:20250603T174737Z
LAST-MODIFIED:20250603T174737Z
UID:10611-1756029600-1756034100@eastlincolnalliance.com
SUMMARY:Worship Service
DESCRIPTION:We welcome you to our regular worship service every Sunday @ 10:00am.\n\n\n\nWe offer the following services for kids during the Worship Service: \nEarly Childhood care for 1-3 year olds in the East Wing \n4 years old-Kindergarten in the West Wing (Discovery Land) \n1st-5th Grade in the East Wing (Discovery Land)
URL:https://eastlincolnalliance.com/event/worship-service-164/
LOCATION:East Lincoln Alliance Church\, 735 70th Avenue\, Amery\, WI\, 54001\, United States
END:VEVENT
END:VCALENDAR