BEGIN:VCALENDAR
VERSION:2.0
PRODID:-//East Lincoln Alliance Church - ECPv6.15.20//NONSGML v1.0//EN
CALSCALE:GREGORIAN
METHOD:PUBLISH
X-WR-CALNAME:East Lincoln Alliance Church
X-ORIGINAL-URL:https://eastlincolnalliance.com
X-WR-CALDESC:Events for East Lincoln Alliance Church
REFRESH-INTERVAL;VALUE=DURATION:PT1H
X-Robots-Tag:noindex
X-PUBLISHED-TTL:PT1H
BEGIN:VTIMEZONE
TZID:UTC
BEGIN:STANDARD
TZOFFSETFROM:+0000
TZOFFSETTO:+0000
TZNAME:UTC
DTSTART:20240101T000000
END:STANDARD
END:VTIMEZONE
BEGIN:VEVENT
DTSTART;TZID=UTC:20250629T084500
DTEND;TZID=UTC:20250629T094500
DTSTAMP:20260424T142057
CREATED:20250307T194111Z
LAST-MODIFIED:20250307T194111Z
UID:10327-1751186700-1751190300@eastlincolnalliance.com
SUMMARY:Discipleship Hour
DESCRIPTION:Join us for Discipleship Hour from 8:45-9:45am.  All 6th grade and up are invited.
URL:https://eastlincolnalliance.com/event/discipleship-hour-61/
LOCATION:East Lincoln Alliance Church\, 735 70th Avenue\, Amery\, WI\, 54001\, United States
END:VEVENT
BEGIN:VEVENT
DTSTART;TZID=UTC:20250629T100000
DTEND;TZID=UTC:20250629T111500
DTSTAMP:20260424T142057
CREATED:20250307T194832Z
LAST-MODIFIED:20250307T194832Z
UID:10353-1751191200-1751195700@eastlincolnalliance.com
SUMMARY:Worship Service
DESCRIPTION:We welcome you to our regular worship service every Sunday @ 10:00am.\n\n\n\nWe offer the following services for kids during the Worship Service: \nEarly Childhood care for 1-3 year olds in the East Wing \n4 years old-Kindergarten in the West Wing (Discovery Land) \n1st-5th Grade in the East Wing (Discovery Land)
URL:https://eastlincolnalliance.com/event/worship-service-157/
LOCATION:East Lincoln Alliance Church\, 735 70th Avenue\, Amery\, WI\, 54001\, United States
END:VEVENT
BEGIN:VEVENT
DTSTART;TZID=UTC:20250629T113000
DTEND;TZID=UTC:20250629T143000
DTSTAMP:20260424T142057
CREATED:20250606T171849Z
LAST-MODIFIED:20250606T171849Z
UID:10658-1751196600-1751207400@eastlincolnalliance.com
SUMMARY:Bridal Shower for Lyla Stone & Joel Springett
DESCRIPTION:
URL:https://eastlincolnalliance.com/event/bridal-shower-for-lyla-stone-joel-springett/
LOCATION:East Lincoln Alliance Church\, 735 70th Avenue\, Amery\, WI\, 54001\, United States
END:VEVENT
BEGIN:VEVENT
DTSTART;TZID=UTC:20250701T183000
DTEND;TZID=UTC:20250701T193000
DTSTAMP:20260424T142057
CREATED:20250603T180341Z
LAST-MODIFIED:20250603T180341Z
UID:10623-1751394600-1751398200@eastlincolnalliance.com
SUMMARY:Prayer Gathering
DESCRIPTION:All are invited to join as we pray for each other\, our community and world.  Every Tuesday\, 6:30pm
URL:https://eastlincolnalliance.com/event/prayer-gathering-62/
LOCATION:East Lincoln Alliance Church\, 735 70th Avenue\, Amery\, WI\, 54001\, United States
END:VEVENT
BEGIN:VEVENT
DTSTART;TZID=UTC:20250706T084500
DTEND;TZID=UTC:20250706T094500
DTSTAMP:20260424T142057
CREATED:20250603T173245Z
LAST-MODIFIED:20250603T173245Z
UID:10575-1751791500-1751795100@eastlincolnalliance.com
SUMMARY:Discipleship Hour
DESCRIPTION:Join us for Discipleship Hour from 8:45-9:45am.  All 6th grade and up are invited.
URL:https://eastlincolnalliance.com/event/discipleship-hour-62/
LOCATION:East Lincoln Alliance Church\, 735 70th Avenue\, Amery\, WI\, 54001\, United States
END:VEVENT
BEGIN:VEVENT
DTSTART;TZID=UTC:20250706T100000
DTEND;TZID=UTC:20250706T111500
DTSTAMP:20260424T142057
CREATED:20250603T174004Z
LAST-MODIFIED:20250603T174155Z
UID:10599-1751796000-1751800500@eastlincolnalliance.com
SUMMARY:Worship Service
DESCRIPTION:We welcome you to our regular worship service every Sunday @ 10:00am.\n\n\n\nWe offer the following services for kids during the Worship Service: \nEarly Childhood care for 1-3 year olds in the East Wing \n4 years old-Kindergarten in the West Wing (Discovery Land) \n1st-5th Grade in the East Wing (Discovery Land)
URL:https://eastlincolnalliance.com/event/worship-service-158/
LOCATION:East Lincoln Alliance Church\, 735 70th Avenue\, Amery\, WI\, 54001\, United States
END:VEVENT
BEGIN:VEVENT
DTSTART;TZID=UTC:20250706T113000
DTEND;TZID=UTC:20250706T130000
DTSTAMP:20260424T142057
CREATED:20250624T152947Z
LAST-MODIFIED:20250624T152947Z
UID:10702-1751801400-1751806800@eastlincolnalliance.com
SUMMARY:Single Women's Fellowship
DESCRIPTION:All single women are invited to a time of fellowship and potluck meal at Wendy Bachman’s on Sunday\, July 6th after church.
URL:https://eastlincolnalliance.com/event/single-womens-fellowship-22/
LOCATION:Wendy Bachman’s
END:VEVENT
BEGIN:VEVENT
DTSTART;TZID=UTC:20250708T183000
DTEND;TZID=UTC:20250708T193000
DTSTAMP:20260424T142057
CREATED:20250603T180410Z
LAST-MODIFIED:20250603T180410Z
UID:10625-1751999400-1752003000@eastlincolnalliance.com
SUMMARY:Prayer Gathering
DESCRIPTION:All are invited to join as we pray for each other\, our community and world.  Every Tuesday\, 6:30pm
URL:https://eastlincolnalliance.com/event/prayer-gathering-66/
LOCATION:East Lincoln Alliance Church\, 735 70th Avenue\, Amery\, WI\, 54001\, United States
END:VEVENT
BEGIN:VEVENT
DTSTART;TZID=UTC:20250710T103000
DTEND;TZID=UTC:20250710T150000
DTSTAMP:20260424T142057
CREATED:20250611T145509Z
LAST-MODIFIED:20250611T145509Z
UID:10671-1752143400-1752159600@eastlincolnalliance.com
SUMMARY:Group Learning
DESCRIPTION:Kayla Nelson
URL:https://eastlincolnalliance.com/event/group-learning-4/
LOCATION:East Lincoln Alliance Church\, 735 70th Avenue\, Amery\, WI\, 54001\, United States
END:VEVENT
BEGIN:VEVENT
DTSTART;TZID=UTC:20250713T084500
DTEND;TZID=UTC:20250713T094500
DTSTAMP:20260424T142057
CREATED:20250603T173314Z
LAST-MODIFIED:20250603T173314Z
UID:10577-1752396300-1752399900@eastlincolnalliance.com
SUMMARY:Discipleship Hour
DESCRIPTION:Join us for Discipleship Hour from 8:45-9:45am.  All 6th grade and up are invited.
URL:https://eastlincolnalliance.com/event/discipleship-hour-63/
LOCATION:East Lincoln Alliance Church\, 735 70th Avenue\, Amery\, WI\, 54001\, United States
END:VEVENT
BEGIN:VEVENT
DTSTART;TZID=UTC:20250713T100000
DTEND;TZID=UTC:20250713T111500
DTSTAMP:20260424T142057
CREATED:20250603T174033Z
LAST-MODIFIED:20250603T174033Z
UID:10601-1752400800-1752405300@eastlincolnalliance.com
SUMMARY:Worship Service
DESCRIPTION:We welcome you to our regular worship service every Sunday @ 10:00am.\n\n\n\nWe offer the following services for kids during the Worship Service: \nEarly Childhood care for 1-3 year olds in the East Wing \n4 years old-Kindergarten in the West Wing (Discovery Land) \n1st-5th Grade in the East Wing (Discovery Land)
URL:https://eastlincolnalliance.com/event/worship-service-159/
LOCATION:East Lincoln Alliance Church\, 735 70th Avenue\, Amery\, WI\, 54001\, United States
END:VEVENT
BEGIN:VEVENT
DTSTART;TZID=UTC:20250714T093000
DTEND;TZID=UTC:20250714T120000
DTSTAMP:20260424T142057
CREATED:20250418T192021Z
LAST-MODIFIED:20250418T192021Z
UID:10470-1752485400-1752494400@eastlincolnalliance.com
SUMMARY:Summer Good News Club/VBS
DESCRIPTION:
URL:https://eastlincolnalliance.com/event/summer-good-news-club-vbs/
LOCATION:East Lincoln Alliance Church\, 735 70th Avenue\, Amery\, WI\, 54001\, United States
END:VEVENT
BEGIN:VEVENT
DTSTART;TZID=UTC:20250715T093000
DTEND;TZID=UTC:20250715T120000
DTSTAMP:20260424T142057
CREATED:20250418T192042Z
LAST-MODIFIED:20250418T192042Z
UID:10472-1752571800-1752580800@eastlincolnalliance.com
SUMMARY:Summer Good News Club/VBS
DESCRIPTION:
URL:https://eastlincolnalliance.com/event/summer-good-news-club-vbs-2/
LOCATION:East Lincoln Alliance Church\, 735 70th Avenue\, Amery\, WI\, 54001\, United States
END:VEVENT
BEGIN:VEVENT
DTSTART;TZID=UTC:20250715T183000
DTEND;TZID=UTC:20250715T193000
DTSTAMP:20260424T142057
CREATED:20250603T180611Z
LAST-MODIFIED:20250603T180611Z
UID:10629-1752604200-1752607800@eastlincolnalliance.com
SUMMARY:Prayer Gathering
DESCRIPTION:All are invited to join as we pray for each other\, our community and world.  Every Tuesday\, 6:30pm
URL:https://eastlincolnalliance.com/event/prayer-gathering-68/
LOCATION:East Lincoln Alliance Church\, 735 70th Avenue\, Amery\, WI\, 54001\, United States
END:VEVENT
BEGIN:VEVENT
DTSTART;TZID=UTC:20250716T093000
DTEND;TZID=UTC:20250716T120000
DTSTAMP:20260424T142057
CREATED:20250418T192100Z
LAST-MODIFIED:20250418T192100Z
UID:10474-1752658200-1752667200@eastlincolnalliance.com
SUMMARY:Summer Good News Club/VBS
DESCRIPTION:
URL:https://eastlincolnalliance.com/event/summer-good-news-club-vbs-3/
LOCATION:East Lincoln Alliance Church\, 735 70th Avenue\, Amery\, WI\, 54001\, United States
END:VEVENT
BEGIN:VEVENT
DTSTART;TZID=UTC:20250717T093000
DTEND;TZID=UTC:20250717T120000
DTSTAMP:20260424T142057
CREATED:20250418T192118Z
LAST-MODIFIED:20250418T192118Z
UID:10476-1752744600-1752753600@eastlincolnalliance.com
SUMMARY:Summer Good News Club/VBS
DESCRIPTION:
URL:https://eastlincolnalliance.com/event/summer-good-news-club-vbs-4/
LOCATION:East Lincoln Alliance Church\, 735 70th Avenue\, Amery\, WI\, 54001\, United States
END:VEVENT
BEGIN:VEVENT
DTSTART;TZID=UTC:20250718T093000
DTEND;TZID=UTC:20250718T120000
DTSTAMP:20260424T142057
CREATED:20250418T192134Z
LAST-MODIFIED:20250418T192134Z
UID:10478-1752831000-1752840000@eastlincolnalliance.com
SUMMARY:Summer Good News Club/VBS
DESCRIPTION:
URL:https://eastlincolnalliance.com/event/summer-good-news-club-vbs-5/
LOCATION:East Lincoln Alliance Church\, 735 70th Avenue\, Amery\, WI\, 54001\, United States
END:VEVENT
BEGIN:VEVENT
DTSTART;TZID=UTC:20250718T180000
DTEND;TZID=UTC:20250718T200000
DTSTAMP:20260424T142057
CREATED:20250714T165752Z
LAST-MODIFIED:20250714T165752Z
UID:10741-1752861600-1752868800@eastlincolnalliance.com
SUMMARY:Grace Marriage
DESCRIPTION:
URL:https://eastlincolnalliance.com/event/grace-marriage-6/
LOCATION:East Lincoln Alliance Church\, 735 70th Avenue\, Amery\, WI\, 54001\, United States
END:VEVENT
BEGIN:VEVENT
DTSTART;TZID=UTC:20250719T090000
DTEND;TZID=UTC:20250719T120000
DTSTAMP:20260424T142057
CREATED:20250624T152852Z
LAST-MODIFIED:20250624T152852Z
UID:10700-1752915600-1752926400@eastlincolnalliance.com
SUMMARY:Private Event
DESCRIPTION:Kayla Nelson
URL:https://eastlincolnalliance.com/event/private-event-13/
LOCATION:East Lincoln Alliance Church\, 735 70th Avenue\, Amery\, WI\, 54001\, United States
END:VEVENT
BEGIN:VEVENT
DTSTART;TZID=UTC:20250720T100000
DTEND;TZID=UTC:20250720T123000
DTSTAMP:20260424T142057
CREATED:20250505T145242Z
LAST-MODIFIED:20250505T145242Z
UID:10502-1753005600-1753014600@eastlincolnalliance.com
SUMMARY:Worship at Michael Park
DESCRIPTION:We will be having an outdoor worship service at Michael Park on Sunday\, July 20th at our normal time\, 10:00am. The service will take place on Danielson Stage\, bring your lawn chair or a blanket to sit on!  Stay for a potluck meal (please bring a dish to pass) and yard games! Culinary Group 1 will be in charge of the potluck set up/clean up. \nThere will be no Discipleship Hour prior to the service. \nThere will be no Discovery Land or Early Childhood care during the service.
URL:https://eastlincolnalliance.com/event/worship-at-michael-park-3/
LOCATION:Michael Park\, 132 Central Street\, Amery\, WI\, 54001\, United States
END:VEVENT
BEGIN:VEVENT
DTSTART;TZID=UTC:20250721T180000
DTEND;TZID=UTC:20250721T203000
DTSTAMP:20260424T142057
CREATED:20250603T181635Z
LAST-MODIFIED:20250603T181635Z
UID:10651-1753120800-1753129800@eastlincolnalliance.com
SUMMARY:Elder Meeting
DESCRIPTION:
URL:https://eastlincolnalliance.com/event/elder-meeting-13/
LOCATION:WI
END:VEVENT
BEGIN:VEVENT
DTSTART;TZID=UTC:20250722T110000
DTEND;TZID=UTC:20250722T180000
DTSTAMP:20260424T142057
CREATED:20250627T210329Z
LAST-MODIFIED:20250627T210445Z
UID:10709-1753182000-1753207200@eastlincolnalliance.com
SUMMARY:Wild Mountain Family Fun Day
DESCRIPTION:On Tuesday\, July 22nd we will enjoy a day at Wild Mountain in Taylors Falls. All are invited to attend! The cost is $25 per person with a sub sandwich lunch included (we will purchase tickets as a group). Transportation is up to you. Sign up at the Info Table or contact Kent Tollakson.
URL:https://eastlincolnalliance.com/event/wild-mountain-family-fun-day/
LOCATION:Wild Mountain\, 37200 Wild Mountain Rd\, Taylors Falls\, MN\, 55084\, United States
END:VEVENT
BEGIN:VEVENT
DTSTART;TZID=UTC:20250722T183000
DTEND;TZID=UTC:20250722T193000
DTSTAMP:20260424T142057
CREATED:20250603T180450Z
LAST-MODIFIED:20250603T180450Z
UID:10627-1753209000-1753212600@eastlincolnalliance.com
SUMMARY:Prayer Gathering
DESCRIPTION:All are invited to join as we pray for each other\, our community and world.  Every Tuesday\, 6:30pm
URL:https://eastlincolnalliance.com/event/prayer-gathering-67/
LOCATION:East Lincoln Alliance Church\, 735 70th Avenue\, Amery\, WI\, 54001\, United States
END:VEVENT
BEGIN:VEVENT
DTSTART;TZID=UTC:20250723T090000
DTEND;TZID=UTC:20250723T160000
DTSTAMP:20260424T142057
CREATED:20250721T130930Z
LAST-MODIFIED:20250721T130930Z
UID:10752-1753261200-1753286400@eastlincolnalliance.com
SUMMARY:Women's Craft Day
DESCRIPTION:Women are invited to join on Wednesday\, July 23rd 9am-4pm for a day of crafting and fellowship.  Bring whatever project you are working on or just come and visit! \nWe will be meeting at Gloria Stokes’s.  Pack a lunch. \nContact Julie Anderson if you have questions or would like to host a craft day. 715-607-8022
URL:https://eastlincolnalliance.com/event/womens-craft-day-37/
LOCATION:Gloria Stokes
END:VEVENT
BEGIN:VEVENT
DTSTART;TZID=UTC:20250726T093000
DTEND;TZID=UTC:20250726T170000
DTSTAMP:20260424T142057
CREATED:20250627T205750Z
LAST-MODIFIED:20250627T205750Z
UID:10707-1753522200-1753549200@eastlincolnalliance.com
SUMMARY:Youth Brat Stand
DESCRIPTION:The youth will be running the brat stand at Dick’s Market on July 25th & 26th. Plan to stop by to support them as they raise money for fun youth events!
URL:https://eastlincolnalliance.com/event/youth-brat-stand-2/
LOCATION:Dick’s Market\, 1050 River Place Mall\, Amery\, WI\, 54001\, United States
END:VEVENT
BEGIN:VEVENT
DTSTART;TZID=UTC:20250726T120000
DTEND;TZID=UTC:20250726T140000
DTSTAMP:20260424T142057
CREATED:20250714T161649Z
LAST-MODIFIED:20250714T161649Z
UID:10739-1753531200-1753538400@eastlincolnalliance.com
SUMMARY:Hi-Rise Meal
DESCRIPTION:We will be serving our monthly meal to the residents of the Amery Hi-Rise on Saturday\, July 26th at 12pm. We are looking for help with the meal\, this month -potluck style! \nFood needed: \n2-3 main dishes \n2-3 salads \n1-2 dessert options \nFood can be dropped off at the Hi-Rise (300 Harriman Ave N\, Amery) on the 15th at 11:30am or text Kim Davis for alternate arrangements (320-266-4859). \nWe are also needing 5-7 people to help set up\, serve food/mingle and clean up. Please arrive at the Hi-Rise at 11:30am and should be done between 1-1:30pm. \nContact the church office to get signed up.  Any questions\, contact Kim Davis at 320-266-4859 or any of the planning team.
URL:https://eastlincolnalliance.com/event/hi-rise-meal-8/
LOCATION:Amery Hi Rise\, 300 Harriman Ave\, Amery\, 54001\, United States
END:VEVENT
BEGIN:VEVENT
DTSTART;TZID=UTC:20250726T130000
DTEND;TZID=UTC:20250726T170000
DTSTAMP:20260424T142057
CREATED:20250522T141837Z
LAST-MODIFIED:20250522T141837Z
UID:10545-1753534800-1753549200@eastlincolnalliance.com
SUMMARY:Private Event
DESCRIPTION:Clara Deitrich’s Bridal Shower \nMary Schussman
URL:https://eastlincolnalliance.com/event/private-event-12/
LOCATION:East Lincoln Alliance Church\, 735 70th Avenue\, Amery\, WI\, 54001\, United States
END:VEVENT
BEGIN:VEVENT
DTSTART;TZID=UTC:20250727T084500
DTEND;TZID=UTC:20250727T094500
DTSTAMP:20260424T142057
CREATED:20250603T173344Z
LAST-MODIFIED:20250603T173502Z
UID:10579-1753605900-1753609500@eastlincolnalliance.com
SUMMARY:Discipleship Hour
DESCRIPTION:Join us for Discipleship Hour from 8:45-9:45am.  All 6th grade and up are invited.
URL:https://eastlincolnalliance.com/event/discipleship-hour-64/
LOCATION:East Lincoln Alliance Church\, 735 70th Avenue\, Amery\, WI\, 54001\, United States
END:VEVENT
BEGIN:VEVENT
DTSTART;TZID=UTC:20250727T100000
DTEND;TZID=UTC:20250727T111500
DTSTAMP:20260424T142057
CREATED:20250603T174100Z
LAST-MODIFIED:20250603T174100Z
UID:10603-1753610400-1753614900@eastlincolnalliance.com
SUMMARY:Worship Service
DESCRIPTION:We welcome you to our regular worship service every Sunday @ 10:00am.\n\n\n\nWe offer the following services for kids during the Worship Service: \nEarly Childhood care for 1-3 year olds in the East Wing \n4 years old-Kindergarten in the West Wing (Discovery Land) \n1st-5th Grade in the East Wing (Discovery Land)
URL:https://eastlincolnalliance.com/event/worship-service-160/
LOCATION:East Lincoln Alliance Church\, 735 70th Avenue\, Amery\, WI\, 54001\, United States
END:VEVENT
BEGIN:VEVENT
DTSTART;TZID=UTC:20250727T113000
DTEND;TZID=UTC:20250727T120000
DTSTAMP:20260424T142057
CREATED:20250714T144919Z
LAST-MODIFIED:20250714T144919Z
UID:10736-1753615800-1753617600@eastlincolnalliance.com
SUMMARY:Congregational Meeting
DESCRIPTION:Items of Business: \n\nMake a decision about storm damage repairs\nPossibly make a decision about when to replace our printer/copier\n\nAll members and regular attenders are invited to attend. Members may vote on recommendations and decisions that need to be made.
URL:https://eastlincolnalliance.com/event/congregational-meeting-4/
LOCATION:East Lincoln Alliance Church\, 735 70th Avenue\, Amery\, WI\, 54001\, United States
END:VEVENT
END:VCALENDAR