BEGIN:VCALENDAR
VERSION:2.0
PRODID:-//East Lincoln Alliance Church - ECPv6.15.20//NONSGML v1.0//EN
CALSCALE:GREGORIAN
METHOD:PUBLISH
X-WR-CALNAME:East Lincoln Alliance Church
X-ORIGINAL-URL:https://eastlincolnalliance.com
X-WR-CALDESC:Events for East Lincoln Alliance Church
REFRESH-INTERVAL;VALUE=DURATION:PT1H
X-Robots-Tag:noindex
X-PUBLISHED-TTL:PT1H
BEGIN:VTIMEZONE
TZID:UTC
BEGIN:STANDARD
TZOFFSETFROM:+0000
TZOFFSETTO:+0000
TZNAME:UTC
DTSTART:20250101T000000
END:STANDARD
END:VTIMEZONE
BEGIN:VEVENT
DTSTART;TZID=UTC:20260609T183000
DTEND;TZID=UTC:20260609T193000
DTSTAMP:20260423T201703
CREATED:20260304T164405Z
LAST-MODIFIED:20260304T164405Z
UID:11658-1781029800-1781033400@eastlincolnalliance.com
SUMMARY:Prayer Gathering
DESCRIPTION:All are invited to join as we pray for each other\, our community and world.  Every Tuesday\, 6:30pm
URL:https://eastlincolnalliance.com/event/prayer-gathering-111/
LOCATION:East Lincoln Alliance Church\, 735 70th Avenue\, Amery\, WI\, 54001\, United States
END:VEVENT
BEGIN:VEVENT
DTSTART;TZID=UTC:20260614T084500
DTEND;TZID=UTC:20260614T094500
DTSTAMP:20260423T201703
CREATED:20260304T162917Z
LAST-MODIFIED:20260304T162917Z
UID:11608-1781426700-1781430300@eastlincolnalliance.com
SUMMARY:Discipleship Hour
DESCRIPTION:Join us for Discipleship Hour from 8:45-9:45am.  All 6th grade and up are invited.
URL:https://eastlincolnalliance.com/event/discipleship-hour-109/
LOCATION:East Lincoln Alliance Church\, 735 70th Avenue\, Amery\, WI\, 54001\, United States
END:VEVENT
BEGIN:VEVENT
DTSTART;TZID=UTC:20260614T100000
DTEND;TZID=UTC:20260614T111500
DTSTAMP:20260423T201703
CREATED:20260304T163642Z
LAST-MODIFIED:20260304T163642Z
UID:11634-1781431200-1781435700@eastlincolnalliance.com
SUMMARY:Worship Service
DESCRIPTION:We offer the following services for kids during the Worship Service: \nEarly Childhood care for 1-3 year olds in the East Wing \n4 years old-Kindergarten in the West Wing (Discovery Land) \n1st-3rd Grade in the East Wing (Discovery Land)
URL:https://eastlincolnalliance.com/event/worship-service-205/
LOCATION:East Lincoln Alliance Church\, 735 70th Avenue\, Amery\, WI\, 54001\, United States
END:VEVENT
BEGIN:VEVENT
DTSTART;TZID=UTC:20260615T180000
DTEND;TZID=UTC:20260615T203000
DTSTAMP:20260423T201703
CREATED:20260304T164728Z
LAST-MODIFIED:20260304T164728Z
UID:11670-1781546400-1781555400@eastlincolnalliance.com
SUMMARY:Elder Meeting
DESCRIPTION:
URL:https://eastlincolnalliance.com/event/elder-meeting-24/
LOCATION:WI
END:VEVENT
BEGIN:VEVENT
DTSTART;TZID=UTC:20260616T183000
DTEND;TZID=UTC:20260616T193000
DTSTAMP:20260423T201703
CREATED:20260304T164432Z
LAST-MODIFIED:20260304T164432Z
UID:11660-1781634600-1781638200@eastlincolnalliance.com
SUMMARY:Prayer Gathering
DESCRIPTION:All are invited to join as we pray for each other\, our community and world.  Every Tuesday\, 6:30pm
URL:https://eastlincolnalliance.com/event/prayer-gathering-112/
LOCATION:East Lincoln Alliance Church\, 735 70th Avenue\, Amery\, WI\, 54001\, United States
END:VEVENT
BEGIN:VEVENT
DTSTART;TZID=UTC:20260619T180000
DTEND;TZID=UTC:20260619T200000
DTSTAMP:20260423T201703
CREATED:20260108T211955Z
LAST-MODIFIED:20260108T211955Z
UID:11434-1781892000-1781899200@eastlincolnalliance.com
SUMMARY:Grace Marriage
DESCRIPTION:
URL:https://eastlincolnalliance.com/event/grace-marriage-17/
LOCATION:East Lincoln Alliance Church\, 735 70th Avenue\, Amery\, WI\, 54001\, United States
END:VEVENT
BEGIN:VEVENT
DTSTART;TZID=UTC:20260621T084500
DTEND;TZID=UTC:20260621T094500
DTSTAMP:20260423T201703
CREATED:20260304T162948Z
LAST-MODIFIED:20260304T162948Z
UID:11610-1782031500-1782035100@eastlincolnalliance.com
SUMMARY:Discipleship Hour
DESCRIPTION:Join us for Discipleship Hour from 8:45-9:45am.  All 6th grade and up are invited.
URL:https://eastlincolnalliance.com/event/discipleship-hour-110/
LOCATION:East Lincoln Alliance Church\, 735 70th Avenue\, Amery\, WI\, 54001\, United States
END:VEVENT
BEGIN:VEVENT
DTSTART;TZID=UTC:20260621T100000
DTEND;TZID=UTC:20260621T111500
DTSTAMP:20260423T201703
CREATED:20260304T163708Z
LAST-MODIFIED:20260304T163708Z
UID:11636-1782036000-1782040500@eastlincolnalliance.com
SUMMARY:Worship Service
DESCRIPTION:We offer the following services for kids during the Worship Service: \nEarly Childhood care for 1-3 year olds in the East Wing \n4 years old-Kindergarten in the West Wing (Discovery Land) \n1st-3rd Grade in the East Wing (Discovery Land)
URL:https://eastlincolnalliance.com/event/worship-service-206/
LOCATION:East Lincoln Alliance Church\, 735 70th Avenue\, Amery\, WI\, 54001\, United States
END:VEVENT
BEGIN:VEVENT
DTSTART;TZID=UTC:20260623T183000
DTEND;TZID=UTC:20260623T193000
DTSTAMP:20260423T201703
CREATED:20260304T164455Z
LAST-MODIFIED:20260304T164455Z
UID:11662-1782239400-1782243000@eastlincolnalliance.com
SUMMARY:Prayer Gathering
DESCRIPTION:All are invited to join as we pray for each other\, our community and world.  Every Tuesday\, 6:30pm
URL:https://eastlincolnalliance.com/event/prayer-gathering-113/
LOCATION:East Lincoln Alliance Church\, 735 70th Avenue\, Amery\, WI\, 54001\, United States
END:VEVENT
BEGIN:VEVENT
DTSTART;TZID=UTC:20260627T100000
DTEND;TZID=UTC:20260627T120000
DTSTAMP:20260423T201703
CREATED:20260119T183622Z
LAST-MODIFIED:20260119T183622Z
UID:11467-1782554400-1782561600@eastlincolnalliance.com
SUMMARY:The Page Turners Meeting
DESCRIPTION:The Page Turners Reading Group is a group of women that share in their love for books and reading.  The group is always taking new members\, and women can join if a book looks interesting. Contact Jolene Wester if you have questions or would like to join the group 715-553-0002 or bookwomanjw@gmail.com. \nBook List \n\nJune – The Grapes of Wrath by John Steinbeck\nJuly – Waiting Isn’t a Waste: The Surprising Comfort of Trusting God in the Uncertainties of Life by Mark Vroegop\nAugust – The Pastor’s Wife by Sabina Wurmbrand\nSeptember – Tactics: A Game Plan for Discussing Your Christian Convictions by       Gregory Koukl\nOctober – Hudson Taylor & Maria: A Match Made in Heaven by John Charles Pollock\nNovember – A Walk in the Woods: Rediscovering America on the Appalachian Trail by Bill Bryson\nDecember – Pontius Pilate by Paul Maier\n\nPage Turners will meet the last Saturday\, of every month at ELAC at 10 am to discuss the book of the month.
URL:https://eastlincolnalliance.com/event/the-page-turners-meeting-17/
LOCATION:East Lincoln Alliance Church\, 735 70th Avenue\, Amery\, WI\, 54001\, United States
END:VEVENT
BEGIN:VEVENT
DTSTART;TZID=UTC:20260628T084500
DTEND;TZID=UTC:20260628T094500
DTSTAMP:20260423T201703
CREATED:20260304T163019Z
LAST-MODIFIED:20260304T163019Z
UID:11612-1782636300-1782639900@eastlincolnalliance.com
SUMMARY:Discipleship Hour
DESCRIPTION:Join us for Discipleship Hour from 8:45-9:45am.  All 6th grade and up are invited.
URL:https://eastlincolnalliance.com/event/discipleship-hour-111/
LOCATION:East Lincoln Alliance Church\, 735 70th Avenue\, Amery\, WI\, 54001\, United States
END:VEVENT
BEGIN:VEVENT
DTSTART;TZID=UTC:20260628T100000
DTEND;TZID=UTC:20260628T111500
DTSTAMP:20260423T201703
CREATED:20260304T163739Z
LAST-MODIFIED:20260304T163739Z
UID:11638-1782640800-1782645300@eastlincolnalliance.com
SUMMARY:Worship Service
DESCRIPTION:We offer the following services for kids during the Worship Service: \nEarly Childhood care for 1-3 year olds in the East Wing \n4 years old-Kindergarten in the West Wing (Discovery Land) \n1st-3rd Grade in the East Wing (Discovery Land)
URL:https://eastlincolnalliance.com/event/worship-service-207/
LOCATION:East Lincoln Alliance Church\, 735 70th Avenue\, Amery\, WI\, 54001\, United States
END:VEVENT
BEGIN:VEVENT
DTSTART;TZID=UTC:20260628T113000
DTEND;TZID=UTC:20260628T140000
DTSTAMP:20260423T201703
CREATED:20260108T211412Z
LAST-MODIFIED:20260108T211412Z
UID:11410-1782646200-1782655200@eastlincolnalliance.com
SUMMARY:Single Women's Fellowship
DESCRIPTION:All single women are invited to a time of fellowship after church. We will enjoy lunch together and play games at Wendy Bachman’s.
URL:https://eastlincolnalliance.com/event/single-womens-fellowship-31/
LOCATION:WI
END:VEVENT
BEGIN:VEVENT
DTSTART;TZID=UTC:20260630T183000
DTEND;TZID=UTC:20260630T193000
DTSTAMP:20260423T201703
CREATED:20260304T164524Z
LAST-MODIFIED:20260304T164524Z
UID:11664-1782844200-1782847800@eastlincolnalliance.com
SUMMARY:Prayer Gathering
DESCRIPTION:All are invited to join as we pray for each other\, our community and world.  Every Tuesday\, 6:30pm
URL:https://eastlincolnalliance.com/event/prayer-gathering-114/
LOCATION:East Lincoln Alliance Church\, 735 70th Avenue\, Amery\, WI\, 54001\, United States
END:VEVENT
BEGIN:VEVENT
DTSTART;TZID=UTC:20260717T180000
DTEND;TZID=UTC:20260717T200000
DTSTAMP:20260423T201703
CREATED:20260108T212017Z
LAST-MODIFIED:20260108T212017Z
UID:11436-1784311200-1784318400@eastlincolnalliance.com
SUMMARY:Grace Marriage
DESCRIPTION:
URL:https://eastlincolnalliance.com/event/grace-marriage-18/
LOCATION:East Lincoln Alliance Church\, 735 70th Avenue\, Amery\, WI\, 54001\, United States
END:VEVENT
BEGIN:VEVENT
DTSTART;TZID=UTC:20260725T080000
DTEND;TZID=UTC:20260725T200000
DTSTAMP:20260423T201703
CREATED:20260105T141148Z
LAST-MODIFIED:20260105T141148Z
UID:11348-1784966400-1785009600@eastlincolnalliance.com
SUMMARY:Private Event - Mary Schussman
DESCRIPTION:
URL:https://eastlincolnalliance.com/event/private-event-mary-schussman/
LOCATION:East Lincoln Alliance Church\, 735 70th Avenue\, Amery\, WI\, 54001\, United States
END:VEVENT
BEGIN:VEVENT
DTSTART;TZID=UTC:20260725T100000
DTEND;TZID=UTC:20260725T120000
DTSTAMP:20260423T201703
CREATED:20260119T183651Z
LAST-MODIFIED:20260119T183651Z
UID:11469-1784973600-1784980800@eastlincolnalliance.com
SUMMARY:The Page Turners Meeting
DESCRIPTION:The Page Turners Reading Group is a group of women that share in their love for books and reading.  The group is always taking new members\, and women can join if a book looks interesting. Contact Jolene Wester if you have questions or would like to join the group 715-553-0002 or bookwomanjw@gmail.com. \nBook List \n\nJuly – Waiting Isn’t a Waste: The Surprising Comfort of Trusting God in the Uncertainties of Life by Mark Vroegop\nAugust – The Pastor’s Wife by Sabina Wurmbrand\nSeptember – Tactics: A Game Plan for Discussing Your Christian Convictions by       Gregory Koukl\nOctober – Hudson Taylor & Maria: A Match Made in Heaven by John Charles Pollock\nNovember – A Walk in the Woods: Rediscovering America on the Appalachian Trail by Bill Bryson\nDecember – Pontius Pilate by Paul Maier\n\nPage Turners will meet the last Saturday\, of every month at ELAC at 10 am to discuss the book of the month.
URL:https://eastlincolnalliance.com/event/the-page-turners-meeting-18/
LOCATION:East Lincoln Alliance Church\, 735 70th Avenue\, Amery\, WI\, 54001\, United States
END:VEVENT
BEGIN:VEVENT
DTSTART;TZID=UTC:20260726T113000
DTEND;TZID=UTC:20260726T140000
DTSTAMP:20260423T201703
CREATED:20260108T211444Z
LAST-MODIFIED:20260108T211444Z
UID:11412-1785065400-1785074400@eastlincolnalliance.com
SUMMARY:Single Women's Fellowship
DESCRIPTION:All single women are invited to a time of fellowship after church. We will enjoy lunch together and play games at Wendy Bachman’s.
URL:https://eastlincolnalliance.com/event/single-womens-fellowship-32/
LOCATION:WI
END:VEVENT
BEGIN:VEVENT
DTSTART;TZID=UTC:20260731T090000
DTEND;TZID=UTC:20260731T180000
DTSTAMP:20260423T201703
CREATED:20260330T163908Z
LAST-MODIFIED:20260413T142833Z
UID:11788-1785488400-1785520800@eastlincolnalliance.com
SUMMARY:Brat Stand
DESCRIPTION:The youth will be running the brat stand at Dick’s Market on July 31st & August 1st. Plan to stop by to support them as they raise money for fun youth events!
URL:https://eastlincolnalliance.com/event/brat-stand-3/
LOCATION:Dick’s Market\, 1050 River Place Mall\, Amery\, WI\, 54001\, United States
END:VEVENT
BEGIN:VEVENT
DTSTART;TZID=UTC:20260801T093000
DTEND;TZID=UTC:20260801T170000
DTSTAMP:20260423T201703
CREATED:20260330T163936Z
LAST-MODIFIED:20260413T142946Z
UID:11790-1785576600-1785603600@eastlincolnalliance.com
SUMMARY:Brat Stand
DESCRIPTION:The youth will be running the brat stand at Dick’s Market on July 31st & August 1st. Plan to stop by to support them as they raise money for fun youth events!
URL:https://eastlincolnalliance.com/event/brat-stand-4/
LOCATION:Dick’s Market\, 1050 River Place Mall\, Amery\, WI\, 54001\, United States
END:VEVENT
BEGIN:VEVENT
DTSTART;TZID=UTC:20260821T180000
DTEND;TZID=UTC:20260821T200000
DTSTAMP:20260423T201703
CREATED:20260108T212037Z
LAST-MODIFIED:20260108T212037Z
UID:11438-1787335200-1787342400@eastlincolnalliance.com
SUMMARY:Grace Marriage
DESCRIPTION:
URL:https://eastlincolnalliance.com/event/grace-marriage-19/
LOCATION:East Lincoln Alliance Church\, 735 70th Avenue\, Amery\, WI\, 54001\, United States
END:VEVENT
BEGIN:VEVENT
DTSTART;TZID=UTC:20260829T100000
DTEND;TZID=UTC:20260829T120000
DTSTAMP:20260423T201703
CREATED:20260119T183725Z
LAST-MODIFIED:20260119T183725Z
UID:11471-1787997600-1788004800@eastlincolnalliance.com
SUMMARY:The Page Turners Meeting
DESCRIPTION:The Page Turners Reading Group is a group of women that share in their love for books and reading.  The group is always taking new members\, and women can join if a book looks interesting. Contact Jolene Wester if you have questions or would like to join the group 715-553-0002 or bookwomanjw@gmail.com. \nBook List \n\nAugust – The Pastor’s Wife by Sabina Wurmbrand\nSeptember – Tactics: A Game Plan for Discussing Your Christian Convictions by       Gregory Koukl\nOctober – Hudson Taylor & Maria: A Match Made in Heaven by John Charles Pollock\nNovember – A Walk in the Woods: Rediscovering America on the Appalachian Trail by Bill Bryson\nDecember – Pontius Pilate by Paul Maier\n\nPage Turners will meet the last Saturday\, of every month at ELAC at 10 am to discuss the book of the month.
URL:https://eastlincolnalliance.com/event/the-page-turners-meeting-19/
LOCATION:East Lincoln Alliance Church\, 735 70th Avenue\, Amery\, WI\, 54001\, United States
END:VEVENT
BEGIN:VEVENT
DTSTART;TZID=UTC:20260830T113000
DTEND;TZID=UTC:20260830T140000
DTSTAMP:20260423T201703
CREATED:20260108T211507Z
LAST-MODIFIED:20260108T211507Z
UID:11414-1788089400-1788098400@eastlincolnalliance.com
SUMMARY:Single Women's Fellowship
DESCRIPTION:All single women are invited to a time of fellowship after church. We will enjoy lunch together and play games at Wendy Bachman’s.
URL:https://eastlincolnalliance.com/event/single-womens-fellowship-33/
LOCATION:WI
END:VEVENT
BEGIN:VEVENT
DTSTART;TZID=UTC:20260918T180000
DTEND;TZID=UTC:20260918T200000
DTSTAMP:20260423T201703
CREATED:20260108T212102Z
LAST-MODIFIED:20260108T212102Z
UID:11440-1789754400-1789761600@eastlincolnalliance.com
SUMMARY:Grace Marriage
DESCRIPTION:
URL:https://eastlincolnalliance.com/event/grace-marriage-20/
LOCATION:East Lincoln Alliance Church\, 735 70th Avenue\, Amery\, WI\, 54001\, United States
END:VEVENT
BEGIN:VEVENT
DTSTART;TZID=UTC:20260926T100000
DTEND;TZID=UTC:20260926T120000
DTSTAMP:20260423T201703
CREATED:20260119T183753Z
LAST-MODIFIED:20260119T183753Z
UID:11473-1790416800-1790424000@eastlincolnalliance.com
SUMMARY:The Page Turners Meeting
DESCRIPTION:The Page Turners Reading Group is a group of women that share in their love for books and reading.  The group is always taking new members\, and women can join if a book looks interesting. Contact Jolene Wester if you have questions or would like to join the group 715-553-0002 or bookwomanjw@gmail.com. \nBook List \n\nSeptember – Tactics: A Game Plan for Discussing Your Christian Convictions by       Gregory Koukl\nOctober – Hudson Taylor & Maria: A Match Made in Heaven by John Charles Pollock\nNovember – A Walk in the Woods: Rediscovering America on the Appalachian Trail by Bill Bryson\nDecember – Pontius Pilate by Paul Maier\n\nPage Turners will meet the last Saturday\, of every month at ELAC at 10 am to discuss the book of the month.
URL:https://eastlincolnalliance.com/event/the-page-turners-meeting-20/
LOCATION:East Lincoln Alliance Church\, 735 70th Avenue\, Amery\, WI\, 54001\, United States
END:VEVENT
BEGIN:VEVENT
DTSTART;TZID=UTC:20260927T113000
DTEND;TZID=UTC:20260927T140000
DTSTAMP:20260423T201703
CREATED:20260108T211531Z
LAST-MODIFIED:20260108T211531Z
UID:11416-1790508600-1790517600@eastlincolnalliance.com
SUMMARY:Single Women's Fellowship
DESCRIPTION:All single women are invited to a time of fellowship after church. We will enjoy lunch together and play games at Wendy Bachman’s.
URL:https://eastlincolnalliance.com/event/single-womens-fellowship-34/
LOCATION:WI
END:VEVENT
BEGIN:VEVENT
DTSTART;TZID=UTC:20261016T180000
DTEND;TZID=UTC:20261016T200000
DTSTAMP:20260423T201703
CREATED:20260108T212139Z
LAST-MODIFIED:20260108T212139Z
UID:11442-1792173600-1792180800@eastlincolnalliance.com
SUMMARY:Grace Marriage
DESCRIPTION:
URL:https://eastlincolnalliance.com/event/grace-marriage-21/
LOCATION:East Lincoln Alliance Church\, 735 70th Avenue\, Amery\, WI\, 54001\, United States
END:VEVENT
BEGIN:VEVENT
DTSTART;TZID=UTC:20261025T113000
DTEND;TZID=UTC:20261025T140000
DTSTAMP:20260423T201703
CREATED:20260108T211610Z
LAST-MODIFIED:20260108T211610Z
UID:11418-1792927800-1792936800@eastlincolnalliance.com
SUMMARY:Single Women's Fellowship
DESCRIPTION:All single women are invited to a time of fellowship after church. We will enjoy lunch together and play games at Wendy Bachman’s.
URL:https://eastlincolnalliance.com/event/single-womens-fellowship-35/
LOCATION:WI
END:VEVENT
BEGIN:VEVENT
DTSTART;TZID=UTC:20261031T100000
DTEND;TZID=UTC:20261031T120000
DTSTAMP:20260423T201703
CREATED:20260119T183829Z
LAST-MODIFIED:20260119T183829Z
UID:11475-1793440800-1793448000@eastlincolnalliance.com
SUMMARY:The Page Turners Meeting
DESCRIPTION:The Page Turners Reading Group is a group of women that share in their love for books and reading.  The group is always taking new members\, and women can join if a book looks interesting. Contact Jolene Wester if you have questions or would like to join the group 715-553-0002 or bookwomanjw@gmail.com. \nBook List \n\nOctober – Hudson Taylor & Maria: A Match Made in Heaven by John Charles Pollock\nNovember – A Walk in the Woods: Rediscovering America on the Appalachian Trail by Bill Bryson\nDecember – Pontius Pilate by Paul Maier\n\nPage Turners will meet the last Saturday\, of every month at ELAC at 10 am to discuss the book of the month.
URL:https://eastlincolnalliance.com/event/the-page-turners-meeting-21/
LOCATION:East Lincoln Alliance Church\, 735 70th Avenue\, Amery\, WI\, 54001\, United States
END:VEVENT
BEGIN:VEVENT
DTSTART;TZID=UTC:20261120T180000
DTEND;TZID=UTC:20261120T200000
DTSTAMP:20260423T201703
CREATED:20260108T212201Z
LAST-MODIFIED:20260108T212201Z
UID:11444-1795197600-1795204800@eastlincolnalliance.com
SUMMARY:Grace Marriage
DESCRIPTION:
URL:https://eastlincolnalliance.com/event/grace-marriage-22/
LOCATION:East Lincoln Alliance Church\, 735 70th Avenue\, Amery\, WI\, 54001\, United States
END:VEVENT
END:VCALENDAR