BEGIN:VCALENDAR
VERSION:2.0
PRODID:-//East Lincoln Alliance Church - ECPv6.15.20//NONSGML v1.0//EN
CALSCALE:GREGORIAN
METHOD:PUBLISH
X-WR-CALNAME:East Lincoln Alliance Church
X-ORIGINAL-URL:https://eastlincolnalliance.com
X-WR-CALDESC:Events for East Lincoln Alliance Church
REFRESH-INTERVAL;VALUE=DURATION:PT1H
X-Robots-Tag:noindex
X-PUBLISHED-TTL:PT1H
BEGIN:VTIMEZONE
TZID:UTC
BEGIN:STANDARD
TZOFFSETFROM:+0000
TZOFFSETTO:+0000
TZNAME:UTC
DTSTART:20230101T000000
END:STANDARD
END:VTIMEZONE
BEGIN:VEVENT
DTSTART;TZID=UTC:20240407T073000
DTEND;TZID=UTC:20240407T083000
DTSTAMP:20260425T121038
CREATED:20240122T153147Z
LAST-MODIFIED:20240122T153147Z
UID:9033-1712475000-1712478600@eastlincolnalliance.com
SUMMARY:Men's Breakfast
DESCRIPTION:1st Sunday of every month.  All men/boys are invited!
URL:https://eastlincolnalliance.com/event/mens-breakfast-6/
LOCATION:East Lincoln Alliance Church\, 735 70th Avenue\, Amery\, WI\, 54001\, United States
END:VEVENT
BEGIN:VEVENT
DTSTART;TZID=UTC:20240407T093000
DTEND;TZID=UTC:20240407T110000
DTSTAMP:20260425T121038
CREATED:20240227T164135Z
LAST-MODIFIED:20240227T164135Z
UID:9092-1712482200-1712487600@eastlincolnalliance.com
SUMMARY:Worship Service
DESCRIPTION:We welcome you to our regular worship service every Sunday @ 9:30am.\n\n\n\nWe offer the following services for kids during the Worship Service: \nEarly Childhood care for 1-3 year olds in the East Wing \n4 years old-Kindergarten in the West Wing (Discovery Land) \n1st-5th Grade in the East Wing (Discovery Land)
URL:https://eastlincolnalliance.com/event/worship-service-95/
LOCATION:East Lincoln Alliance Church\, 735 70th Avenue\, Amery\, WI\, 54001\, United States
END:VEVENT
BEGIN:VEVENT
DTSTART;TZID=UTC:20240407T110000
DTEND;TZID=UTC:20240407T123000
DTSTAMP:20260425T121038
CREATED:20240401T150450Z
LAST-MODIFIED:20240401T150450Z
UID:9180-1712487600-1712493000@eastlincolnalliance.com
SUMMARY:Membership Class
DESCRIPTION:Membership classes are set for April 7th and 14th after the service. If you didn’t get a chance to sign up and would like to join the classes to learn more about East Lincoln\, contact Pastor Eric.
URL:https://eastlincolnalliance.com/event/membership-class-5/
LOCATION:East Lincoln Alliance Church\, 735 70th Avenue\, Amery\, WI\, 54001\, United States
END:VEVENT
BEGIN:VEVENT
DTSTART;TZID=UTC:20240407T111500
DTEND;TZID=UTC:20240407T123000
DTSTAMP:20260425T121038
CREATED:20240116T205819Z
LAST-MODIFIED:20240116T205819Z
UID:9012-1712488500-1712493000@eastlincolnalliance.com
SUMMARY:"How To..." Sunday Study
DESCRIPTION:Join Perry Anderson\, Barry Iverson and esteemed colleagues on Sundays 11:15am-12:30pm in the East Wing Youth/Discovery Land room. The study will focus on different “how to” topics. This class will be in a discussion format and is intended for ages 6th grade to adult. Bring a sack lunch if you want to eat during study. \n\n\n\nEach week one topic will be discussed and likely plan is to discuss that topic after study of scripture\, commentaries\, videos\, etc. in more depth the following week or weeks depending on need.  Each student is invited to study\, explore\, ask questions of others regarding the topic to share the following week. \n\nUpcoming topics are: \nApr 7 Time management pt 2 \nApr 14 How to lead a Bible study pt 1 \nApr 21 possibly no class \nApr 28 How to lead a Bible study pt 2
URL:https://eastlincolnalliance.com/event/how-to-sunday-study-21/
LOCATION:East Lincoln Alliance Church\, 735 70th Avenue\, Amery\, WI\, 54001\, United States
END:VEVENT
BEGIN:VEVENT
DTSTART;TZID=UTC:20240409T083000
DTEND;TZID=UTC:20240409T143000
DTSTAMP:20260425T121038
CREATED:20230821T170124Z
LAST-MODIFIED:20230821T170124Z
UID:8534-1712651400-1712673000@eastlincolnalliance.com
SUMMARY:Homeschool Co-op Classes
DESCRIPTION:
URL:https://eastlincolnalliance.com/event/homeschool-co-op-classes-24/
LOCATION:East Lincoln Alliance Church\, 735 70th Avenue\, Amery\, WI\, 54001\, United States
END:VEVENT
BEGIN:VEVENT
DTSTART;TZID=UTC:20240409T183000
DTEND;TZID=UTC:20240409T193000
DTSTAMP:20260425T121038
CREATED:20240408T142802Z
LAST-MODIFIED:20240408T142802Z
UID:9202-1712687400-1712691000@eastlincolnalliance.com
SUMMARY:Prayer Gathering
DESCRIPTION:All are invited to join as we pray for each other\, our community and world.  Every Tuesday\, 6:30pm
URL:https://eastlincolnalliance.com/event/prayer-gathering-20/
LOCATION:East Lincoln Alliance Church\, 735 70th Avenue\, Amery\, WI\, 54001\, United States
END:VEVENT
BEGIN:VEVENT
DTSTART;TZID=UTC:20240410T151500
DTEND;TZID=UTC:20240410T163000
DTSTAMP:20260425T121038
CREATED:20231208T175435Z
LAST-MODIFIED:20231208T175435Z
UID:8909-1712762100-1712766600@eastlincolnalliance.com
SUMMARY:After School Good News Club
DESCRIPTION:After School Good News Club will be at Lien Elementary School (Amery) every Wednesday right after school until 4:30pm.  This is open to students Kindergarten to 5th grade.  Students attending the Intermediate School should ride the transfer bus to the Elementary School. Parent permission slips must be filled out.  Forms can be found here: Parent Permission Form \n*Note – if Amery Schools are closed on a Wednesday\, there will be no GNC
URL:https://eastlincolnalliance.com/event/after-school-good-news-club-56/
LOCATION:Lien Elementary School\, 469 Minneapolis Ave S\, Amery\, WI\, 54001\, United States
END:VEVENT
BEGIN:VEVENT
DTSTART;TZID=UTC:20240410T180000
DTEND;TZID=UTC:20240410T200000
DTSTAMP:20260425T121038
CREATED:20231208T174429Z
LAST-MODIFIED:20231208T174429Z
UID:8877-1712772000-1712779200@eastlincolnalliance.com
SUMMARY:Recharge/Youth Group
DESCRIPTION:All students 6-12th grade are invited to attend.  Make sure to invite your friends!
URL:https://eastlincolnalliance.com/event/recharge-youth-group-61/
LOCATION:East Lincoln Alliance Church\, 735 70th Avenue\, Amery\, WI\, 54001\, United States
END:VEVENT
BEGIN:VEVENT
DTSTART;TZID=UTC:20240410T180000
DTEND;TZID=UTC:20240410T200000
DTSTAMP:20260425T121038
CREATED:20231229T184552Z
LAST-MODIFIED:20231229T184552Z
UID:8952-1712772000-1712779200@eastlincolnalliance.com
SUMMARY:Son Seekers
DESCRIPTION:Son Seekers is a program for K-5th graders. We will be learning the 40 names of God. Programming will be from 6-8pm every Wednesday at East Lincoln Alliance Church. We will have games\, stories\, songs\, crafts.
URL:https://eastlincolnalliance.com/event/son-seekers-14/
LOCATION:East Lincoln Alliance Church\, 735 70th Avenue\, Amery\, WI\, 54001\, United States
END:VEVENT
BEGIN:VEVENT
DTSTART;TZID=UTC:20240412T170000
DTEND;TZID=UTC:20240413T190000
DTSTAMP:20260425T121038
CREATED:20231204T143225Z
LAST-MODIFIED:20231204T143225Z
UID:8842-1712941200-1713034800@eastlincolnalliance.com
SUMMARY:Reserved for 50th Anniversary
DESCRIPTION:50th Anniversary Party – Pastor Randy & Mary Schussman
URL:https://eastlincolnalliance.com/event/reserved-for-50th-anniversary/
LOCATION:East Lincoln Alliance Church\, 735 70th Avenue\, Amery\, WI\, 54001\, United States
END:VEVENT
BEGIN:VEVENT
DTSTART;TZID=UTC:20240414T093000
DTEND;TZID=UTC:20240414T110000
DTSTAMP:20260425T121038
CREATED:20240227T164458Z
LAST-MODIFIED:20240227T164458Z
UID:9094-1713087000-1713092400@eastlincolnalliance.com
SUMMARY:Worship Service
DESCRIPTION:We welcome you to our regular worship service every Sunday @ 9:30am.\n\n\n\nWe offer the following services for kids during the Worship Service: \nEarly Childhood care for 1-3 year olds in the East Wing \n4 years old-Kindergarten in the West Wing (Discovery Land) \n1st-5th Grade in the East Wing (Discovery Land)
URL:https://eastlincolnalliance.com/event/worship-service-96/
LOCATION:East Lincoln Alliance Church\, 735 70th Avenue\, Amery\, WI\, 54001\, United States
END:VEVENT
BEGIN:VEVENT
DTSTART;TZID=UTC:20240414T110000
DTEND;TZID=UTC:20240414T123000
DTSTAMP:20260425T121038
CREATED:20240401T150512Z
LAST-MODIFIED:20240401T150512Z
UID:9182-1713092400-1713097800@eastlincolnalliance.com
SUMMARY:Membership Class
DESCRIPTION:Membership classes are set for April 7th and 14th after the service. If you didn’t get a chance to sign up and would like to join the classes to learn more about East Lincoln\, contact Pastor Eric.
URL:https://eastlincolnalliance.com/event/membership-class-6/
LOCATION:East Lincoln Alliance Church\, 735 70th Avenue\, Amery\, WI\, 54001\, United States
END:VEVENT
BEGIN:VEVENT
DTSTART;TZID=UTC:20240414T111500
DTEND;TZID=UTC:20240414T123000
DTSTAMP:20260425T121038
CREATED:20240116T205952Z
LAST-MODIFIED:20240408T142309Z
UID:9014-1713093300-1713097800@eastlincolnalliance.com
SUMMARY:"How To..." Sunday Study
DESCRIPTION:Join Perry Anderson\, Barry Iverson and esteemed colleagues on Sundays 11:15am-12:30pm in the East Wing Youth/Discovery Land room. The study will focus on different “how to” topics. This class will be in a discussion format and is intended for ages 6th grade to adult. Bring a sack lunch if you want to eat during study. \n\n\n\nEach week one topic will be discussed and likely plan is to discuss that topic after study of scripture\, commentaries\, videos\, etc. in more depth the following week or weeks depending on need.  Each student is invited to study\, explore\, ask questions of others regarding the topic to share the following week. \n\nUpcoming topics are: \nApr 14 Watchfulness Pt III
URL:https://eastlincolnalliance.com/event/how-to-sunday-study-22/
LOCATION:East Lincoln Alliance Church\, 735 70th Avenue\, Amery\, WI\, 54001\, United States
END:VEVENT
BEGIN:VEVENT
DTSTART;TZID=UTC:20240416T083000
DTEND;TZID=UTC:20240416T143000
DTSTAMP:20260425T121038
CREATED:20230821T170143Z
LAST-MODIFIED:20230821T170143Z
UID:8536-1713256200-1713277800@eastlincolnalliance.com
SUMMARY:Homeschool Co-op Classes
DESCRIPTION:
URL:https://eastlincolnalliance.com/event/homeschool-co-op-classes-25/
LOCATION:East Lincoln Alliance Church\, 735 70th Avenue\, Amery\, WI\, 54001\, United States
END:VEVENT
BEGIN:VEVENT
DTSTART;TZID=UTC:20240416T183000
DTEND;TZID=UTC:20240416T193000
DTSTAMP:20260425T121038
CREATED:20240227T165303Z
LAST-MODIFIED:20240227T165303Z
UID:9109-1713292200-1713295800@eastlincolnalliance.com
SUMMARY:Prayer Gathering
DESCRIPTION:All are invited to join as we pray for each other\, our community and world.  Every Tuesday\, 6:30pm
URL:https://eastlincolnalliance.com/event/prayer-gathering-19/
LOCATION:East Lincoln Alliance Church\, 735 70th Avenue\, Amery\, WI\, 54001\, United States
END:VEVENT
BEGIN:VEVENT
DTSTART;TZID=UTC:20240417T151500
DTEND;TZID=UTC:20240417T163000
DTSTAMP:20260425T121038
CREATED:20231208T175527Z
LAST-MODIFIED:20231208T175527Z
UID:8911-1713366900-1713371400@eastlincolnalliance.com
SUMMARY:After School Good News Club
DESCRIPTION:After School Good News Club will be at Lien Elementary School (Amery) every Wednesday right after school until 4:30pm.  This is open to students Kindergarten to 5th grade.  Students attending the Intermediate School should ride the transfer bus to the Elementary School. Parent permission slips must be filled out.  Forms can be found here: Parent Permission Form \n*Note – if Amery Schools are closed on a Wednesday\, there will be no GNC
URL:https://eastlincolnalliance.com/event/after-school-good-news-club-57/
LOCATION:Lien Elementary School\, 469 Minneapolis Ave S\, Amery\, WI\, 54001\, United States
END:VEVENT
BEGIN:VEVENT
DTSTART;TZID=UTC:20240417T180000
DTEND;TZID=UTC:20240417T200000
DTSTAMP:20260425T121038
CREATED:20231208T174450Z
LAST-MODIFIED:20231208T174450Z
UID:8879-1713376800-1713384000@eastlincolnalliance.com
SUMMARY:Recharge/Youth Group
DESCRIPTION:All students 6-12th grade are invited to attend.  Make sure to invite your friends!
URL:https://eastlincolnalliance.com/event/recharge-youth-group-62/
LOCATION:East Lincoln Alliance Church\, 735 70th Avenue\, Amery\, WI\, 54001\, United States
END:VEVENT
BEGIN:VEVENT
DTSTART;TZID=UTC:20240417T180000
DTEND;TZID=UTC:20240417T200000
DTSTAMP:20260425T121038
CREATED:20231229T184613Z
LAST-MODIFIED:20231229T184613Z
UID:8954-1713376800-1713384000@eastlincolnalliance.com
SUMMARY:Son Seekers
DESCRIPTION:Son Seekers is a program for K-5th graders. We will be learning the 40 names of God. Programming will be from 6-8pm every Wednesday at East Lincoln Alliance Church. We will have games\, stories\, songs\, crafts.
URL:https://eastlincolnalliance.com/event/son-seekers-15/
LOCATION:East Lincoln Alliance Church\, 735 70th Avenue\, Amery\, WI\, 54001\, United States
END:VEVENT
BEGIN:VEVENT
DTSTART;TZID=UTC:20240421T093000
DTEND;TZID=UTC:20240421T110000
DTSTAMP:20260425T121038
CREATED:20240408T142431Z
LAST-MODIFIED:20240408T142504Z
UID:9198-1713691800-1713697200@eastlincolnalliance.com
SUMMARY:Worship Service
DESCRIPTION:We welcome you to our regular worship service every Sunday @ 9:30am.\n\n\n\nWe offer the following services for kids during the Worship Service: \nEarly Childhood care for 1-3 year olds in the East Wing \n4 years old-Kindergarten in the West Wing (Discovery Land) \n1st-5th Grade in the East Wing (Discovery Land)
URL:https://eastlincolnalliance.com/event/worship-service-97/
LOCATION:East Lincoln Alliance Church\, 735 70th Avenue\, Amery\, WI\, 54001\, United States
END:VEVENT
BEGIN:VEVENT
DTSTART;TZID=UTC:20240423T183000
DTEND;TZID=UTC:20240423T193000
DTSTAMP:20260425T121038
CREATED:20240408T142836Z
LAST-MODIFIED:20240408T142836Z
UID:9204-1713897000-1713900600@eastlincolnalliance.com
SUMMARY:Prayer Gathering
DESCRIPTION:All are invited to join as we pray for each other\, our community and world.  Every Tuesday\, 6:30pm
URL:https://eastlincolnalliance.com/event/prayer-gathering-21/
LOCATION:East Lincoln Alliance Church\, 735 70th Avenue\, Amery\, WI\, 54001\, United States
END:VEVENT
BEGIN:VEVENT
DTSTART;TZID=UTC:20240424T151500
DTEND;TZID=UTC:20240424T163000
DTSTAMP:20260425T121038
CREATED:20231208T175555Z
LAST-MODIFIED:20231208T175555Z
UID:8913-1713971700-1713976200@eastlincolnalliance.com
SUMMARY:After School Good News Club
DESCRIPTION:After School Good News Club will be at Lien Elementary School (Amery) every Wednesday right after school until 4:30pm.  This is open to students Kindergarten to 5th grade.  Students attending the Intermediate School should ride the transfer bus to the Elementary School. Parent permission slips must be filled out.  Forms can be found here: Parent Permission Form \n*Note – if Amery Schools are closed on a Wednesday\, there will be no GNC
URL:https://eastlincolnalliance.com/event/after-school-good-news-club-58/
LOCATION:Lien Elementary School\, 469 Minneapolis Ave S\, Amery\, WI\, 54001\, United States
END:VEVENT
BEGIN:VEVENT
DTSTART;TZID=UTC:20240424T180000
DTEND;TZID=UTC:20240424T200000
DTSTAMP:20260425T121038
CREATED:20231208T174516Z
LAST-MODIFIED:20231208T174516Z
UID:8881-1713981600-1713988800@eastlincolnalliance.com
SUMMARY:Recharge/Youth Group
DESCRIPTION:All students 6-12th grade are invited to attend.  Make sure to invite your friends!
URL:https://eastlincolnalliance.com/event/recharge-youth-group-63/
LOCATION:East Lincoln Alliance Church\, 735 70th Avenue\, Amery\, WI\, 54001\, United States
END:VEVENT
BEGIN:VEVENT
DTSTART;TZID=UTC:20240424T180000
DTEND;TZID=UTC:20240424T200000
DTSTAMP:20260425T121038
CREATED:20231229T184703Z
LAST-MODIFIED:20231229T184703Z
UID:8956-1713981600-1713988800@eastlincolnalliance.com
SUMMARY:Son Seekers
DESCRIPTION:Son Seekers is a program for K-5th graders. We will be learning the 40 names of God. Programming will be from 6-8pm every Wednesday at East Lincoln Alliance Church. We will have games\, stories\, songs\, crafts.
URL:https://eastlincolnalliance.com/event/son-seekers-16/
LOCATION:East Lincoln Alliance Church\, 735 70th Avenue\, Amery\, WI\, 54001\, United States
END:VEVENT
BEGIN:VEVENT
DTSTART;TZID=UTC:20240428T093000
DTEND;TZID=UTC:20240428T110000
DTSTAMP:20260425T121038
CREATED:20240408T142525Z
LAST-MODIFIED:20240408T142525Z
UID:9200-1714296600-1714302000@eastlincolnalliance.com
SUMMARY:Worship Service
DESCRIPTION:We welcome you to our regular worship service every Sunday @ 9:30am.\n\n\n\nWe offer the following services for kids during the Worship Service: \nEarly Childhood care for 1-3 year olds in the East Wing \n4 years old-Kindergarten in the West Wing (Discovery Land) \n1st-5th Grade in the East Wing (Discovery Land)
URL:https://eastlincolnalliance.com/event/worship-service-98/
LOCATION:East Lincoln Alliance Church\, 735 70th Avenue\, Amery\, WI\, 54001\, United States
END:VEVENT
BEGIN:VEVENT
DTSTART;TZID=UTC:20240428T110000
DTEND;TZID=UTC:20240428T113000
DTSTAMP:20260425T121038
CREATED:20240305T201326Z
LAST-MODIFIED:20240305T201326Z
UID:9141-1714302000-1714303800@eastlincolnalliance.com
SUMMARY:Hymn Sing
DESCRIPTION:Join us for a Hymn Sing on Sunday\, April 28th\, 11-11:30am.
URL:https://eastlincolnalliance.com/event/hymn-sing-16/
LOCATION:East Lincoln Alliance Church\, 735 70th Avenue\, Amery\, WI\, 54001\, United States
END:VEVENT
BEGIN:VEVENT
DTSTART;TZID=UTC:20240428T111500
DTEND;TZID=UTC:20240428T123000
DTSTAMP:20260425T121038
CREATED:20240116T210306Z
LAST-MODIFIED:20240416T180622Z
UID:9016-1714302900-1714307400@eastlincolnalliance.com
SUMMARY:"How To..." Sunday Study
DESCRIPTION:Join Perry Anderson\, Barry Iverson and esteemed colleagues on Sundays 11:15am-12:30pm in the East Wing Youth/Discovery Land room. The study will focus on different “how to” topics. This class will be in a discussion format and is intended for ages 6th grade to adult. Bring a sack lunch if you want to eat during study. \n\n\n\nEach week one topic will be discussed and likely plan is to discuss that topic after study of scripture\, commentaries\, videos\, etc. in more depth the following week or weeks depending on need.  Each student is invited to study\, explore\, ask questions of others regarding the topic to share the following week. \n\nUpcoming topics are: \nApr 28 Power of a Parent’s Blessing
URL:https://eastlincolnalliance.com/event/how-to-sunday-study-23/
LOCATION:East Lincoln Alliance Church\, 735 70th Avenue\, Amery\, WI\, 54001\, United States
END:VEVENT
BEGIN:VEVENT
DTSTART;TZID=UTC:20240428T113000
DTEND;TZID=UTC:20240428T123000
DTSTAMP:20260425T121038
CREATED:20240305T200718Z
LAST-MODIFIED:20240305T200718Z
UID:9139-1714303800-1714307400@eastlincolnalliance.com
SUMMARY:Single Women's Fellowship
DESCRIPTION:All single women are invited to join on Sunday\, April 28th at 11:30am at ELAC for a potluck and time of fellowship.
URL:https://eastlincolnalliance.com/event/single-womens-fellowship-15/
LOCATION:East Lincoln Alliance Church\, 735 70th Avenue\, Amery\, WI\, 54001\, United States
END:VEVENT
BEGIN:VEVENT
DTSTART;TZID=UTC:20240428T150000
DTEND;TZID=UTC:20240428T190000
DTSTAMP:20260425T121038
CREATED:20240313T141135Z
LAST-MODIFIED:20240313T141135Z
UID:9148-1714316400-1714330800@eastlincolnalliance.com
SUMMARY:Reserved for Sparrows Event
DESCRIPTION:Contact: Laura Deems
URL:https://eastlincolnalliance.com/event/reserved-for-sparrows-event/
LOCATION:East Lincoln Alliance Church\, 735 70th Avenue\, Amery\, WI\, 54001\, United States
END:VEVENT
BEGIN:VEVENT
DTSTART;TZID=UTC:20240430T183000
DTEND;TZID=UTC:20240430T193000
DTSTAMP:20260425T121038
CREATED:20240408T142900Z
LAST-MODIFIED:20240408T142900Z
UID:9206-1714501800-1714505400@eastlincolnalliance.com
SUMMARY:Prayer Gathering
DESCRIPTION:All are invited to join as we pray for each other\, our community and world.  Every Tuesday\, 6:30pm
URL:https://eastlincolnalliance.com/event/prayer-gathering-22/
LOCATION:East Lincoln Alliance Church\, 735 70th Avenue\, Amery\, WI\, 54001\, United States
END:VEVENT
BEGIN:VEVENT
DTSTART;TZID=UTC:20240501T170000
DTEND;TZID=UTC:20240501T190000
DTSTAMP:20260425T121038
CREATED:20231208T174548Z
LAST-MODIFIED:20240416T180744Z
UID:8883-1714582800-1714590000@eastlincolnalliance.com
SUMMARY:Recharge/Youth Group
DESCRIPTION:Mexican Fiesta Night!  All are invited to share a meal together!  Free will donation\, proceeds will go to the youth.
URL:https://eastlincolnalliance.com/event/recharge-youth-group-64/
LOCATION:East Lincoln Alliance Church\, 735 70th Avenue\, Amery\, WI\, 54001\, United States
END:VEVENT
END:VCALENDAR