BEGIN:VCALENDAR
VERSION:2.0
PRODID:-//East Lincoln Alliance Church - ECPv6.15.20//NONSGML v1.0//EN
CALSCALE:GREGORIAN
METHOD:PUBLISH
X-WR-CALNAME:East Lincoln Alliance Church
X-ORIGINAL-URL:https://eastlincolnalliance.com
X-WR-CALDESC:Events for East Lincoln Alliance Church
REFRESH-INTERVAL;VALUE=DURATION:PT1H
X-Robots-Tag:noindex
X-PUBLISHED-TTL:PT1H
BEGIN:VTIMEZONE
TZID:UTC
BEGIN:STANDARD
TZOFFSETFROM:+0000
TZOFFSETTO:+0000
TZNAME:UTC
DTSTART:20250101T000000
END:STANDARD
END:VTIMEZONE
BEGIN:VEVENT
DTSTART;TZID=UTC:20260607T100000
DTEND;TZID=UTC:20260607T111500
DTSTAMP:20260424T002009
CREATED:20260304T163614Z
LAST-MODIFIED:20260304T163614Z
UID:11632-1780826400-1780830900@eastlincolnalliance.com
SUMMARY:Worship Service
DESCRIPTION:We offer the following services for kids during the Worship Service: \nEarly Childhood care for 1-3 year olds in the East Wing \n4 years old-Kindergarten in the West Wing (Discovery Land) \n1st-3rd Grade in the East Wing (Discovery Land)
URL:https://eastlincolnalliance.com/event/worship-service-204/
LOCATION:East Lincoln Alliance Church\, 735 70th Avenue\, Amery\, WI\, 54001\, United States
END:VEVENT
BEGIN:VEVENT
DTSTART;TZID=UTC:20260607T084500
DTEND;TZID=UTC:20260607T094500
DTSTAMP:20260424T002009
CREATED:20260304T162832Z
LAST-MODIFIED:20260304T162832Z
UID:11606-1780821900-1780825500@eastlincolnalliance.com
SUMMARY:Discipleship Hour
DESCRIPTION:Join us for Discipleship Hour from 8:45-9:45am.  All 6th grade and up are invited.
URL:https://eastlincolnalliance.com/event/discipleship-hour-108/
LOCATION:East Lincoln Alliance Church\, 735 70th Avenue\, Amery\, WI\, 54001\, United States
END:VEVENT
BEGIN:VEVENT
DTSTART;TZID=UTC:20260606T093000
DTEND;TZID=UTC:20260606T170000
DTSTAMP:20260424T002009
CREATED:20260330T163828Z
LAST-MODIFIED:20260330T163828Z
UID:11786-1780738200-1780765200@eastlincolnalliance.com
SUMMARY:Brat Stand
DESCRIPTION:The youth will be running the brat stand at Dick’s Market on June 5th & 6th. Plan to stop by to support them as they raise money for fun youth events!
URL:https://eastlincolnalliance.com/event/brat-stand-2/
LOCATION:Dick’s Market\, 1050 River Place Mall\, Amery\, WI\, 54001\, United States
END:VEVENT
BEGIN:VEVENT
DTSTART;TZID=UTC:20260605T093000
DTEND;TZID=UTC:20260605T180000
DTSTAMP:20260424T002009
CREATED:20260330T163733Z
LAST-MODIFIED:20260330T163733Z
UID:11784-1780651800-1780682400@eastlincolnalliance.com
SUMMARY:Brat Stand
DESCRIPTION:The youth will be running the brat stand at Dick’s Market on June 5th & 6th. Plan to stop by to support them as they raise money for fun youth events!
URL:https://eastlincolnalliance.com/event/brat-stand/
LOCATION:Dick’s Market\, 1050 River Place Mall\, Amery\, WI\, 54001\, United States
END:VEVENT
BEGIN:VEVENT
DTSTART;TZID=UTC:20260602T183000
DTEND;TZID=UTC:20260602T193000
DTSTAMP:20260424T002009
CREATED:20260304T164339Z
LAST-MODIFIED:20260304T164339Z
UID:11656-1780425000-1780428600@eastlincolnalliance.com
SUMMARY:Prayer Gathering
DESCRIPTION:All are invited to join as we pray for each other\, our community and world.  Every Tuesday\, 6:30pm
URL:https://eastlincolnalliance.com/event/prayer-gathering-110/
LOCATION:East Lincoln Alliance Church\, 735 70th Avenue\, Amery\, WI\, 54001\, United States
END:VEVENT
BEGIN:VEVENT
DTSTART;TZID=UTC:20260531T113000
DTEND;TZID=UTC:20260531T140000
DTSTAMP:20260424T002009
CREATED:20260108T211337Z
LAST-MODIFIED:20260108T211337Z
UID:11408-1780227000-1780236000@eastlincolnalliance.com
SUMMARY:Single Women's Fellowship
DESCRIPTION:All single women are invited to a time of fellowship after church. We will enjoy lunch together and play games at Wendy Bachman’s.
URL:https://eastlincolnalliance.com/event/single-womens-fellowship-30/
LOCATION:WI
END:VEVENT
BEGIN:VEVENT
DTSTART;TZID=UTC:20260531T100000
DTEND;TZID=UTC:20260531T111500
DTSTAMP:20260424T002009
CREATED:20260304T163546Z
LAST-MODIFIED:20260304T163546Z
UID:11630-1780221600-1780226100@eastlincolnalliance.com
SUMMARY:Worship Service
DESCRIPTION:We offer the following services for kids during the Worship Service: \nEarly Childhood care for 1-3 year olds in the East Wing \n4 years old-Kindergarten in the West Wing (Discovery Land) \n1st-3rd Grade in the East Wing (Discovery Land)
URL:https://eastlincolnalliance.com/event/worship-service-203/
LOCATION:East Lincoln Alliance Church\, 735 70th Avenue\, Amery\, WI\, 54001\, United States
END:VEVENT
BEGIN:VEVENT
DTSTART;TZID=UTC:20260531T084500
DTEND;TZID=UTC:20260531T094500
DTSTAMP:20260424T002009
CREATED:20260304T162802Z
LAST-MODIFIED:20260304T162802Z
UID:11604-1780217100-1780220700@eastlincolnalliance.com
SUMMARY:Discipleship Hour
DESCRIPTION:Join us for Discipleship Hour from 8:45-9:45am.  All 6th grade and up are invited.
URL:https://eastlincolnalliance.com/event/discipleship-hour-107/
LOCATION:East Lincoln Alliance Church\, 735 70th Avenue\, Amery\, WI\, 54001\, United States
END:VEVENT
BEGIN:VEVENT
DTSTART;TZID=UTC:20260530T100000
DTEND;TZID=UTC:20260530T120000
DTSTAMP:20260424T002009
CREATED:20260119T183553Z
LAST-MODIFIED:20260119T183553Z
UID:11465-1780135200-1780142400@eastlincolnalliance.com
SUMMARY:The Page Turners Meeting
DESCRIPTION:The Page Turners Reading Group is a group of women that share in their love for books and reading.  The group is always taking new members\, and women can join if a book looks interesting. Contact Jolene Wester if you have questions or would like to join the group 715-553-0002 or bookwomanjw@gmail.com. \nBook List \n\nMay – Trusting God by Jerry Bridges\nJune – The Grapes of Wrath by John Steinbeck\nJuly – Waiting Isn’t a Waste: The Surprising Comfort of Trusting God in the Uncertainties of Life by Mark Vroegop\nAugust – The Pastor’s Wife by Sabina Wurmbrand\nSeptember – Tactics: A Game Plan for Discussing Your Christian Convictions by       Gregory Koukl\nOctober – Hudson Taylor & Maria: A Match Made in Heaven by John Charles Pollock\nNovember – A Walk in the Woods: Rediscovering America on the Appalachian Trail by Bill Bryson\nDecember – Pontius Pilate by Paul Maier\n\nPage Turners will meet the last Saturday\, of every month at ELAC at 10 am to discuss the book of the month.
URL:https://eastlincolnalliance.com/event/the-page-turners-meeting-16/
LOCATION:East Lincoln Alliance Church\, 735 70th Avenue\, Amery\, WI\, 54001\, United States
END:VEVENT
BEGIN:VEVENT
DTSTART;TZID=UTC:20260527T180000
DTEND;TZID=UTC:20260527T200000
DTSTAMP:20260424T002009
CREATED:20260309T140827Z
LAST-MODIFIED:20260309T140827Z
UID:11734-1779904800-1779912000@eastlincolnalliance.com
SUMMARY:Son Seekers
DESCRIPTION:Son Seekers is a program for K-5th graders.  Programming is 6-8pm every Wednesday at East Lincoln Alliance Church. We will have games\, stories\, songs\, crafts.
URL:https://eastlincolnalliance.com/event/son-seekers-85/
LOCATION:East Lincoln Alliance Church\, 735 70th Avenue\, Amery\, WI\, 54001\, United States
END:VEVENT
BEGIN:VEVENT
DTSTART;TZID=UTC:20260527T180000
DTEND;TZID=UTC:20260527T200000
DTSTAMP:20260424T002009
CREATED:20260309T140428Z
LAST-MODIFIED:20260309T140428Z
UID:11718-1779904800-1779912000@eastlincolnalliance.com
SUMMARY:Recharge
DESCRIPTION:All students 6-12th grade are invited to attend.  Make sure to invite your friends!
URL:https://eastlincolnalliance.com/event/recharge-145/
LOCATION:East Lincoln Alliance Church\, 735 70th Avenue\, Amery\, WI\, 54001\, United States
END:VEVENT
BEGIN:VEVENT
DTSTART;TZID=UTC:20260526T183000
DTEND;TZID=UTC:20260526T193000
DTSTAMP:20260424T002009
CREATED:20260304T164310Z
LAST-MODIFIED:20260304T164310Z
UID:11654-1779820200-1779823800@eastlincolnalliance.com
SUMMARY:Prayer Gathering
DESCRIPTION:All are invited to join as we pray for each other\, our community and world.  Every Tuesday\, 6:30pm
URL:https://eastlincolnalliance.com/event/prayer-gathering-109/
LOCATION:East Lincoln Alliance Church\, 735 70th Avenue\, Amery\, WI\, 54001\, United States
END:VEVENT
BEGIN:VEVENT
DTSTART;TZID=UTC:20260524T150000
DTEND;TZID=UTC:20260524T190000
DTSTAMP:20260424T002009
CREATED:20260304T161840Z
LAST-MODIFIED:20260304T161840Z
UID:11586-1779634800-1779649200@eastlincolnalliance.com
SUMMARY:Nour Saleh Graduation Party
DESCRIPTION:
URL:https://eastlincolnalliance.com/event/nour-saleh-graduation-party/
LOCATION:East Lincoln Alliance Church\, 735 70th Avenue\, Amery\, WI\, 54001\, United States
END:VEVENT
BEGIN:VEVENT
DTSTART;TZID=UTC:20260524T130000
DTEND;TZID=UTC:20260524T150000
DTSTAMP:20260424T002009
CREATED:20260304T161927Z
LAST-MODIFIED:20260304T161927Z
UID:11588-1779627600-1779634800@eastlincolnalliance.com
SUMMARY:Reserved
DESCRIPTION:set up for grad party
URL:https://eastlincolnalliance.com/event/reserved-2/
LOCATION:East Lincoln Alliance Church\, 735 70th Avenue\, Amery\, WI\, 54001\, United States
END:VEVENT
BEGIN:VEVENT
DTSTART;TZID=UTC:20260524T100000
DTEND;TZID=UTC:20260524T111500
DTSTAMP:20260424T002009
CREATED:20260304T163509Z
LAST-MODIFIED:20260304T163509Z
UID:11628-1779616800-1779621300@eastlincolnalliance.com
SUMMARY:Worship Service
DESCRIPTION:We offer the following services for kids during the Worship Service: \nEarly Childhood care for 1-3 year olds in the East Wing \n4 years old-Kindergarten in the West Wing (Discovery Land) \n1st-3rd Grade in the East Wing (Discovery Land)
URL:https://eastlincolnalliance.com/event/worship-service-202/
LOCATION:East Lincoln Alliance Church\, 735 70th Avenue\, Amery\, WI\, 54001\, United States
END:VEVENT
BEGIN:VEVENT
DTSTART;TZID=UTC:20260524T084500
DTEND;TZID=UTC:20260524T094500
DTSTAMP:20260424T002009
CREATED:20260304T162732Z
LAST-MODIFIED:20260304T162732Z
UID:11602-1779612300-1779615900@eastlincolnalliance.com
SUMMARY:Discipleship Hour
DESCRIPTION:Join us for Discipleship Hour from 8:45-9:45am.  All 6th grade and up are invited.
URL:https://eastlincolnalliance.com/event/discipleship-hour-106/
LOCATION:East Lincoln Alliance Church\, 735 70th Avenue\, Amery\, WI\, 54001\, United States
END:VEVENT
BEGIN:VEVENT
DTSTART;VALUE=DATE:20260521
DTEND;VALUE=DATE:20260524
DTSTAMP:20260424T002009
CREATED:20251208T152731Z
LAST-MODIFIED:20251208T152731Z
UID:11321-1779321600-1779580799@eastlincolnalliance.com
SUMMARY:Missions Fundraiser Garage Sale
DESCRIPTION:At Terri Anderson’s
URL:https://eastlincolnalliance.com/event/missions-fundraiser-garage-sale-7/
LOCATION:WI
END:VEVENT
BEGIN:VEVENT
DTSTART;TZID=UTC:20260520T180000
DTEND;TZID=UTC:20260520T200000
DTSTAMP:20260424T002009
CREATED:20260309T140807Z
LAST-MODIFIED:20260309T140807Z
UID:11732-1779300000-1779307200@eastlincolnalliance.com
SUMMARY:Son Seekers
DESCRIPTION:Son Seekers is a program for K-5th graders.  Programming is 6-8pm every Wednesday at East Lincoln Alliance Church. We will have games\, stories\, songs\, crafts.
URL:https://eastlincolnalliance.com/event/son-seekers-84/
LOCATION:East Lincoln Alliance Church\, 735 70th Avenue\, Amery\, WI\, 54001\, United States
END:VEVENT
BEGIN:VEVENT
DTSTART;TZID=UTC:20260520T180000
DTEND;TZID=UTC:20260520T200000
DTSTAMP:20260424T002009
CREATED:20260309T140401Z
LAST-MODIFIED:20260309T140401Z
UID:11716-1779300000-1779307200@eastlincolnalliance.com
SUMMARY:Recharge
DESCRIPTION:All students 6-12th grade are invited to attend.  Make sure to invite your friends!
URL:https://eastlincolnalliance.com/event/recharge-144/
LOCATION:East Lincoln Alliance Church\, 735 70th Avenue\, Amery\, WI\, 54001\, United States
END:VEVENT
BEGIN:VEVENT
DTSTART;TZID=UTC:20260519T183000
DTEND;TZID=UTC:20260519T193000
DTSTAMP:20260424T002009
CREATED:20260304T164209Z
LAST-MODIFIED:20260304T164209Z
UID:11652-1779215400-1779219000@eastlincolnalliance.com
SUMMARY:Prayer Gathering
DESCRIPTION:All are invited to join as we pray for each other\, our community and world.  Every Tuesday\, 6:30pm
URL:https://eastlincolnalliance.com/event/prayer-gathering-108/
LOCATION:East Lincoln Alliance Church\, 735 70th Avenue\, Amery\, WI\, 54001\, United States
END:VEVENT
BEGIN:VEVENT
DTSTART;TZID=UTC:20260518T180000
DTEND;TZID=UTC:20260518T203000
DTSTAMP:20260424T002009
CREATED:20260304T164705Z
LAST-MODIFIED:20260304T164705Z
UID:11668-1779127200-1779136200@eastlincolnalliance.com
SUMMARY:Elder Meeting
DESCRIPTION:
URL:https://eastlincolnalliance.com/event/elder-meeting-23/
LOCATION:WI
END:VEVENT
BEGIN:VEVENT
DTSTART;TZID=UTC:20260517T140000
DTEND;TZID=UTC:20260517T170000
DTSTAMP:20260424T002009
CREATED:20260325T142511Z
LAST-MODIFIED:20260325T142511Z
UID:11767-1779026400-1779037200@eastlincolnalliance.com
SUMMARY:Zephaniah Carlson's Graduation Party
DESCRIPTION:
URL:https://eastlincolnalliance.com/event/zephaniah-carlsons-graduation-party/
LOCATION:East Lincoln Alliance Church\, 735 70th Avenue\, Amery\, WI\, 54001\, United States
END:VEVENT
BEGIN:VEVENT
DTSTART;TZID=UTC:20260517T100000
DTEND;TZID=UTC:20260517T111500
DTSTAMP:20260424T002009
CREATED:20260304T163443Z
LAST-MODIFIED:20260304T163443Z
UID:11626-1779012000-1779016500@eastlincolnalliance.com
SUMMARY:Worship Service
DESCRIPTION:We offer the following services for kids during the Worship Service: \nEarly Childhood care for 1-3 year olds in the East Wing \n4 years old-Kindergarten in the West Wing (Discovery Land) \n1st-3rd Grade in the East Wing (Discovery Land)
URL:https://eastlincolnalliance.com/event/worship-service-201/
LOCATION:East Lincoln Alliance Church\, 735 70th Avenue\, Amery\, WI\, 54001\, United States
END:VEVENT
BEGIN:VEVENT
DTSTART;TZID=UTC:20260517T084500
DTEND;TZID=UTC:20260517T094500
DTSTAMP:20260424T002009
CREATED:20260304T162703Z
LAST-MODIFIED:20260304T162703Z
UID:11600-1779007500-1779011100@eastlincolnalliance.com
SUMMARY:Discipleship Hour
DESCRIPTION:Join us for Discipleship Hour from 8:45-9:45am.  All 6th grade and up are invited.
URL:https://eastlincolnalliance.com/event/discipleship-hour-105/
LOCATION:East Lincoln Alliance Church\, 735 70th Avenue\, Amery\, WI\, 54001\, United States
END:VEVENT
BEGIN:VEVENT
DTSTART;TZID=UTC:20260515T180000
DTEND;TZID=UTC:20260515T200000
DTSTAMP:20260424T002009
CREATED:20260108T211907Z
LAST-MODIFIED:20260108T211907Z
UID:11432-1778868000-1778875200@eastlincolnalliance.com
SUMMARY:Grace Marriage
DESCRIPTION:
URL:https://eastlincolnalliance.com/event/grace-marriage-16/
LOCATION:East Lincoln Alliance Church\, 735 70th Avenue\, Amery\, WI\, 54001\, United States
END:VEVENT
BEGIN:VEVENT
DTSTART;TZID=UTC:20260513T180000
DTEND;TZID=UTC:20260513T200000
DTSTAMP:20260424T002009
CREATED:20260309T140743Z
LAST-MODIFIED:20260309T140743Z
UID:11730-1778695200-1778702400@eastlincolnalliance.com
SUMMARY:Son Seekers
DESCRIPTION:Son Seekers is a program for K-5th graders.  Programming is 6-8pm every Wednesday at East Lincoln Alliance Church. We will have games\, stories\, songs\, crafts.
URL:https://eastlincolnalliance.com/event/son-seekers-83/
LOCATION:East Lincoln Alliance Church\, 735 70th Avenue\, Amery\, WI\, 54001\, United States
END:VEVENT
BEGIN:VEVENT
DTSTART;TZID=UTC:20260513T180000
DTEND;TZID=UTC:20260513T200000
DTSTAMP:20260424T002009
CREATED:20260309T134805Z
LAST-MODIFIED:20260309T134805Z
UID:11712-1778695200-1778702400@eastlincolnalliance.com
SUMMARY:Recharge
DESCRIPTION:All students 6-12th grade are invited to attend.  Make sure to invite your friends!
URL:https://eastlincolnalliance.com/event/recharge-143/
LOCATION:East Lincoln Alliance Church\, 735 70th Avenue\, Amery\, WI\, 54001\, United States
END:VEVENT
BEGIN:VEVENT
DTSTART;TZID=UTC:20260512T183000
DTEND;TZID=UTC:20260512T193000
DTSTAMP:20260424T002009
CREATED:20260304T164117Z
LAST-MODIFIED:20260304T164117Z
UID:11650-1778610600-1778614200@eastlincolnalliance.com
SUMMARY:Prayer Gathering
DESCRIPTION:All are invited to join as we pray for each other\, our community and world.  Every Tuesday\, 6:30pm
URL:https://eastlincolnalliance.com/event/prayer-gathering-107/
LOCATION:East Lincoln Alliance Church\, 735 70th Avenue\, Amery\, WI\, 54001\, United States
END:VEVENT
BEGIN:VEVENT
DTSTART;TZID=UTC:20260510T100000
DTEND;TZID=UTC:20260510T111500
DTSTAMP:20260424T002009
CREATED:20260304T163336Z
LAST-MODIFIED:20260304T163336Z
UID:11624-1778407200-1778411700@eastlincolnalliance.com
SUMMARY:Worship Service
DESCRIPTION:We offer the following services for kids during the Worship Service: \nEarly Childhood care for 1-3 year olds in the East Wing \n4 years old-Kindergarten in the West Wing (Discovery Land) \n1st-3rd Grade in the East Wing (Discovery Land)
URL:https://eastlincolnalliance.com/event/worship-service-200/
LOCATION:East Lincoln Alliance Church\, 735 70th Avenue\, Amery\, WI\, 54001\, United States
END:VEVENT
BEGIN:VEVENT
DTSTART;TZID=UTC:20260510T084500
DTEND;TZID=UTC:20260510T094500
DTSTAMP:20260424T002009
CREATED:20260304T162628Z
LAST-MODIFIED:20260304T162628Z
UID:11598-1778402700-1778406300@eastlincolnalliance.com
SUMMARY:Discipleship Hour
DESCRIPTION:Join us for Discipleship Hour from 8:45-9:45am.  All 6th grade and up are invited.
URL:https://eastlincolnalliance.com/event/discipleship-hour-104/
LOCATION:East Lincoln Alliance Church\, 735 70th Avenue\, Amery\, WI\, 54001\, United States
END:VEVENT
END:VCALENDAR