BEGIN:VCALENDAR
VERSION:2.0
PRODID:-//East Lincoln Alliance Church - ECPv6.15.20//NONSGML v1.0//EN
CALSCALE:GREGORIAN
METHOD:PUBLISH
X-ORIGINAL-URL:https://eastlincolnalliance.com
X-WR-CALDESC:Events for East Lincoln Alliance Church
REFRESH-INTERVAL;VALUE=DURATION:PT1H
X-Robots-Tag:noindex
X-PUBLISHED-TTL:PT1H
BEGIN:VTIMEZONE
TZID:UTC
BEGIN:STANDARD
TZOFFSETFROM:+0000
TZOFFSETTO:+0000
TZNAME:UTC
DTSTART:20240101T000000
END:STANDARD
END:VTIMEZONE
BEGIN:VEVENT
DTSTART;TZID=UTC:20250501T180000
DTEND;TZID=UTC:20250501T200000
DTSTAMP:20260425T154636
CREATED:20250414T171549Z
LAST-MODIFIED:20250414T171549Z
UID:10431-1746122400-1746129600@eastlincolnalliance.com
SUMMARY:National Day of Prayer - Prayer
DESCRIPTION:“Lift Up the Word – Light Up the World”\n2 Samuel 22:29 – “You\, Lord\, are my lamp; the Lord turns my darkness into light.” \nJoin us as we unite with believers across the nation to seek God in prayer for our leaders\, communities\, and world. \nWe are offering multiple opportunities throughout the day for you to join: \n\n\n10-11am at Soo Line Park in Amery for a prayer walk \n\n\n2-4pm \n\n\n6-8pm at ELAC for a time of prayer \n\n\nLet’s come together in faith and lift our voices in one accord. Prayer changes things!
URL:https://eastlincolnalliance.com/event/national-day-of-prayer-prayer-2/
LOCATION:East Lincoln Alliance Church\, 735 70th Avenue\, Amery\, WI\, 54001\, United States
END:VEVENT
BEGIN:VEVENT
DTSTART;TZID=UTC:20250502T170000
DTEND;TZID=UTC:20250502T200000
DTSTAMP:20260425T154636
CREATED:20250421T130612Z
LAST-MODIFIED:20250421T130612Z
UID:10480-1746205200-1746216000@eastlincolnalliance.com
SUMMARY:Church Reserved
DESCRIPTION:Tresta Andren – Dinners for Six Hostess
URL:https://eastlincolnalliance.com/event/church-reserved/
LOCATION:East Lincoln Alliance Church\, 735 70th Avenue\, Amery\, WI\, 54001\, United States
END:VEVENT
BEGIN:VEVENT
DTSTART;TZID=UTC:20250502T180000
DTEND;TZID=UTC:20250502T203000
DTSTAMP:20260425T154636
CREATED:20250117T190526Z
LAST-MODIFIED:20250117T190526Z
UID:10168-1746208800-1746217800@eastlincolnalliance.com
SUMMARY:Dinners for Six
DESCRIPTION:All women are invited to gather and grow together at our next Dinners for Six.  Sign up to be a hostess or a guest for Friday\, May 2nd at 6pm.
URL:https://eastlincolnalliance.com/event/dinners-for-six-4/
LOCATION:WI
END:VEVENT
BEGIN:VEVENT
DTSTART;TZID=UTC:20250504T084500
DTEND;TZID=UTC:20250504T094500
DTSTAMP:20260425T154636
CREATED:20250117T191122Z
LAST-MODIFIED:20250117T191122Z
UID:10182-1746348300-1746351900@eastlincolnalliance.com
SUMMARY:Discipleship Hour
DESCRIPTION:Join us for Discipleship Hour from 8:45-9:45am.  All 6th grade and up are invited.
URL:https://eastlincolnalliance.com/event/discipleship-hour-54/
LOCATION:East Lincoln Alliance Church\, 735 70th Avenue\, Amery\, WI\, 54001\, United States
END:VEVENT
BEGIN:VEVENT
DTSTART;TZID=UTC:20250504T100000
DTEND;TZID=UTC:20250504T111500
DTSTAMP:20260425T154636
CREATED:20250307T194508Z
LAST-MODIFIED:20250307T194508Z
UID:10337-1746352800-1746357300@eastlincolnalliance.com
SUMMARY:Worship Service
DESCRIPTION:We welcome you to our regular worship service every Sunday @ 10:00am.\n\n\n\nWe offer the following services for kids during the Worship Service: \nEarly Childhood care for 1-3 year olds in the East Wing \n4 years old-Kindergarten in the West Wing (Discovery Land) \n1st-5th Grade in the East Wing (Discovery Land)
URL:https://eastlincolnalliance.com/event/worship-service-149/
LOCATION:East Lincoln Alliance Church\, 735 70th Avenue\, Amery\, WI\, 54001\, United States
END:VEVENT
BEGIN:VEVENT
DTSTART;TZID=UTC:20250506T183000
DTEND;TZID=UTC:20250506T193000
DTSTAMP:20260425T154636
CREATED:20250307T192240Z
LAST-MODIFIED:20250307T192240Z
UID:10305-1746556200-1746559800@eastlincolnalliance.com
SUMMARY:Prayer Gathering
DESCRIPTION:All are invited to join as we pray for each other\, our community and world.  Every Tuesday\, 6:30pm
URL:https://eastlincolnalliance.com/event/prayer-gathering-58/
LOCATION:East Lincoln Alliance Church\, 735 70th Avenue\, Amery\, WI\, 54001\, United States
END:VEVENT
BEGIN:VEVENT
DTSTART;TZID=UTC:20250507T150000
DTEND;TZID=UTC:20250507T200000
DTSTAMP:20260425T154636
CREATED:20250317T140633Z
LAST-MODIFIED:20250317T140633Z
UID:10379-1746630000-1746648000@eastlincolnalliance.com
SUMMARY:Spring Cleaning Day!
DESCRIPTION:Join us on Wednesday\, May 7th 3-8pm for our annual Spring Cleaning Day @ ELAC!
URL:https://eastlincolnalliance.com/event/spring-cleaning-day-2/
LOCATION:East Lincoln Alliance Church\, 735 70th Avenue\, Amery\, WI\, 54001\, United States
END:VEVENT
BEGIN:VEVENT
DTSTART;TZID=UTC:20250507T180000
DTEND;TZID=UTC:20250507T200000
DTSTAMP:20260425T154636
CREATED:20241227T230553Z
LAST-MODIFIED:20241227T230553Z
UID:10102-1746640800-1746648000@eastlincolnalliance.com
SUMMARY:Son Seekers
DESCRIPTION:Son Seekers is a program for K-5th graders.  Programming is 6-8pm every Wednesday at East Lincoln Alliance Church. We will have games\, stories\, songs\, crafts.
URL:https://eastlincolnalliance.com/event/son-seekers-50/
LOCATION:East Lincoln Alliance Church\, 735 70th Avenue\, Amery\, WI\, 54001\, United States
END:VEVENT
BEGIN:VEVENT
DTSTART;TZID=UTC:20250511T084500
DTEND;TZID=UTC:20250511T094500
DTSTAMP:20260425T154636
CREATED:20250307T193756Z
LAST-MODIFIED:20250307T193756Z
UID:10313-1746953100-1746956700@eastlincolnalliance.com
SUMMARY:Discipleship Hour
DESCRIPTION:Join us for Discipleship Hour from 8:45-9:45am.  All 6th grade and up are invited.
URL:https://eastlincolnalliance.com/event/discipleship-hour-46/
LOCATION:East Lincoln Alliance Church\, 735 70th Avenue\, Amery\, WI\, 54001\, United States
END:VEVENT
BEGIN:VEVENT
DTSTART;TZID=UTC:20250511T100000
DTEND;TZID=UTC:20250511T111500
DTSTAMP:20260425T154636
CREATED:20250307T194538Z
LAST-MODIFIED:20250307T194538Z
UID:10339-1746957600-1746962100@eastlincolnalliance.com
SUMMARY:Worship Service
DESCRIPTION:We welcome you to our regular worship service every Sunday @ 10:00am.\n\n\n\nWe offer the following services for kids during the Worship Service: \nEarly Childhood care for 1-3 year olds in the East Wing \n4 years old-Kindergarten in the West Wing (Discovery Land) \n1st-5th Grade in the East Wing (Discovery Land)
URL:https://eastlincolnalliance.com/event/worship-service-150/
LOCATION:East Lincoln Alliance Church\, 735 70th Avenue\, Amery\, WI\, 54001\, United States
END:VEVENT
BEGIN:VEVENT
DTSTART;TZID=UTC:20250513T183000
DTEND;TZID=UTC:20250513T193000
DTSTAMP:20260425T154636
CREATED:20250307T192304Z
LAST-MODIFIED:20250307T192304Z
UID:10307-1747161000-1747164600@eastlincolnalliance.com
SUMMARY:Prayer Gathering
DESCRIPTION:All are invited to join as we pray for each other\, our community and world.  Every Tuesday\, 6:30pm
URL:https://eastlincolnalliance.com/event/prayer-gathering-59/
LOCATION:East Lincoln Alliance Church\, 735 70th Avenue\, Amery\, WI\, 54001\, United States
END:VEVENT
BEGIN:VEVENT
DTSTART;TZID=UTC:20250514T090000
DTEND;TZID=UTC:20250514T160000
DTSTAMP:20260425T154636
CREATED:20250505T160357Z
LAST-MODIFIED:20250505T160357Z
UID:10516-1747213200-1747238400@eastlincolnalliance.com
SUMMARY:Women's Craft Day
DESCRIPTION:Women are invited to join on Wednesday\, May 14th 9am-4pm for a day of crafting and fellowship.  Bring whatever project you are working on or just come and visit! \nWe will be meeting in the East Wing Discovery Land room.  Bring a lunch. \nContact Julie Anderson if you have questions or would like to host a craft day. 715-607-8022
URL:https://eastlincolnalliance.com/event/womens-craft-day-35/
LOCATION:East Lincoln Alliance Church\, 735 70th Avenue\, Amery\, WI\, 54001\, United States
END:VEVENT
BEGIN:VEVENT
DTSTART;TZID=UTC:20250514T180000
DTEND;TZID=UTC:20250514T200000
DTSTAMP:20260425T154636
CREATED:20250418T185630Z
LAST-MODIFIED:20250418T185630Z
UID:10464-1747245600-1747252800@eastlincolnalliance.com
SUMMARY:Recharge
DESCRIPTION:All students 6-12th grade are invited to attend.  Make sure to invite your friends!
URL:https://eastlincolnalliance.com/event/recharge-112/
LOCATION:East Lincoln Alliance Church\, 735 70th Avenue\, Amery\, WI\, 54001\, United States
END:VEVENT
BEGIN:VEVENT
DTSTART;TZID=UTC:20250514T180000
DTEND;TZID=UTC:20250514T200000
DTSTAMP:20260425T154636
CREATED:20250418T185738Z
LAST-MODIFIED:20250418T185738Z
UID:10466-1747245600-1747252800@eastlincolnalliance.com
SUMMARY:Son Seekers
DESCRIPTION:Son Seekers is a program for K-5th graders.  Programming is 6-8pm every Wednesday at East Lincoln Alliance Church. We will have games\, stories\, songs\, crafts.
URL:https://eastlincolnalliance.com/event/son-seekers-51/
LOCATION:East Lincoln Alliance Church\, 735 70th Avenue\, Amery\, WI\, 54001\, United States
END:VEVENT
BEGIN:VEVENT
DTSTART;VALUE=DATE:20250516
DTEND;VALUE=DATE:20250519
DTSTAMP:20260425T154636
CREATED:20250331T153400Z
LAST-MODIFIED:20250331T153409Z
UID:10396-1747353600-1747612799@eastlincolnalliance.com
SUMMARY:Tables and chairs rented
DESCRIPTION:Stone
URL:https://eastlincolnalliance.com/event/tables-and-chairs-rented-3/
LOCATION:WI
END:VEVENT
BEGIN:VEVENT
DTSTART;TZID=UTC:20250516T180000
DTEND;TZID=UTC:20250516T200000
DTSTAMP:20260425T154636
CREATED:20250221T182800Z
LAST-MODIFIED:20250221T182800Z
UID:10254-1747418400-1747425600@eastlincolnalliance.com
SUMMARY:Grace Marriage
DESCRIPTION:
URL:https://eastlincolnalliance.com/event/grace-marriage-4/
LOCATION:East Lincoln Alliance Church\, 735 70th Avenue\, Amery\, WI\, 54001\, United States
END:VEVENT
BEGIN:VEVENT
DTSTART;VALUE=DATE:20250517
DTEND;VALUE=DATE:20250518
DTSTAMP:20260425T154636
CREATED:20250421T152814Z
LAST-MODIFIED:20250421T152814Z
UID:10486-1747440000-1747526399@eastlincolnalliance.com
SUMMARY:Picnic Tables Reserved
DESCRIPTION:Eric Danielson
URL:https://eastlincolnalliance.com/event/picnic-tables-reserved/
LOCATION:WI
END:VEVENT
BEGIN:VEVENT
DTSTART;TZID=UTC:20250517T080000
DTEND;TZID=UTC:20250517T170000
DTSTAMP:20260425T154636
CREATED:20241223T173414Z
LAST-MODIFIED:20241223T173414Z
UID:10061-1747468800-1747501200@eastlincolnalliance.com
SUMMARY:Duane Olson Memorial Service
DESCRIPTION:
URL:https://eastlincolnalliance.com/event/duane-olson-memorial-service/
LOCATION:East Lincoln Alliance Church\, 735 70th Avenue\, Amery\, WI\, 54001\, United States
END:VEVENT
BEGIN:VEVENT
DTSTART;TZID=UTC:20250518T084500
DTEND;TZID=UTC:20250518T094500
DTSTAMP:20260425T154636
CREATED:20250307T193822Z
LAST-MODIFIED:20250307T193822Z
UID:10315-1747557900-1747561500@eastlincolnalliance.com
SUMMARY:Discipleship Hour
DESCRIPTION:Join us for Discipleship Hour from 8:45-9:45am.  All 6th grade and up are invited.
URL:https://eastlincolnalliance.com/event/discipleship-hour-47/
LOCATION:East Lincoln Alliance Church\, 735 70th Avenue\, Amery\, WI\, 54001\, United States
END:VEVENT
BEGIN:VEVENT
DTSTART;TZID=UTC:20250518T100000
DTEND;TZID=UTC:20250518T111500
DTSTAMP:20260425T154636
CREATED:20250307T194600Z
LAST-MODIFIED:20250307T194600Z
UID:10341-1747562400-1747566900@eastlincolnalliance.com
SUMMARY:Worship Service
DESCRIPTION:We welcome you to our regular worship service every Sunday @ 10:00am.\n\n\n\nWe offer the following services for kids during the Worship Service: \nEarly Childhood care for 1-3 year olds in the East Wing \n4 years old-Kindergarten in the West Wing (Discovery Land) \n1st-5th Grade in the East Wing (Discovery Land)
URL:https://eastlincolnalliance.com/event/worship-service-151/
LOCATION:East Lincoln Alliance Church\, 735 70th Avenue\, Amery\, WI\, 54001\, United States
END:VEVENT
BEGIN:VEVENT
DTSTART;TZID=UTC:20250519T180000
DTEND;TZID=UTC:20250519T203000
DTSTAMP:20260425T154636
CREATED:20250307T195144Z
LAST-MODIFIED:20250307T195144Z
UID:10355-1747677600-1747686600@eastlincolnalliance.com
SUMMARY:Elder Meeting
DESCRIPTION:
URL:https://eastlincolnalliance.com/event/elder-meeting-11/
LOCATION:WI
END:VEVENT
BEGIN:VEVENT
DTSTART;TZID=UTC:20250520T183000
DTEND;TZID=UTC:20250520T193000
DTSTAMP:20260425T154636
CREATED:20250307T192345Z
LAST-MODIFIED:20250307T192345Z
UID:10309-1747765800-1747769400@eastlincolnalliance.com
SUMMARY:Prayer Gathering
DESCRIPTION:All are invited to join as we pray for each other\, our community and world.  Every Tuesday\, 6:30pm
URL:https://eastlincolnalliance.com/event/prayer-gathering-60/
LOCATION:East Lincoln Alliance Church\, 735 70th Avenue\, Amery\, WI\, 54001\, United States
END:VEVENT
BEGIN:VEVENT
DTSTART;TZID=UTC:20250521T180000
DTEND;TZID=UTC:20250521T200000
DTSTAMP:20260425T154636
CREATED:20250317T140731Z
LAST-MODIFIED:20250317T140731Z
UID:10381-1747850400-1747857600@eastlincolnalliance.com
SUMMARY:Youth Awards Night
DESCRIPTION:Parents and families are invited to Awards Night for Youth Group from 6-8pm on Wednesday\, May 21st. Goofy and meaningful awards will be presented to your student(s). After the awards\, we will have ice cream and dessert.
URL:https://eastlincolnalliance.com/event/youth-awards-night/
LOCATION:East Lincoln Alliance Church\, 735 70th Avenue\, Amery\, WI\, 54001\, United States
END:VEVENT
BEGIN:VEVENT
DTSTART;TZID=UTC:20250521T180000
DTEND;TZID=UTC:20250521T200000
DTSTAMP:20260425T154636
CREATED:20250418T185828Z
LAST-MODIFIED:20250418T185828Z
UID:10468-1747850400-1747857600@eastlincolnalliance.com
SUMMARY:Son Seekers
DESCRIPTION:Son Seekers is a program for K-5th graders.  Programming is 6-8pm every Wednesday at East Lincoln Alliance Church. We will have games\, stories\, songs\, crafts.
URL:https://eastlincolnalliance.com/event/son-seekers-52/
LOCATION:East Lincoln Alliance Church\, 735 70th Avenue\, Amery\, WI\, 54001\, United States
END:VEVENT
BEGIN:VEVENT
DTSTART;TZID=UTC:20250521T180000
DTEND;TZID=UTC:20250521T200000
DTSTAMP:20260425T154636
CREATED:20250505T153411Z
LAST-MODIFIED:20250505T153411Z
UID:10512-1747850400-1747857600@eastlincolnalliance.com
SUMMARY:Youth Awards Night
DESCRIPTION:Parents and families are invited to Awards Night for Youth Group from 6-8pm on Wednesday\, May 21st.  Goofy and meaningful awards will be presented to your student(s).  After the awards\, we will have ice cream and dessert.
URL:https://eastlincolnalliance.com/event/youth-awards-night-2/
LOCATION:East Lincoln Alliance Church\, 735 70th Avenue\, Amery\, WI\, 54001\, United States
END:VEVENT
BEGIN:VEVENT
DTSTART;VALUE=DATE:20250522
DTEND;VALUE=DATE:20250526
DTSTAMP:20260425T154636
CREATED:20250412T164152Z
LAST-MODIFIED:20250418T183352Z
UID:10417-1747872000-1748217599@eastlincolnalliance.com
SUMMARY:Tables & Chairs Rented
DESCRIPTION:Laura Deems
URL:https://eastlincolnalliance.com/event/tables-chairs-rented-2/
LOCATION:WI
END:VEVENT
BEGIN:VEVENT
DTSTART;TZID=UTC:20250522T120000
DTEND;TZID=UTC:20250522T180000
DTSTAMP:20260425T154636
CREATED:20250505T145822Z
LAST-MODIFIED:20250505T145930Z
UID:10504-1747915200-1747936800@eastlincolnalliance.com
SUMMARY:Missions Garage Sale
DESCRIPTION:As you dive into your spring cleaning\, remember to think Missions! Jeff & Josje Ditschler are hosting a Garage Sale Fundraiser at their home (251 George St\, Amery) over Memorial Weekend\, and we’re calling on you to help make it a success! \nThursday\, May 22nd 12-6pm\nFriday\, May 23rd 9am-5pm\nSaturday\, May 24th 9am-12pm \nWe are accepting gently used\, clean items for the sale. Please note\, we are not accepting clothing items. This is a great opportunity to declutter\, donate\, and support a meaningful cause! \nYour donations will help fund our missions\, so let’s work together to make a difference! Thank you for your support! \nFor more information\, please contact Wendy Bachman or Mary Schussman.
URL:https://eastlincolnalliance.com/event/missions-garage-sale/
LOCATION:Jeff & Josje Ditschler’s\, 251 George St\, Amery\, WI\, 54001\, United States
END:VEVENT
BEGIN:VEVENT
DTSTART;TZID=UTC:20250523T090000
DTEND;TZID=UTC:20250523T170000
DTSTAMP:20260425T154636
CREATED:20250505T145959Z
LAST-MODIFIED:20250505T145959Z
UID:10508-1747990800-1748019600@eastlincolnalliance.com
SUMMARY:Missions Garage Sale
DESCRIPTION:As you dive into your spring cleaning\, remember to think Missions! Jeff & Josje Ditschler are hosting a Garage Sale Fundraiser at their home (251 George St\, Amery) over Memorial Weekend\, and we’re calling on you to help make it a success! \nThursday\, May 22nd 12-6pm\nFriday\, May 23rd 9am-5pm\nSaturday\, May 24th 9am-12pm \nWe are accepting gently used\, clean items for the sale. Please note\, we are not accepting clothing items. This is a great opportunity to declutter\, donate\, and support a meaningful cause! \nYour donations will help fund our missions\, so let’s work together to make a difference! Thank you for your support! \nFor more information\, please contact Wendy Bachman or Mary Schussman.
URL:https://eastlincolnalliance.com/event/missions-garage-sale-2/
LOCATION:Jeff & Josje Ditschler’s\, 251 George St\, Amery\, WI\, 54001\, United States
END:VEVENT
BEGIN:VEVENT
DTSTART;TZID=UTC:20250524T090000
DTEND;TZID=UTC:20250524T120000
DTSTAMP:20260425T154636
CREATED:20250505T150022Z
LAST-MODIFIED:20250505T150022Z
UID:10510-1748077200-1748088000@eastlincolnalliance.com
SUMMARY:Missions Garage Sale
DESCRIPTION:As you dive into your spring cleaning\, remember to think Missions! Jeff & Josje Ditschler are hosting a Garage Sale Fundraiser at their home (251 George St\, Amery) over Memorial Weekend\, and we’re calling on you to help make it a success! \nThursday\, May 22nd 12-6pm\nFriday\, May 23rd 9am-5pm\nSaturday\, May 24th 9am-12pm \nWe are accepting gently used\, clean items for the sale. Please note\, we are not accepting clothing items. This is a great opportunity to declutter\, donate\, and support a meaningful cause! \nYour donations will help fund our missions\, so let’s work together to make a difference! Thank you for your support! \nFor more information\, please contact Wendy Bachman or Mary Schussman.
URL:https://eastlincolnalliance.com/event/missions-garage-sale-3/
LOCATION:Jeff & Josje Ditschler’s\, 251 George St\, Amery\, WI\, 54001\, United States
END:VEVENT
BEGIN:VEVENT
DTSTART;TZID=UTC:20250524T120000
DTEND;TZID=UTC:20250524T133000
DTSTAMP:20260425T154636
CREATED:20250505T153936Z
LAST-MODIFIED:20250505T153936Z
UID:10514-1748088000-1748093400@eastlincolnalliance.com
SUMMARY:Hi-Rise Meal
DESCRIPTION:We will be serving our monthly meal to the residents of the Amery Hi-Rise on Saturday\, May 24th at 12pm. We are looking for help with the meal\, this month will be a traditional Memorial Weekend meal\, hot dogs and brats! \nFood can be dropped off at the Hi-Rise (300 Harriman Ave N\, Amery) on the 24th at 11:30am or text Kim Davis for alternate arrangements (320-266-4859). \nWe are also needing 5-7 people to help set up\, serve food/mingle and clean up. Please arrive at the Hi-Rise at 11:30am and should be done between 1-1:30pm. \nIf you have snack sized baggies and/or to-go containers (can be clean sour cream/cottage cheese/country crock\, etc containers) to donate\, we would gladly accept them for the residents to take leftover food to their apartments. \nThere is a sign-up sheet at the Information Table at church or contact the church office to get your name added.  Any questions\, contact Kim Davis at 320-266-4859 or any of the planning team.
URL:https://eastlincolnalliance.com/event/hi-rise-meal-6/
LOCATION:Amery Hi Rise\, 300 Harriman Ave\, Amery\, 54001\, United States
END:VEVENT
END:VCALENDAR