BEGIN:VCALENDAR
VERSION:2.0
PRODID:-//East Lincoln Alliance Church - ECPv6.15.20//NONSGML v1.0//EN
CALSCALE:GREGORIAN
METHOD:PUBLISH
X-ORIGINAL-URL:https://eastlincolnalliance.com
X-WR-CALDESC:Events for East Lincoln Alliance Church
REFRESH-INTERVAL;VALUE=DURATION:PT1H
X-Robots-Tag:noindex
X-PUBLISHED-TTL:PT1H
BEGIN:VTIMEZONE
TZID:UTC
BEGIN:STANDARD
TZOFFSETFROM:+0000
TZOFFSETTO:+0000
TZNAME:UTC
DTSTART:20240101T000000
END:STANDARD
END:VTIMEZONE
BEGIN:VEVENT
DTSTART;TZID=UTC:20250119T113000
DTEND;TZID=UTC:20250119T133000
DTSTAMP:20260425T143341
CREATED:20241223T173001Z
LAST-MODIFIED:20241223T173001Z
UID:10057-1737286200-1737293400@eastlincolnalliance.com
SUMMARY:Winter Potluck
DESCRIPTION:We are excited to invite you to our annual Winter Potluck after the service on Sunday\, January 19th. This is a wonderful opportunity to gather together in warmth and fellowship\, share a meal\, and celebrate the season. \nPlease bring a dish to share. See you there!
URL:https://eastlincolnalliance.com/event/winter-potluck-2/
LOCATION:East Lincoln Alliance Church\, 735 70th Avenue\, Amery\, WI\, 54001\, United States
END:VEVENT
BEGIN:VEVENT
DTSTART;TZID=UTC:20250119T113000
DTEND;TZID=UTC:20250119T140000
DTSTAMP:20260425T143341
CREATED:20241216T160605Z
LAST-MODIFIED:20241216T160605Z
UID:10002-1737286200-1737295200@eastlincolnalliance.com
SUMMARY:Winter Potluck
DESCRIPTION:  \n❄️ Join Us for a Cozy Winter Potluck Meal! ❄️ \nWarm up your heart and your stomach this season at our Church Winter Potluck on Sunday\, January 19th after church! 🥘✨ \nBring your favorite dish to share\, and let’s enjoy a feast of delicious homemade meals together! Whether it’s soup\, casserole\, or dessert\, we can’t wait to try your specialty and celebrate the season of warmth\, community\, and joy. ❤️ \nCulinary Group #2 is in charge of the potluck duties.
URL:https://eastlincolnalliance.com/event/winter-potluck/
LOCATION:East Lincoln Alliance Church\, 735 70th Avenue\, Amery\, WI\, 54001\, United States
END:VEVENT
BEGIN:VEVENT
DTSTART;TZID=UTC:20250120T180000
DTEND;TZID=UTC:20250120T203000
DTSTAMP:20260425T143341
CREATED:20240819T220809Z
LAST-MODIFIED:20240819T220809Z
UID:9697-1737396000-1737405000@eastlincolnalliance.com
SUMMARY:Bible Quiz Practice
DESCRIPTION:Junior quizzing 6-7pm (5th grade and younger) \nRegular quizzing 7-8:30pm (6th-12th grade) \nWhether you’re a seasoned quizzing champion or new to the world of Bible trivia\, this event promises fun and friendly competition. Come challenge your knowledge\, deepen your understanding of Scripture\, and connect with fellow Bible enthusiasts.
URL:https://eastlincolnalliance.com/event/bible-quiz-practice-21/
LOCATION:East Lincoln Alliance Church\, 735 70th Avenue\, Amery\, WI\, 54001\, United States
END:VEVENT
BEGIN:VEVENT
DTSTART;TZID=UTC:20250120T180000
DTEND;TZID=UTC:20250120T203000
DTSTAMP:20260425T143341
CREATED:20250113T190852Z
LAST-MODIFIED:20250113T190852Z
UID:10147-1737396000-1737405000@eastlincolnalliance.com
SUMMARY:Elder Meeting
DESCRIPTION:
URL:https://eastlincolnalliance.com/event/elder-meeting-7/
LOCATION:WI
END:VEVENT
BEGIN:VEVENT
DTSTART;TZID=UTC:20250121T183000
DTEND;TZID=UTC:20250121T193000
DTSTAMP:20260425T143341
CREATED:20241118T163120Z
LAST-MODIFIED:20241118T163120Z
UID:9955-1737484200-1737487800@eastlincolnalliance.com
SUMMARY:Prayer Gathering
DESCRIPTION:All are invited to join as we pray for each other\, our community and world.  Every Tuesday\, 6:30pm
URL:https://eastlincolnalliance.com/event/prayer-gathering-44/
LOCATION:East Lincoln Alliance Church\, 735 70th Avenue\, Amery\, WI\, 54001\, United States
END:VEVENT
BEGIN:VEVENT
DTSTART;TZID=UTC:20250122T090000
DTEND;TZID=UTC:20250122T160000
DTSTAMP:20260425T143341
CREATED:20250117T185814Z
LAST-MODIFIED:20250117T185814Z
UID:10160-1737536400-1737561600@eastlincolnalliance.com
SUMMARY:Women's Craft Day
DESCRIPTION:Women are invited to join on Wednesday\, January 22nd 9am-4pm for a day of crafting and fellowship.  Bring whatever project you are working on\, or just come and visit!  We will be meeting at Wendy Bachman’s.  Pack a lunch. \nContact Julie Anderson if you have questions or would like to host a craft day. 715-607-8022
URL:https://eastlincolnalliance.com/event/womens-craft-day-31/
LOCATION:Wendy Bachman’s
END:VEVENT
BEGIN:VEVENT
DTSTART;TZID=UTC:20250122T180000
DTEND;TZID=UTC:20250122T200000
DTSTAMP:20260425T143341
CREATED:20241227T225850Z
LAST-MODIFIED:20241227T225850Z
UID:10074-1737568800-1737576000@eastlincolnalliance.com
SUMMARY:Son Seekers
DESCRIPTION:Son Seekers is a program for K-5th graders.  Programming is 6-8pm every Wednesday at East Lincoln Alliance Church. We will have games\, stories\, songs\, crafts.
URL:https://eastlincolnalliance.com/event/son-seekers-36/
LOCATION:East Lincoln Alliance Church\, 735 70th Avenue\, Amery\, WI\, 54001\, United States
END:VEVENT
BEGIN:VEVENT
DTSTART;TZID=UTC:20250122T180000
DTEND;TZID=UTC:20250122T200000
DTSTAMP:20260425T143341
CREATED:20241227T231055Z
LAST-MODIFIED:20241227T231055Z
UID:10108-1737568800-1737576000@eastlincolnalliance.com
SUMMARY:Recharge
DESCRIPTION:All students 6-12th grade are invited to attend.  Make sure to invite your friends!
URL:https://eastlincolnalliance.com/event/recharge-99/
LOCATION:East Lincoln Alliance Church\, 735 70th Avenue\, Amery\, WI\, 54001\, United States
END:VEVENT
BEGIN:VEVENT
DTSTART;TZID=UTC:20250126T084500
DTEND;TZID=UTC:20250126T094500
DTSTAMP:20260425T143341
CREATED:20241216T160917Z
LAST-MODIFIED:20241216T160917Z
UID:10010-1737881100-1737884700@eastlincolnalliance.com
SUMMARY:Discipleship Hour
DESCRIPTION:Join us for Discipleship Hour from 8:45-9:45am.  All 6th grade and up are invited.
URL:https://eastlincolnalliance.com/event/discipleship-hour-39/
LOCATION:East Lincoln Alliance Church\, 735 70th Avenue\, Amery\, WI\, 54001\, United States
END:VEVENT
BEGIN:VEVENT
DTSTART;TZID=UTC:20250126T100000
DTEND;TZID=UTC:20250126T111500
DTSTAMP:20260425T143341
CREATED:20241216T174544Z
LAST-MODIFIED:20241216T174544Z
UID:10034-1737885600-1737890100@eastlincolnalliance.com
SUMMARY:Worship Service
DESCRIPTION:We welcome you to our regular worship service every Sunday @ 10:00am.\n\n\n\nWe offer the following services for kids during the Worship Service: \nEarly Childhood care for 1-3 year olds in the East Wing \n4 years old-Kindergarten in the West Wing (Discovery Land) \n1st-5th Grade in the East Wing (Discovery Land)
URL:https://eastlincolnalliance.com/event/worship-service-136/
LOCATION:East Lincoln Alliance Church\, 735 70th Avenue\, Amery\, WI\, 54001\, United States
END:VEVENT
BEGIN:VEVENT
DTSTART;TZID=UTC:20250126T113000
DTEND;TZID=UTC:20250126T120000
DTSTAMP:20260425T143341
CREATED:20250120T185126Z
LAST-MODIFIED:20250120T185126Z
UID:10203-1737891000-1737892800@eastlincolnalliance.com
SUMMARY:Hymn Sing
DESCRIPTION:Join us for a Hymn Sing on Sunday\, January 26th\, 11:30am-12pm.
URL:https://eastlincolnalliance.com/event/hymn-sing-21/
LOCATION:East Lincoln Alliance Church\, 735 70th Avenue\, Amery\, WI\, 54001\, United States
END:VEVENT
BEGIN:VEVENT
DTSTART;TZID=UTC:20250126T120000
DTEND;TZID=UTC:20250126T133000
DTSTAMP:20260425T143341
CREATED:20250120T185023Z
LAST-MODIFIED:20250120T185023Z
UID:10200-1737892800-1737898200@eastlincolnalliance.com
SUMMARY:Single Women's Fellowship
DESCRIPTION:All single women are invited to join on Sunday\, January 26th at noon at ELAC for a potluck and time of fellowship.
URL:https://eastlincolnalliance.com/event/single-womens-fellowship-20/
LOCATION:East Lincoln Alliance Church\, 735 70th Avenue\, Amery\, WI\, 54001\, United States
END:VEVENT
BEGIN:VEVENT
DTSTART;TZID=UTC:20250127T180000
DTEND;TZID=UTC:20250127T203000
DTSTAMP:20260425T143341
CREATED:20240819T220831Z
LAST-MODIFIED:20240819T220831Z
UID:9699-1738000800-1738009800@eastlincolnalliance.com
SUMMARY:Bible Quiz Practice
DESCRIPTION:Junior quizzing 6-7pm (5th grade and younger) \nRegular quizzing 7-8:30pm (6th-12th grade) \nWhether you’re a seasoned quizzing champion or new to the world of Bible trivia\, this event promises fun and friendly competition. Come challenge your knowledge\, deepen your understanding of Scripture\, and connect with fellow Bible enthusiasts.
URL:https://eastlincolnalliance.com/event/bible-quiz-practice-22/
LOCATION:East Lincoln Alliance Church\, 735 70th Avenue\, Amery\, WI\, 54001\, United States
END:VEVENT
BEGIN:VEVENT
DTSTART;TZID=UTC:20250128T183000
DTEND;TZID=UTC:20250128T193000
DTSTAMP:20260425T143341
CREATED:20241118T163220Z
LAST-MODIFIED:20241118T163220Z
UID:9957-1738089000-1738092600@eastlincolnalliance.com
SUMMARY:Prayer Gathering
DESCRIPTION:All are invited to join as we pray for each other\, our community and world.  Every Tuesday\, 6:30pm
URL:https://eastlincolnalliance.com/event/prayer-gathering-45/
LOCATION:East Lincoln Alliance Church\, 735 70th Avenue\, Amery\, WI\, 54001\, United States
END:VEVENT
BEGIN:VEVENT
DTSTART;TZID=UTC:20250129T180000
DTEND;TZID=UTC:20250129T200000
DTSTAMP:20260425T143341
CREATED:20241227T225912Z
LAST-MODIFIED:20241227T225912Z
UID:10076-1738173600-1738180800@eastlincolnalliance.com
SUMMARY:Son Seekers
DESCRIPTION:Son Seekers is a program for K-5th graders.  Programming is 6-8pm every Wednesday at East Lincoln Alliance Church. We will have games\, stories\, songs\, crafts.
URL:https://eastlincolnalliance.com/event/son-seekers-37/
LOCATION:East Lincoln Alliance Church\, 735 70th Avenue\, Amery\, WI\, 54001\, United States
END:VEVENT
BEGIN:VEVENT
DTSTART;TZID=UTC:20250129T180000
DTEND;TZID=UTC:20250129T200000
DTSTAMP:20260425T143341
CREATED:20241227T231114Z
LAST-MODIFIED:20241227T231114Z
UID:10110-1738173600-1738180800@eastlincolnalliance.com
SUMMARY:Recharge
DESCRIPTION:All students 6-12th grade are invited to attend.  Make sure to invite your friends!
URL:https://eastlincolnalliance.com/event/recharge-100/
LOCATION:East Lincoln Alliance Church\, 735 70th Avenue\, Amery\, WI\, 54001\, United States
END:VEVENT
BEGIN:VEVENT
DTSTART;TZID=UTC:20250201T100000
DTEND;TZID=UTC:20250201T130000
DTSTAMP:20260425T143341
CREATED:20250106T165015Z
LAST-MODIFIED:20250106T165015Z
UID:10137-1738404000-1738414800@eastlincolnalliance.com
SUMMARY:Bev Schuna Celebration of Life
DESCRIPTION:Visitation 10am\nService 11am\nLunch following service
URL:https://eastlincolnalliance.com/event/bev-schuna-celebration-of-life/
LOCATION:East Lincoln Alliance Church\, 735 70th Avenue\, Amery\, WI\, 54001\, United States
END:VEVENT
BEGIN:VEVENT
DTSTART;TZID=UTC:20250202T084500
DTEND;TZID=UTC:20250202T094500
DTSTAMP:20260425T143341
CREATED:20241216T163000Z
LAST-MODIFIED:20241216T163000Z
UID:10012-1738485900-1738489500@eastlincolnalliance.com
SUMMARY:Discipleship Hour
DESCRIPTION:Join us for Discipleship Hour from 8:45-9:45am.  All 6th grade and up are invited.
URL:https://eastlincolnalliance.com/event/discipleship-hour-40/
LOCATION:East Lincoln Alliance Church\, 735 70th Avenue\, Amery\, WI\, 54001\, United States
END:VEVENT
BEGIN:VEVENT
DTSTART;TZID=UTC:20250202T100000
DTEND;TZID=UTC:20250202T111500
DTSTAMP:20260425T143341
CREATED:20241216T174606Z
LAST-MODIFIED:20241216T174606Z
UID:10036-1738490400-1738494900@eastlincolnalliance.com
SUMMARY:Worship Service
DESCRIPTION:We welcome you to our regular worship service every Sunday @ 10:00am.\n\n\n\nWe offer the following services for kids during the Worship Service: \nEarly Childhood care for 1-3 year olds in the East Wing \n4 years old-Kindergarten in the West Wing (Discovery Land) \n1st-5th Grade in the East Wing (Discovery Land)
URL:https://eastlincolnalliance.com/event/worship-service-137/
LOCATION:East Lincoln Alliance Church\, 735 70th Avenue\, Amery\, WI\, 54001\, United States
END:VEVENT
BEGIN:VEVENT
DTSTART;TZID=UTC:20250204T183000
DTEND;TZID=UTC:20250204T193000
DTSTAMP:20260425T143341
CREATED:20241118T163244Z
LAST-MODIFIED:20241118T163244Z
UID:9959-1738693800-1738697400@eastlincolnalliance.com
SUMMARY:Prayer Gathering
DESCRIPTION:All are invited to join as we pray for each other\, our community and world.  Every Tuesday\, 6:30pm
URL:https://eastlincolnalliance.com/event/prayer-gathering-46/
LOCATION:East Lincoln Alliance Church\, 735 70th Avenue\, Amery\, WI\, 54001\, United States
END:VEVENT
BEGIN:VEVENT
DTSTART;TZID=UTC:20250205T151500
DTEND;TZID=UTC:20250205T163000
DTSTAMP:20260425T143341
CREATED:20250418T184619Z
LAST-MODIFIED:20250418T184619Z
UID:10436-1738768500-1738773000@eastlincolnalliance.com
SUMMARY:After School Good News Club
DESCRIPTION:After School Good News Club starts on Wednesday\, September 11th at Lien Elementary School (Amery) right after school (3:15pm) until 4:30pm and will continue every Wednesday that Amery Schools are in session. \nGood News Club is open to students Kindergarten to 5th grade. Students attending the Intermediate School should ride the transfer bus to the Elementary School. Registration Forms must be filled out (below).   Questions? Contact Mary Schussman. \neastlincolnalliance.com/ninja-forms/10okpn/
URL:https://eastlincolnalliance.com/event/after-school-good-news-club-72/
LOCATION:Lien Elementary School\, 469 Minneapolis Ave S\, Amery\, WI\, 54001\, United States
END:VEVENT
BEGIN:VEVENT
DTSTART;TZID=UTC:20250205T180000
DTEND;TZID=UTC:20250205T200000
DTSTAMP:20260425T143341
CREATED:20241227T225937Z
LAST-MODIFIED:20241227T225937Z
UID:10078-1738778400-1738785600@eastlincolnalliance.com
SUMMARY:Son Seekers
DESCRIPTION:Son Seekers is a program for K-5th graders.  Programming is 6-8pm every Wednesday at East Lincoln Alliance Church. We will have games\, stories\, songs\, crafts.
URL:https://eastlincolnalliance.com/event/son-seekers-38/
LOCATION:East Lincoln Alliance Church\, 735 70th Avenue\, Amery\, WI\, 54001\, United States
END:VEVENT
BEGIN:VEVENT
DTSTART;TZID=UTC:20250205T180000
DTEND;TZID=UTC:20250205T200000
DTSTAMP:20260425T143341
CREATED:20241227T231133Z
LAST-MODIFIED:20241227T231133Z
UID:10112-1738778400-1738785600@eastlincolnalliance.com
SUMMARY:Recharge
DESCRIPTION:All students 6-12th grade are invited to attend.  Make sure to invite your friends!
URL:https://eastlincolnalliance.com/event/recharge-101/
LOCATION:East Lincoln Alliance Church\, 735 70th Avenue\, Amery\, WI\, 54001\, United States
END:VEVENT
BEGIN:VEVENT
DTSTART;TZID=UTC:20250207T080000
DTEND;TZID=UTC:20250208T170000
DTSTAMP:20260425T143341
CREATED:20250113T190803Z
LAST-MODIFIED:20250113T190803Z
UID:10145-1738915200-1739034000@eastlincolnalliance.com
SUMMARY:Elder Retreat
DESCRIPTION:
URL:https://eastlincolnalliance.com/event/elder-retreat-2/
LOCATION:WI
END:VEVENT
BEGIN:VEVENT
DTSTART;TZID=UTC:20250207T180000
DTEND;TZID=UTC:20250207T210000
DTSTAMP:20260425T143341
CREATED:20250117T185938Z
LAST-MODIFIED:20250124T211233Z
UID:10162-1738951200-1738962000@eastlincolnalliance.com
SUMMARY:ELAC Ladies Winter Refresher
DESCRIPTION:All women are invited to the Winter Refresher on Friday\, February 7th \n6-9pm at ELAC. Join us for a meal\, friendship\, inspiration and fun! The \ntheme for this year is Behold God and Build One Another Up In Love.
URL:https://eastlincolnalliance.com/event/elac-ladies-winter-refresher/
LOCATION:East Lincoln Alliance Church\, 735 70th Avenue\, Amery\, WI\, 54001\, United States
END:VEVENT
BEGIN:VEVENT
DTSTART;TZID=UTC:20250209T084500
DTEND;TZID=UTC:20250209T094500
DTSTAMP:20260425T143341
CREATED:20241216T164145Z
LAST-MODIFIED:20241216T164145Z
UID:10014-1739090700-1739094300@eastlincolnalliance.com
SUMMARY:Discipleship Hour
DESCRIPTION:Join us for Discipleship Hour from 8:45-9:45am.  All 6th grade and up are invited.
URL:https://eastlincolnalliance.com/event/discipleship-hour-41/
LOCATION:East Lincoln Alliance Church\, 735 70th Avenue\, Amery\, WI\, 54001\, United States
END:VEVENT
BEGIN:VEVENT
DTSTART;TZID=UTC:20250209T100000
DTEND;TZID=UTC:20250209T111500
DTSTAMP:20260425T143341
CREATED:20241216T174743Z
LAST-MODIFIED:20241216T174743Z
UID:10042-1739095200-1739099700@eastlincolnalliance.com
SUMMARY:Worship Service
DESCRIPTION:We welcome you to our regular worship service every Sunday @ 10:00am.\n\n\n\nWe offer the following services for kids during the Worship Service: \nEarly Childhood care for 1-3 year olds in the East Wing \n4 years old-Kindergarten in the West Wing (Discovery Land) \n1st-5th Grade in the East Wing (Discovery Land)
URL:https://eastlincolnalliance.com/event/worship-service-140/
LOCATION:East Lincoln Alliance Church\, 735 70th Avenue\, Amery\, WI\, 54001\, United States
END:VEVENT
BEGIN:VEVENT
DTSTART;TZID=UTC:20250209T113000
DTEND;TZID=UTC:20250209T140000
DTSTAMP:20260425T143341
CREATED:20241223T173208Z
LAST-MODIFIED:20241223T173208Z
UID:10059-1739100600-1739109600@eastlincolnalliance.com
SUMMARY:Annual Meeting & Potluck
DESCRIPTION:Please plan to attend East Lincoln Alliance Church’s annual meeting on Sunday\, February 9th. \nWe will enjoy a potluck meal together before the meeting. Culinary committee #3 is in charge of the culinary needs for the meeting. \nAnnual reports will be in your church mailbox on Sunday\, January 26th.
URL:https://eastlincolnalliance.com/event/annual-meeting-potluck-3/
LOCATION:East Lincoln Alliance Church\, 735 70th Avenue\, Amery\, WI\, 54001\, United States
END:VEVENT
BEGIN:VEVENT
DTSTART;TZID=UTC:20250211T183000
DTEND;TZID=UTC:20250211T193000
DTSTAMP:20260425T143341
CREATED:20241118T163352Z
LAST-MODIFIED:20241118T163352Z
UID:9961-1739298600-1739302200@eastlincolnalliance.com
SUMMARY:Prayer Gathering
DESCRIPTION:All are invited to join as we pray for each other\, our community and world.  Every Tuesday\, 6:30pm
URL:https://eastlincolnalliance.com/event/prayer-gathering-47/
LOCATION:East Lincoln Alliance Church\, 735 70th Avenue\, Amery\, WI\, 54001\, United States
END:VEVENT
BEGIN:VEVENT
DTSTART;TZID=UTC:20250212T151500
DTEND;TZID=UTC:20250212T163000
DTSTAMP:20260425T143341
CREATED:20250418T184701Z
LAST-MODIFIED:20250418T184701Z
UID:10438-1739373300-1739377800@eastlincolnalliance.com
SUMMARY:After School Good News Club
DESCRIPTION:After School Good News Club starts on Wednesday\, September 11th at Lien Elementary School (Amery) right after school (3:15pm) until 4:30pm and will continue every Wednesday that Amery Schools are in session. \nGood News Club is open to students Kindergarten to 5th grade. Students attending the Intermediate School should ride the transfer bus to the Elementary School. Registration Forms must be filled out (below).   Questions? Contact Mary Schussman. \neastlincolnalliance.com/ninja-forms/10okpn/
URL:https://eastlincolnalliance.com/event/after-school-good-news-club-73/
LOCATION:Lien Elementary School\, 469 Minneapolis Ave S\, Amery\, WI\, 54001\, United States
END:VEVENT
END:VCALENDAR