BEGIN:VCALENDAR
VERSION:2.0
PRODID:-//East Lincoln Alliance Church - ECPv6.15.20//NONSGML v1.0//EN
CALSCALE:GREGORIAN
METHOD:PUBLISH
X-WR-CALNAME:East Lincoln Alliance Church
X-ORIGINAL-URL:https://eastlincolnalliance.com
X-WR-CALDESC:Events for East Lincoln Alliance Church
REFRESH-INTERVAL;VALUE=DURATION:PT1H
X-Robots-Tag:noindex
X-PUBLISHED-TTL:PT1H
BEGIN:VTIMEZONE
TZID:UTC
BEGIN:STANDARD
TZOFFSETFROM:+0000
TZOFFSETTO:+0000
TZNAME:UTC
DTSTART:20220101T000000
END:STANDARD
END:VTIMEZONE
BEGIN:VEVENT
DTSTART;TZID=UTC:20231105T083000
DTEND;TZID=UTC:20231105T093000
DTSTAMP:20260426T003740
CREATED:20230919T141348Z
LAST-MODIFIED:20230919T141348Z
UID:8707-1699173000-1699176600@eastlincolnalliance.com
SUMMARY:Men's Breakfast
DESCRIPTION:1st Sunday of every month.
URL:https://eastlincolnalliance.com/event/mens-breakfast-2/
LOCATION:East Lincoln Alliance Church\, 735 70th Avenue\, Amery\, WI\, 54001\, United States
END:VEVENT
BEGIN:VEVENT
DTSTART;TZID=UTC:20231104T110000
DTEND;TZID=UTC:20231104T140000
DTSTAMP:20260426T003740
CREATED:20230915T191638Z
LAST-MODIFIED:20231014T193008Z
UID:8691-1699095600-1699106400@eastlincolnalliance.com
SUMMARY:Beginning Sewing
DESCRIPTION:Rosemary Sheffel is offering beginning sewing every Saturday at the church. Please\, no youth under 12. Sewing machines are available\, but if you have one\, please bring it.  We will be making pillowcase dresses for little girls in Uganda.  Rosemary will bring the dresses with her when she travels to Uganda in January. \nIf you have any pillowcases to donate or are interested in joining\, please contact Rosemary.  (715) 220-8924 \nClass size is limited.
URL:https://eastlincolnalliance.com/event/beginning-sewing-4/
LOCATION:East Lincoln Alliance Church\, 735 70th Avenue\, Amery\, WI\, 54001\, United States
END:VEVENT
BEGIN:VEVENT
DTSTART;TZID=UTC:20231101T180000
DTEND;TZID=UTC:20231101T200000
DTSTAMP:20260426T003740
CREATED:20230821T163626Z
LAST-MODIFIED:20230821T163626Z
UID:8472-1698861600-1698868800@eastlincolnalliance.com
SUMMARY:SonSeekers
DESCRIPTION:SonSeekers is a program for K-5th graders. We will be learning the 40 names of God. Programming will be from 6-8pm every Wednesday at East Lincoln Alliance Church. We will have games\, stories\, songs\, crafts.\nCost is $20 per child\, with a max amount of $40 per family
URL:https://eastlincolnalliance.com/event/sonseekers-9/
LOCATION:East Lincoln Alliance Church\, 735 70th Avenue\, Amery\, WI\, 54001\, United States
END:VEVENT
BEGIN:VEVENT
DTSTART;TZID=UTC:20231101T180000
DTEND;TZID=UTC:20231101T200000
DTSTAMP:20260426T003740
CREATED:20230821T153345Z
LAST-MODIFIED:20230821T153345Z
UID:8404-1698861600-1698868800@eastlincolnalliance.com
SUMMARY:Recharge/Youth Group
DESCRIPTION:All students 6-12th grade are invited to attend.  Make sure to invite your friends!
URL:https://eastlincolnalliance.com/event/recharge-youth-group-41/
LOCATION:East Lincoln Alliance Church\, 735 70th Avenue\, Amery\, WI\, 54001\, United States
END:VEVENT
BEGIN:VEVENT
DTSTART;TZID=UTC:20231101T151500
DTEND;TZID=UTC:20231101T163000
DTSTAMP:20260426T003740
CREATED:20230821T154246Z
LAST-MODIFIED:20230821T154246Z
UID:8435-1698851700-1698856200@eastlincolnalliance.com
SUMMARY:After School Good News Club
DESCRIPTION:After School Good News Club will be at Lien Elementary School (Amery) every Wednesday right after school until 4:30pm.  This is open to students Kindergarten to 5th grade.  Students attending the Intermediate School should ride the transfer bus to the Elementary School. Parent permission slips must be filled out.  Forms can be found here: Parent Permission Form \n*Note – if Amery Schools are closed on a Wednesday\, there will be no GNC
URL:https://eastlincolnalliance.com/event/after-school-good-news-club-42/
LOCATION:Lien Elementary School\, 469 Minneapolis Ave S\, Amery\, WI\, 54001\, United States
END:VEVENT
BEGIN:VEVENT
DTSTART;TZID=UTC:20231101T090000
DTEND;TZID=UTC:20231101T160000
DTSTAMP:20260426T003740
CREATED:20231030T145915Z
LAST-MODIFIED:20231030T145915Z
UID:8756-1698829200-1698854400@eastlincolnalliance.com
SUMMARY:Women's Craft Day
DESCRIPTION:Women are invited to join on Wednesday\, November 1st from 9am-4pm for a day of crafting and fellowship. Bring whatever project you are working on\, or just come and visit! We will be meeting at Bonnie Williamson’s. Pack a lunch.\nContact Julie Anderson if you have questions or would like to host a craft day. 715-607-8022
URL:https://eastlincolnalliance.com/event/womens-craft-day-23/
LOCATION:Vern & Bonnie Williamson\, 759 Golf Way\, Amery\, WI\, 54001\, United States
END:VEVENT
BEGIN:VEVENT
DTSTART;TZID=UTC:20231031T083000
DTEND;TZID=UTC:20231031T143000
DTSTAMP:20260426T003740
CREATED:20230821T165307Z
LAST-MODIFIED:20230821T165307Z
UID:8504-1698741000-1698762600@eastlincolnalliance.com
SUMMARY:Homeschool Co-op Classes
DESCRIPTION:
URL:https://eastlincolnalliance.com/event/homeschool-co-op-classes-9/
LOCATION:East Lincoln Alliance Church\, 735 70th Avenue\, Amery\, WI\, 54001\, United States
END:VEVENT
BEGIN:VEVENT
DTSTART;TZID=UTC:20231029T113000
DTEND;TZID=UTC:20231029T123000
DTSTAMP:20260426T003740
CREATED:20231014T193353Z
LAST-MODIFIED:20231014T193353Z
UID:8736-1698579000-1698582600@eastlincolnalliance.com
SUMMARY:Single Women's Fellowship
DESCRIPTION:All single women are invited to join on Sunday\, October 29th at 11:30am at ELAC for a potluck and time of fellowship.
URL:https://eastlincolnalliance.com/event/single-womens-fellowship-10/
LOCATION:East Lincoln Alliance Church\, 735 70th Avenue\, Amery\, WI\, 54001\, United States
END:VEVENT
BEGIN:VEVENT
DTSTART;TZID=UTC:20231029T110000
DTEND;TZID=UTC:20231029T123000
DTSTAMP:20260426T003740
CREATED:20230904T154835Z
LAST-MODIFIED:20230904T154835Z
UID:8646-1698577200-1698582600@eastlincolnalliance.com
SUMMARY:"How To..." Sunday Study
DESCRIPTION:Beginning Sunday\, September 10th 11am-12:30pm Perry Anderson\, Barry Iverson and a few “special guests” will be facilitating a study on different “how to” topics. This class will be in a discussion format and is intended for ages 6th grade to adult. We will meet in the East Wing Youth/Discovery Land Room. \nEach topic will be discussed for 2 or more weeks. On the first Sunday of each topic\, the group will discuss the topic. Each participant is invited to study\, explore\, ask questions of others regarding the topic to share the following week. Participants present can suggest and vote for the topic for the day and offer suggestions for future studies. Likely scenario will be that we study the topics in order of interest.
URL:https://eastlincolnalliance.com/event/how-to-sunday-study-8/
LOCATION:East Lincoln Alliance Church\, 735 70th Avenue\, Amery\, WI\, 54001\, United States
END:VEVENT
BEGIN:VEVENT
DTSTART;TZID=UTC:20231029T110000
DTEND;TZID=UTC:20231029T113000
DTSTAMP:20260426T003740
CREATED:20231014T193315Z
LAST-MODIFIED:20231014T193315Z
UID:8734-1698577200-1698579000@eastlincolnalliance.com
SUMMARY:Hymn Sing
DESCRIPTION:Join us for a Hymn Sing on Sunday\, October 29th\, 11-11:30am.
URL:https://eastlincolnalliance.com/event/hymn-sing-11/
LOCATION:East Lincoln Alliance Church\, 735 70th Avenue\, Amery\, WI\, 54001\, United States
END:VEVENT
BEGIN:VEVENT
DTSTART;TZID=UTC:20231029T093000
DTEND;TZID=UTC:20231029T110000
DTSTAMP:20260426T003740
CREATED:20230904T155351Z
LAST-MODIFIED:20230904T155351Z
UID:8656-1698571800-1698577200@eastlincolnalliance.com
SUMMARY:Worship Service
DESCRIPTION:We welcome you to our regular worship service every Sunday @ 9:30am. \nWe offer the following services for kids during the Worship Service: \nEarly Childhood care for 1-3 year olds in the East Wing \n4 years old-Kindergarten in the West Wing (Discovery Land) \n1st-5th Grade in the East Wing (Discovery Land)
URL:https://eastlincolnalliance.com/event/worship-service-73/
LOCATION:East Lincoln Alliance Church\, 735 70th Avenue\, Amery\, WI\, 54001\, United States
END:VEVENT
BEGIN:VEVENT
DTSTART;TZID=UTC:20231028T110000
DTEND;TZID=UTC:20231028T140000
DTSTAMP:20260426T003740
CREATED:20231014T192809Z
LAST-MODIFIED:20231014T192851Z
UID:8725-1698490800-1698501600@eastlincolnalliance.com
SUMMARY:Beginning Sewing
DESCRIPTION:Rosemary Sheffel is offering beginning sewing every Saturday at the church. Please\, no youth under 12. Sewing machines are available\, but if you have one\, please bring it.  We will be making pillowcase dresses for little girls in Uganda.  Rosemary will bring the dresses with her when she travels to Uganda in January. \nIf you have any pillowcases to donate or are interested in joining\, please contact Rosemary.  (715) 220-8924 \nClass size is limited.
URL:https://eastlincolnalliance.com/event/beginning-sewing-7/
LOCATION:East Lincoln Alliance Church\, 735 70th Avenue\, Amery\, WI\, 54001\, United States
END:VEVENT
BEGIN:VEVENT
DTSTART;TZID=UTC:20231025T180000
DTEND;TZID=UTC:20231025T200000
DTSTAMP:20260426T003740
CREATED:20230821T163604Z
LAST-MODIFIED:20230821T163604Z
UID:8470-1698256800-1698264000@eastlincolnalliance.com
SUMMARY:SonSeekers
DESCRIPTION:SonSeekers is a program for K-5th graders. We will be learning the 40 names of God. Programming will be from 6-8pm every Wednesday at East Lincoln Alliance Church. We will have games\, stories\, songs\, crafts.\nCost is $20 per child\, with a max amount of $40 per family
URL:https://eastlincolnalliance.com/event/sonseekers-8/
LOCATION:East Lincoln Alliance Church\, 735 70th Avenue\, Amery\, WI\, 54001\, United States
END:VEVENT
BEGIN:VEVENT
DTSTART;TZID=UTC:20231025T180000
DTEND;TZID=UTC:20231025T200000
DTSTAMP:20260426T003740
CREATED:20230821T153258Z
LAST-MODIFIED:20230821T153258Z
UID:8402-1698256800-1698264000@eastlincolnalliance.com
SUMMARY:Recharge/Youth Group
DESCRIPTION:All students 6-12th grade are invited to attend.  Make sure to invite your friends!
URL:https://eastlincolnalliance.com/event/recharge-youth-group-40/
LOCATION:East Lincoln Alliance Church\, 735 70th Avenue\, Amery\, WI\, 54001\, United States
END:VEVENT
BEGIN:VEVENT
DTSTART;TZID=UTC:20231025T151500
DTEND;TZID=UTC:20231025T163000
DTSTAMP:20260426T003740
CREATED:20230821T154204Z
LAST-MODIFIED:20230821T154204Z
UID:8433-1698246900-1698251400@eastlincolnalliance.com
SUMMARY:After School Good News Club
DESCRIPTION:After School Good News Club will be at Lien Elementary School (Amery) every Wednesday right after school until 4:30pm.  This is open to students Kindergarten to 5th grade.  Students attending the Intermediate School should ride the transfer bus to the Elementary School. Parent permission slips must be filled out.  Forms can be found here: Parent Permission Form \n*Note – if Amery Schools are closed on a Wednesday\, there will be no GNC
URL:https://eastlincolnalliance.com/event/after-school-good-news-club-41/
LOCATION:Lien Elementary School\, 469 Minneapolis Ave S\, Amery\, WI\, 54001\, United States
END:VEVENT
BEGIN:VEVENT
DTSTART;TZID=UTC:20231024T083000
DTEND;TZID=UTC:20231024T143000
DTSTAMP:20260426T003740
CREATED:20230821T165248Z
LAST-MODIFIED:20230821T165248Z
UID:8502-1698136200-1698157800@eastlincolnalliance.com
SUMMARY:Homeschool Co-op Classes
DESCRIPTION:
URL:https://eastlincolnalliance.com/event/homeschool-co-op-classes-8/
LOCATION:East Lincoln Alliance Church\, 735 70th Avenue\, Amery\, WI\, 54001\, United States
END:VEVENT
BEGIN:VEVENT
DTSTART;TZID=UTC:20231022T110000
DTEND;TZID=UTC:20231022T123000
DTSTAMP:20260426T003740
CREATED:20230904T154803Z
LAST-MODIFIED:20230904T154803Z
UID:8644-1697972400-1697977800@eastlincolnalliance.com
SUMMARY:"How To..." Sunday Study
DESCRIPTION:Beginning Sunday\, September 10th 11am-12:30pm Perry Anderson\, Barry Iverson and a few “special guests” will be facilitating a study on different “how to” topics. This class will be in a discussion format and is intended for ages 6th grade to adult. We will meet in the East Wing Youth/Discovery Land Room. \nEach topic will be discussed for 2 or more weeks. On the first Sunday of each topic\, the group will discuss the topic. Each participant is invited to study\, explore\, ask questions of others regarding the topic to share the following week. Participants present can suggest and vote for the topic for the day and offer suggestions for future studies. Likely scenario will be that we study the topics in order of interest.
URL:https://eastlincolnalliance.com/event/how-to-sunday-study-7/
LOCATION:East Lincoln Alliance Church\, 735 70th Avenue\, Amery\, WI\, 54001\, United States
END:VEVENT
BEGIN:VEVENT
DTSTART;TZID=UTC:20231022T093000
DTEND;TZID=UTC:20231022T110000
DTSTAMP:20260426T003740
CREATED:20230904T155314Z
LAST-MODIFIED:20230904T155314Z
UID:8654-1697967000-1697972400@eastlincolnalliance.com
SUMMARY:Worship Service
DESCRIPTION:We welcome you to our regular worship service every Sunday @ 9:30am. \nWe offer the following services for kids during the Worship Service: \nEarly Childhood care for 1-3 year olds in the East Wing \n4 years old-Kindergarten in the West Wing (Discovery Land) \n1st-5th Grade in the East Wing (Discovery Land)
URL:https://eastlincolnalliance.com/event/worship-service-72/
LOCATION:East Lincoln Alliance Church\, 735 70th Avenue\, Amery\, WI\, 54001\, United States
END:VEVENT
BEGIN:VEVENT
DTSTART;TZID=UTC:20231021T180000
DTEND;TZID=UTC:20231021T200000
DTSTAMP:20260426T003740
CREATED:20231014T194453Z
LAST-MODIFIED:20231014T194453Z
UID:8742-1697911200-1697918400@eastlincolnalliance.com
SUMMARY:Underground Church
DESCRIPTION:All youth 6th-12th grade are invited to a multi-church Underground Church event on Saturday\, October 21st 6-8pm at 498 45th Ave\, Clear Lake. Carpool if possible\, parking is limited. Wear weather-appropriate clothing that can get dirty and bring a flashlight.
URL:https://eastlincolnalliance.com/event/underground-church/
LOCATION:WI
END:VEVENT
BEGIN:VEVENT
DTSTART;TZID=UTC:20231021T110000
DTEND;TZID=UTC:20231021T140000
DTSTAMP:20260426T003740
CREATED:20230915T191604Z
LAST-MODIFIED:20231014T192923Z
UID:8689-1697886000-1697896800@eastlincolnalliance.com
SUMMARY:Beginning Sewing
DESCRIPTION:Rosemary Sheffel is offering beginning sewing every Saturday at the church. Please\, no youth under 12. Sewing machines are available\, but if you have one\, please bring it.  We will be making pillowcase dresses for little girls in Uganda.  Rosemary will bring the dresses with her when she travels to Uganda in January. \nIf you have any pillowcases to donate or are interested in joining\, please contact Rosemary.  (715) 220-8924 \nClass size is limited.
URL:https://eastlincolnalliance.com/event/beginning-sewing-3/
LOCATION:East Lincoln Alliance Church\, 735 70th Avenue\, Amery\, WI\, 54001\, United States
END:VEVENT
BEGIN:VEVENT
DTSTART;TZID=UTC:20231020T090000
DTEND;TZID=UTC:20231020T120000
DTSTAMP:20260426T003740
CREATED:20230904T151108Z
LAST-MODIFIED:20230904T151108Z
UID:8600-1697792400-1697803200@eastlincolnalliance.com
SUMMARY:Homeschool Co-op
DESCRIPTION:
URL:https://eastlincolnalliance.com/event/homeschool-co-op-4/
LOCATION:East Lincoln Alliance Church\, 735 70th Avenue\, Amery\, WI\, 54001\, United States
END:VEVENT
BEGIN:VEVENT
DTSTART;TZID=UTC:20231018T180000
DTEND;TZID=UTC:20231018T200000
DTSTAMP:20260426T003740
CREATED:20230821T163521Z
LAST-MODIFIED:20230821T163521Z
UID:8468-1697652000-1697659200@eastlincolnalliance.com
SUMMARY:SonSeekers
DESCRIPTION:SonSeekers is a program for K-5th graders. We will be learning the 40 names of God. Programming will be from 6-8pm every Wednesday at East Lincoln Alliance Church. We will have games\, stories\, songs\, crafts.\nCost is $20 per child\, with a max amount of $40 per family
URL:https://eastlincolnalliance.com/event/sonseekers-7/
LOCATION:East Lincoln Alliance Church\, 735 70th Avenue\, Amery\, WI\, 54001\, United States
END:VEVENT
BEGIN:VEVENT
DTSTART;TZID=UTC:20231018T180000
DTEND;TZID=UTC:20231018T200000
DTSTAMP:20260426T003740
CREATED:20230821T153232Z
LAST-MODIFIED:20230821T153232Z
UID:8400-1697652000-1697659200@eastlincolnalliance.com
SUMMARY:Recharge/Youth Group
DESCRIPTION:All students 6-12th grade are invited to attend.  Make sure to invite your friends!
URL:https://eastlincolnalliance.com/event/recharge-youth-group-39/
LOCATION:East Lincoln Alliance Church\, 735 70th Avenue\, Amery\, WI\, 54001\, United States
END:VEVENT
BEGIN:VEVENT
DTSTART;TZID=UTC:20231018T151500
DTEND;TZID=UTC:20231018T163000
DTSTAMP:20260426T003740
CREATED:20230821T154134Z
LAST-MODIFIED:20230821T154134Z
UID:8431-1697642100-1697646600@eastlincolnalliance.com
SUMMARY:After School Good News Club
DESCRIPTION:After School Good News Club will be at Lien Elementary School (Amery) every Wednesday right after school until 4:30pm.  This is open to students Kindergarten to 5th grade.  Students attending the Intermediate School should ride the transfer bus to the Elementary School. Parent permission slips must be filled out.  Forms can be found here: Parent Permission Form \n*Note – if Amery Schools are closed on a Wednesday\, there will be no GNC
URL:https://eastlincolnalliance.com/event/after-school-good-news-club-40/
LOCATION:Lien Elementary School\, 469 Minneapolis Ave S\, Amery\, WI\, 54001\, United States
END:VEVENT
BEGIN:VEVENT
DTSTART;TZID=UTC:20231017T083000
DTEND;TZID=UTC:20231017T143000
DTSTAMP:20260426T003740
CREATED:20230821T165226Z
LAST-MODIFIED:20230821T165226Z
UID:8500-1697531400-1697553000@eastlincolnalliance.com
SUMMARY:Homeschool Co-op Classes
DESCRIPTION:
URL:https://eastlincolnalliance.com/event/homeschool-co-op-classes-7/
LOCATION:East Lincoln Alliance Church\, 735 70th Avenue\, Amery\, WI\, 54001\, United States
END:VEVENT
BEGIN:VEVENT
DTSTART;TZID=UTC:20231015T110000
DTEND;TZID=UTC:20231015T123000
DTSTAMP:20260426T003740
CREATED:20230904T154741Z
LAST-MODIFIED:20230904T154741Z
UID:8642-1697367600-1697373000@eastlincolnalliance.com
SUMMARY:"How To..." Sunday Study
DESCRIPTION:Beginning Sunday\, September 10th 11am-12:30pm Perry Anderson\, Barry Iverson and a few “special guests” will be facilitating a study on different “how to” topics. This class will be in a discussion format and is intended for ages 6th grade to adult. We will meet in the East Wing Youth/Discovery Land Room. \nEach topic will be discussed for 2 or more weeks. On the first Sunday of each topic\, the group will discuss the topic. Each participant is invited to study\, explore\, ask questions of others regarding the topic to share the following week. Participants present can suggest and vote for the topic for the day and offer suggestions for future studies. Likely scenario will be that we study the topics in order of interest.
URL:https://eastlincolnalliance.com/event/how-to-sunday-study-6/
LOCATION:East Lincoln Alliance Church\, 735 70th Avenue\, Amery\, WI\, 54001\, United States
END:VEVENT
BEGIN:VEVENT
DTSTART;TZID=UTC:20231015T093000
DTEND;TZID=UTC:20231015T110000
DTSTAMP:20260426T003740
CREATED:20230904T155256Z
LAST-MODIFIED:20230904T155256Z
UID:8652-1697362200-1697367600@eastlincolnalliance.com
SUMMARY:Worship Service
DESCRIPTION:We welcome you to our regular worship service every Sunday @ 9:30am. \nWe offer the following services for kids during the Worship Service: \nEarly Childhood care for 1-3 year olds in the East Wing \n4 years old-Kindergarten in the West Wing (Discovery Land) \n1st-5th Grade in the East Wing (Discovery Land)
URL:https://eastlincolnalliance.com/event/worship-service-71/
LOCATION:East Lincoln Alliance Church\, 735 70th Avenue\, Amery\, WI\, 54001\, United States
END:VEVENT
BEGIN:VEVENT
DTSTART;TZID=UTC:20231014T110000
DTEND;TZID=UTC:20231014T220000
DTSTAMP:20260426T003740
CREATED:20230703T133350Z
LAST-MODIFIED:20230703T133350Z
UID:8336-1697281200-1697320800@eastlincolnalliance.com
SUMMARY:Church Rented for outside organization
DESCRIPTION:
URL:https://eastlincolnalliance.com/event/church-rented-for-outside-organization/
LOCATION:East Lincoln Alliance Church\, 735 70th Avenue\, Amery\, WI\, 54001\, United States
END:VEVENT
BEGIN:VEVENT
DTSTART;TZID=UTC:20231013T090000
DTEND;TZID=UTC:20231013T120000
DTSTAMP:20260426T003740
CREATED:20230904T151052Z
LAST-MODIFIED:20230904T151052Z
UID:8598-1697187600-1697198400@eastlincolnalliance.com
SUMMARY:Homeschool Co-op
DESCRIPTION:
URL:https://eastlincolnalliance.com/event/homeschool-co-op-3/
LOCATION:East Lincoln Alliance Church\, 735 70th Avenue\, Amery\, WI\, 54001\, United States
END:VEVENT
BEGIN:VEVENT
DTSTART;TZID=UTC:20231011T180000
DTEND;TZID=UTC:20231011T200000
DTSTAMP:20260426T003740
CREATED:20230821T163500Z
LAST-MODIFIED:20230821T163500Z
UID:8466-1697047200-1697054400@eastlincolnalliance.com
SUMMARY:SonSeekers
DESCRIPTION:SonSeekers is a program for K-5th graders. We will be learning the 40 names of God. Programming will be from 6-8pm every Wednesday at East Lincoln Alliance Church. We will have games\, stories\, songs\, crafts.\nCost is $20 per child\, with a max amount of $40 per family
URL:https://eastlincolnalliance.com/event/sonseekers-6/
LOCATION:East Lincoln Alliance Church\, 735 70th Avenue\, Amery\, WI\, 54001\, United States
END:VEVENT
END:VCALENDAR