BEGIN:VCALENDAR
VERSION:2.0
PRODID:-//East Lincoln Alliance Church - ECPv6.15.20//NONSGML v1.0//EN
CALSCALE:GREGORIAN
METHOD:PUBLISH
X-ORIGINAL-URL:https://eastlincolnalliance.com
X-WR-CALDESC:Events for East Lincoln Alliance Church
REFRESH-INTERVAL;VALUE=DURATION:PT1H
X-Robots-Tag:noindex
X-PUBLISHED-TTL:PT1H
BEGIN:VTIMEZONE
TZID:UTC
BEGIN:STANDARD
TZOFFSETFROM:+0000
TZOFFSETTO:+0000
TZNAME:UTC
DTSTART:20230101T000000
END:STANDARD
END:VTIMEZONE
BEGIN:VEVENT
DTSTART;TZID=UTC:20241229T120000
DTEND;TZID=UTC:20241229T130000
DTSTAMP:20260425T110228
CREATED:20241216T160258Z
LAST-MODIFIED:20241216T160258Z
UID:9998-1735473600-1735477200@eastlincolnalliance.com
SUMMARY:Single Women's Fellowship
DESCRIPTION:All single women are invited to join on Sunday\, December 29th at noon at ELAC for a potluck and time of fellowship.
URL:https://eastlincolnalliance.com/event/single-womens-fellowship-19/
LOCATION:East Lincoln Alliance Church\, 735 70th Avenue\, Amery\, WI\, 54001\, United States
END:VEVENT
BEGIN:VEVENT
DTSTART;TZID=UTC:20241230T180000
DTEND;TZID=UTC:20241230T203000
DTSTAMP:20260425T110228
CREATED:20240819T220656Z
LAST-MODIFIED:20240819T220656Z
UID:9691-1735581600-1735590600@eastlincolnalliance.com
SUMMARY:Bible Quiz Practice
DESCRIPTION:Junior quizzing 6-7pm (5th grade and younger) \nRegular quizzing 7-8:30pm (6th-12th grade) \nWhether you’re a seasoned quizzing champion or new to the world of Bible trivia\, this event promises fun and friendly competition. Come challenge your knowledge\, deepen your understanding of Scripture\, and connect with fellow Bible enthusiasts.
URL:https://eastlincolnalliance.com/event/bible-quiz-practice-18/
LOCATION:East Lincoln Alliance Church\, 735 70th Avenue\, Amery\, WI\, 54001\, United States
END:VEVENT
BEGIN:VEVENT
DTSTART;TZID=UTC:20250105T073000
DTEND;TZID=UTC:20250105T083000
DTSTAMP:20260425T110228
CREATED:20241216T160354Z
LAST-MODIFIED:20241216T160354Z
UID:10000-1736062200-1736065800@eastlincolnalliance.com
SUMMARY:Men's Breakfast
DESCRIPTION:First Sunday of the month. \nThe next Men’s Breakfast is Sunday\, January 5th at 7:30am. \nAll men & boys are invited to attend!  Contact Aaron Wagner if you have questions.
URL:https://eastlincolnalliance.com/event/mens-breakfast-14/
LOCATION:East Lincoln Alliance Church\, 735 70th Avenue\, Amery\, WI\, 54001\, United States
END:VEVENT
BEGIN:VEVENT
DTSTART;TZID=UTC:20250105T084500
DTEND;TZID=UTC:20250105T094500
DTSTAMP:20260425T110228
CREATED:20241216T160801Z
LAST-MODIFIED:20241216T160801Z
UID:10004-1736066700-1736070300@eastlincolnalliance.com
SUMMARY:Discipleship Hour
DESCRIPTION:Join us for Discipleship Hour from 8:45-9:45am.  All 6th grade and up are invited.
URL:https://eastlincolnalliance.com/event/discipleship-hour-36/
LOCATION:East Lincoln Alliance Church\, 735 70th Avenue\, Amery\, WI\, 54001\, United States
END:VEVENT
BEGIN:VEVENT
DTSTART;TZID=UTC:20250105T100000
DTEND;TZID=UTC:20250105T111500
DTSTAMP:20260425T110228
CREATED:20241216T174348Z
LAST-MODIFIED:20241216T174348Z
UID:10028-1736071200-1736075700@eastlincolnalliance.com
SUMMARY:Worship Service
DESCRIPTION:We welcome you to our regular worship service every Sunday @ 10:00am.\n\n\n\nWe offer the following services for kids during the Worship Service: \nEarly Childhood care for 1-3 year olds in the East Wing \n4 years old-Kindergarten in the West Wing (Discovery Land) \n1st-5th Grade in the East Wing (Discovery Land)
URL:https://eastlincolnalliance.com/event/worship-service-133/
LOCATION:East Lincoln Alliance Church\, 735 70th Avenue\, Amery\, WI\, 54001\, United States
END:VEVENT
BEGIN:VEVENT
DTSTART;TZID=UTC:20250106T180000
DTEND;TZID=UTC:20250106T203000
DTSTAMP:20260425T110228
CREATED:20240819T220724Z
LAST-MODIFIED:20240819T220724Z
UID:9693-1736186400-1736195400@eastlincolnalliance.com
SUMMARY:Bible Quiz Practice
DESCRIPTION:Junior quizzing 6-7pm (5th grade and younger) \nRegular quizzing 7-8:30pm (6th-12th grade) \nWhether you’re a seasoned quizzing champion or new to the world of Bible trivia\, this event promises fun and friendly competition. Come challenge your knowledge\, deepen your understanding of Scripture\, and connect with fellow Bible enthusiasts.
URL:https://eastlincolnalliance.com/event/bible-quiz-practice-19/
LOCATION:East Lincoln Alliance Church\, 735 70th Avenue\, Amery\, WI\, 54001\, United States
END:VEVENT
BEGIN:VEVENT
DTSTART;TZID=UTC:20250107T183000
DTEND;TZID=UTC:20250107T193000
DTSTAMP:20260425T110228
CREATED:20241118T163035Z
LAST-MODIFIED:20241118T163035Z
UID:9951-1736274600-1736278200@eastlincolnalliance.com
SUMMARY:Prayer Gathering
DESCRIPTION:All are invited to join as we pray for each other\, our community and world.  Every Tuesday\, 6:30pm
URL:https://eastlincolnalliance.com/event/prayer-gathering-42/
LOCATION:East Lincoln Alliance Church\, 735 70th Avenue\, Amery\, WI\, 54001\, United States
END:VEVENT
BEGIN:VEVENT
DTSTART;TZID=UTC:20250108T180000
DTEND;TZID=UTC:20250108T200000
DTSTAMP:20260425T110228
CREATED:20241227T225736Z
LAST-MODIFIED:20241227T225736Z
UID:10070-1736359200-1736366400@eastlincolnalliance.com
SUMMARY:Son Seekers
DESCRIPTION:Son Seekers is a program for K-5th graders.  Programming is 6-8pm every Wednesday at East Lincoln Alliance Church. We will have games\, stories\, songs\, crafts.
URL:https://eastlincolnalliance.com/event/son-seekers-34/
LOCATION:East Lincoln Alliance Church\, 735 70th Avenue\, Amery\, WI\, 54001\, United States
END:VEVENT
BEGIN:VEVENT
DTSTART;TZID=UTC:20250108T180000
DTEND;TZID=UTC:20250108T200000
DTSTAMP:20260425T110228
CREATED:20241227T230750Z
LAST-MODIFIED:20241227T230750Z
UID:10104-1736359200-1736366400@eastlincolnalliance.com
SUMMARY:Recharge
DESCRIPTION:All students 6-12th grade are invited to attend.  Make sure to invite your friends!
URL:https://eastlincolnalliance.com/event/recharge-97/
LOCATION:East Lincoln Alliance Church\, 735 70th Avenue\, Amery\, WI\, 54001\, United States
END:VEVENT
BEGIN:VEVENT
DTSTART;TZID=UTC:20250110T103000
DTEND;TZID=UTC:20250112T150000
DTSTAMP:20260425T110228
CREATED:20250106T164909Z
LAST-MODIFIED:20250106T164909Z
UID:10135-1736505000-1736694000@eastlincolnalliance.com
SUMMARY:Districts Youth Conference
DESCRIPTION:Green Bay\, WI
URL:https://eastlincolnalliance.com/event/districts-youth-conference-3/
LOCATION:WI
END:VEVENT
BEGIN:VEVENT
DTSTART;TZID=UTC:20250112T084500
DTEND;TZID=UTC:20250112T094500
DTSTAMP:20260425T110228
CREATED:20241216T160827Z
LAST-MODIFIED:20241216T160827Z
UID:10006-1736671500-1736675100@eastlincolnalliance.com
SUMMARY:Discipleship Hour
DESCRIPTION:Join us for Discipleship Hour from 8:45-9:45am.  All 6th grade and up are invited.
URL:https://eastlincolnalliance.com/event/discipleship-hour-37/
LOCATION:East Lincoln Alliance Church\, 735 70th Avenue\, Amery\, WI\, 54001\, United States
END:VEVENT
BEGIN:VEVENT
DTSTART;TZID=UTC:20250112T100000
DTEND;TZID=UTC:20250112T111500
DTSTAMP:20260425T110228
CREATED:20241216T174417Z
LAST-MODIFIED:20241216T174417Z
UID:10030-1736676000-1736680500@eastlincolnalliance.com
SUMMARY:Worship Service
DESCRIPTION:We welcome you to our regular worship service every Sunday @ 10:00am.\n\n\n\nWe offer the following services for kids during the Worship Service: \nEarly Childhood care for 1-3 year olds in the East Wing \n4 years old-Kindergarten in the West Wing (Discovery Land) \n1st-5th Grade in the East Wing (Discovery Land)
URL:https://eastlincolnalliance.com/event/worship-service-134/
LOCATION:East Lincoln Alliance Church\, 735 70th Avenue\, Amery\, WI\, 54001\, United States
END:VEVENT
BEGIN:VEVENT
DTSTART;TZID=UTC:20250113T180000
DTEND;TZID=UTC:20250113T203000
DTSTAMP:20260425T110228
CREATED:20240819T220746Z
LAST-MODIFIED:20240819T220746Z
UID:9695-1736791200-1736800200@eastlincolnalliance.com
SUMMARY:Bible Quiz Practice
DESCRIPTION:Junior quizzing 6-7pm (5th grade and younger) \nRegular quizzing 7-8:30pm (6th-12th grade) \nWhether you’re a seasoned quizzing champion or new to the world of Bible trivia\, this event promises fun and friendly competition. Come challenge your knowledge\, deepen your understanding of Scripture\, and connect with fellow Bible enthusiasts.
URL:https://eastlincolnalliance.com/event/bible-quiz-practice-20/
LOCATION:East Lincoln Alliance Church\, 735 70th Avenue\, Amery\, WI\, 54001\, United States
END:VEVENT
BEGIN:VEVENT
DTSTART;TZID=UTC:20250114T183000
DTEND;TZID=UTC:20250114T193000
DTSTAMP:20260425T110228
CREATED:20241118T163057Z
LAST-MODIFIED:20241118T163057Z
UID:9953-1736879400-1736883000@eastlincolnalliance.com
SUMMARY:Prayer Gathering
DESCRIPTION:All are invited to join as we pray for each other\, our community and world.  Every Tuesday\, 6:30pm
URL:https://eastlincolnalliance.com/event/prayer-gathering-43/
LOCATION:East Lincoln Alliance Church\, 735 70th Avenue\, Amery\, WI\, 54001\, United States
END:VEVENT
BEGIN:VEVENT
DTSTART;TZID=UTC:20250115T180000
DTEND;TZID=UTC:20250115T200000
DTSTAMP:20260425T110228
CREATED:20241227T225757Z
LAST-MODIFIED:20241227T225757Z
UID:10072-1736964000-1736971200@eastlincolnalliance.com
SUMMARY:Son Seekers
DESCRIPTION:Son Seekers is a program for K-5th graders.  Programming is 6-8pm every Wednesday at East Lincoln Alliance Church. We will have games\, stories\, songs\, crafts.
URL:https://eastlincolnalliance.com/event/son-seekers-35/
LOCATION:East Lincoln Alliance Church\, 735 70th Avenue\, Amery\, WI\, 54001\, United States
END:VEVENT
BEGIN:VEVENT
DTSTART;TZID=UTC:20250115T180000
DTEND;TZID=UTC:20250115T200000
DTSTAMP:20260425T110228
CREATED:20241227T231033Z
LAST-MODIFIED:20241227T231033Z
UID:10106-1736964000-1736971200@eastlincolnalliance.com
SUMMARY:Recharge
DESCRIPTION:All students 6-12th grade are invited to attend.  Make sure to invite your friends!
URL:https://eastlincolnalliance.com/event/recharge-98/
LOCATION:East Lincoln Alliance Church\, 735 70th Avenue\, Amery\, WI\, 54001\, United States
END:VEVENT
BEGIN:VEVENT
DTSTART;TZID=UTC:20250118T120000
DTEND;TZID=UTC:20250118T130000
DTSTAMP:20260425T110228
CREATED:20241223T172922Z
LAST-MODIFIED:20241223T172922Z
UID:10055-1737201600-1737205200@eastlincolnalliance.com
SUMMARY:Hi-Rise Meal
DESCRIPTION:We will be serving our monthly meal to the residents of the Amery Hi-Rise on Saturday\, January 18th at 12pm. Any questions\, contact Kim Davis at 320-266-4859 or any of the planning team.
URL:https://eastlincolnalliance.com/event/hi-rise-meal-2/
LOCATION:WI
END:VEVENT
BEGIN:VEVENT
DTSTART;TZID=UTC:20250119T084500
DTEND;TZID=UTC:20250119T094500
DTSTAMP:20260425T110228
CREATED:20241216T160850Z
LAST-MODIFIED:20241216T160850Z
UID:10008-1737276300-1737279900@eastlincolnalliance.com
SUMMARY:Discipleship Hour
DESCRIPTION:Join us for Discipleship Hour from 8:45-9:45am.  All 6th grade and up are invited.
URL:https://eastlincolnalliance.com/event/discipleship-hour-38/
LOCATION:East Lincoln Alliance Church\, 735 70th Avenue\, Amery\, WI\, 54001\, United States
END:VEVENT
BEGIN:VEVENT
DTSTART;TZID=UTC:20250119T100000
DTEND;TZID=UTC:20250119T111500
DTSTAMP:20260425T110228
CREATED:20241216T174630Z
LAST-MODIFIED:20241216T174630Z
UID:10038-1737280800-1737285300@eastlincolnalliance.com
SUMMARY:Worship Service
DESCRIPTION:We welcome you to our regular worship service every Sunday @ 10:00am.\n\n\n\nWe offer the following services for kids during the Worship Service: \nEarly Childhood care for 1-3 year olds in the East Wing \n4 years old-Kindergarten in the West Wing (Discovery Land) \n1st-5th Grade in the East Wing (Discovery Land)
URL:https://eastlincolnalliance.com/event/worship-service-138/
LOCATION:East Lincoln Alliance Church\, 735 70th Avenue\, Amery\, WI\, 54001\, United States
END:VEVENT
BEGIN:VEVENT
DTSTART;TZID=UTC:20250119T113000
DTEND;TZID=UTC:20250119T133000
DTSTAMP:20260425T110228
CREATED:20241223T173001Z
LAST-MODIFIED:20241223T173001Z
UID:10057-1737286200-1737293400@eastlincolnalliance.com
SUMMARY:Winter Potluck
DESCRIPTION:We are excited to invite you to our annual Winter Potluck after the service on Sunday\, January 19th. This is a wonderful opportunity to gather together in warmth and fellowship\, share a meal\, and celebrate the season. \nPlease bring a dish to share. See you there!
URL:https://eastlincolnalliance.com/event/winter-potluck-2/
LOCATION:East Lincoln Alliance Church\, 735 70th Avenue\, Amery\, WI\, 54001\, United States
END:VEVENT
BEGIN:VEVENT
DTSTART;TZID=UTC:20250119T113000
DTEND;TZID=UTC:20250119T140000
DTSTAMP:20260425T110228
CREATED:20241216T160605Z
LAST-MODIFIED:20241216T160605Z
UID:10002-1737286200-1737295200@eastlincolnalliance.com
SUMMARY:Winter Potluck
DESCRIPTION:  \n❄️ Join Us for a Cozy Winter Potluck Meal! ❄️ \nWarm up your heart and your stomach this season at our Church Winter Potluck on Sunday\, January 19th after church! 🥘✨ \nBring your favorite dish to share\, and let’s enjoy a feast of delicious homemade meals together! Whether it’s soup\, casserole\, or dessert\, we can’t wait to try your specialty and celebrate the season of warmth\, community\, and joy. ❤️ \nCulinary Group #2 is in charge of the potluck duties.
URL:https://eastlincolnalliance.com/event/winter-potluck/
LOCATION:East Lincoln Alliance Church\, 735 70th Avenue\, Amery\, WI\, 54001\, United States
END:VEVENT
BEGIN:VEVENT
DTSTART;TZID=UTC:20250120T180000
DTEND;TZID=UTC:20250120T203000
DTSTAMP:20260425T110228
CREATED:20240819T220809Z
LAST-MODIFIED:20240819T220809Z
UID:9697-1737396000-1737405000@eastlincolnalliance.com
SUMMARY:Bible Quiz Practice
DESCRIPTION:Junior quizzing 6-7pm (5th grade and younger) \nRegular quizzing 7-8:30pm (6th-12th grade) \nWhether you’re a seasoned quizzing champion or new to the world of Bible trivia\, this event promises fun and friendly competition. Come challenge your knowledge\, deepen your understanding of Scripture\, and connect with fellow Bible enthusiasts.
URL:https://eastlincolnalliance.com/event/bible-quiz-practice-21/
LOCATION:East Lincoln Alliance Church\, 735 70th Avenue\, Amery\, WI\, 54001\, United States
END:VEVENT
BEGIN:VEVENT
DTSTART;TZID=UTC:20250120T180000
DTEND;TZID=UTC:20250120T203000
DTSTAMP:20260425T110228
CREATED:20250113T190852Z
LAST-MODIFIED:20250113T190852Z
UID:10147-1737396000-1737405000@eastlincolnalliance.com
SUMMARY:Elder Meeting
DESCRIPTION:
URL:https://eastlincolnalliance.com/event/elder-meeting-7/
LOCATION:WI
END:VEVENT
BEGIN:VEVENT
DTSTART;TZID=UTC:20250121T183000
DTEND;TZID=UTC:20250121T193000
DTSTAMP:20260425T110228
CREATED:20241118T163120Z
LAST-MODIFIED:20241118T163120Z
UID:9955-1737484200-1737487800@eastlincolnalliance.com
SUMMARY:Prayer Gathering
DESCRIPTION:All are invited to join as we pray for each other\, our community and world.  Every Tuesday\, 6:30pm
URL:https://eastlincolnalliance.com/event/prayer-gathering-44/
LOCATION:East Lincoln Alliance Church\, 735 70th Avenue\, Amery\, WI\, 54001\, United States
END:VEVENT
BEGIN:VEVENT
DTSTART;TZID=UTC:20250122T090000
DTEND;TZID=UTC:20250122T160000
DTSTAMP:20260425T110228
CREATED:20250117T185814Z
LAST-MODIFIED:20250117T185814Z
UID:10160-1737536400-1737561600@eastlincolnalliance.com
SUMMARY:Women's Craft Day
DESCRIPTION:Women are invited to join on Wednesday\, January 22nd 9am-4pm for a day of crafting and fellowship.  Bring whatever project you are working on\, or just come and visit!  We will be meeting at Wendy Bachman’s.  Pack a lunch. \nContact Julie Anderson if you have questions or would like to host a craft day. 715-607-8022
URL:https://eastlincolnalliance.com/event/womens-craft-day-31/
LOCATION:Wendy Bachman’s
END:VEVENT
BEGIN:VEVENT
DTSTART;TZID=UTC:20250122T180000
DTEND;TZID=UTC:20250122T200000
DTSTAMP:20260425T110228
CREATED:20241227T225850Z
LAST-MODIFIED:20241227T225850Z
UID:10074-1737568800-1737576000@eastlincolnalliance.com
SUMMARY:Son Seekers
DESCRIPTION:Son Seekers is a program for K-5th graders.  Programming is 6-8pm every Wednesday at East Lincoln Alliance Church. We will have games\, stories\, songs\, crafts.
URL:https://eastlincolnalliance.com/event/son-seekers-36/
LOCATION:East Lincoln Alliance Church\, 735 70th Avenue\, Amery\, WI\, 54001\, United States
END:VEVENT
BEGIN:VEVENT
DTSTART;TZID=UTC:20250122T180000
DTEND;TZID=UTC:20250122T200000
DTSTAMP:20260425T110228
CREATED:20241227T231055Z
LAST-MODIFIED:20241227T231055Z
UID:10108-1737568800-1737576000@eastlincolnalliance.com
SUMMARY:Recharge
DESCRIPTION:All students 6-12th grade are invited to attend.  Make sure to invite your friends!
URL:https://eastlincolnalliance.com/event/recharge-99/
LOCATION:East Lincoln Alliance Church\, 735 70th Avenue\, Amery\, WI\, 54001\, United States
END:VEVENT
BEGIN:VEVENT
DTSTART;TZID=UTC:20250126T084500
DTEND;TZID=UTC:20250126T094500
DTSTAMP:20260425T110228
CREATED:20241216T160917Z
LAST-MODIFIED:20241216T160917Z
UID:10010-1737881100-1737884700@eastlincolnalliance.com
SUMMARY:Discipleship Hour
DESCRIPTION:Join us for Discipleship Hour from 8:45-9:45am.  All 6th grade and up are invited.
URL:https://eastlincolnalliance.com/event/discipleship-hour-39/
LOCATION:East Lincoln Alliance Church\, 735 70th Avenue\, Amery\, WI\, 54001\, United States
END:VEVENT
BEGIN:VEVENT
DTSTART;TZID=UTC:20250126T100000
DTEND;TZID=UTC:20250126T111500
DTSTAMP:20260425T110228
CREATED:20241216T174544Z
LAST-MODIFIED:20241216T174544Z
UID:10034-1737885600-1737890100@eastlincolnalliance.com
SUMMARY:Worship Service
DESCRIPTION:We welcome you to our regular worship service every Sunday @ 10:00am.\n\n\n\nWe offer the following services for kids during the Worship Service: \nEarly Childhood care for 1-3 year olds in the East Wing \n4 years old-Kindergarten in the West Wing (Discovery Land) \n1st-5th Grade in the East Wing (Discovery Land)
URL:https://eastlincolnalliance.com/event/worship-service-136/
LOCATION:East Lincoln Alliance Church\, 735 70th Avenue\, Amery\, WI\, 54001\, United States
END:VEVENT
BEGIN:VEVENT
DTSTART;TZID=UTC:20250126T113000
DTEND;TZID=UTC:20250126T120000
DTSTAMP:20260425T110228
CREATED:20250120T185126Z
LAST-MODIFIED:20250120T185126Z
UID:10203-1737891000-1737892800@eastlincolnalliance.com
SUMMARY:Hymn Sing
DESCRIPTION:Join us for a Hymn Sing on Sunday\, January 26th\, 11:30am-12pm.
URL:https://eastlincolnalliance.com/event/hymn-sing-21/
LOCATION:East Lincoln Alliance Church\, 735 70th Avenue\, Amery\, WI\, 54001\, United States
END:VEVENT
END:VCALENDAR