BEGIN:VCALENDAR
VERSION:2.0
PRODID:-//East Lincoln Alliance Church - ECPv6.15.20//NONSGML v1.0//EN
CALSCALE:GREGORIAN
METHOD:PUBLISH
X-ORIGINAL-URL:https://eastlincolnalliance.com
X-WR-CALDESC:Events for East Lincoln Alliance Church
REFRESH-INTERVAL;VALUE=DURATION:PT1H
X-Robots-Tag:noindex
X-PUBLISHED-TTL:PT1H
BEGIN:VTIMEZONE
TZID:UTC
BEGIN:STANDARD
TZOFFSETFROM:+0000
TZOFFSETTO:+0000
TZNAME:UTC
DTSTART:20230101T000000
END:STANDARD
END:VTIMEZONE
BEGIN:VEVENT
DTSTART;TZID=UTC:20240922T084500
DTEND;TZID=UTC:20240922T094500
DTSTAMP:20260425T145321
CREATED:20240722T150040Z
LAST-MODIFIED:20240722T150040Z
UID:9533-1726994700-1726998300@eastlincolnalliance.com
SUMMARY:Discipleship Hour
DESCRIPTION:Join us for Discipleship Hour from 8:45-9:45am.  All 6th grade and up are invited.
URL:https://eastlincolnalliance.com/event/discipleship-hour-20/
LOCATION:East Lincoln Alliance Church\, 735 70th Avenue\, Amery\, WI\, 54001\, United States
END:VEVENT
BEGIN:VEVENT
DTSTART;TZID=UTC:20240922T100000
DTEND;TZID=UTC:20240922T111500
DTSTAMP:20260425T145321
CREATED:20240722T150512Z
LAST-MODIFIED:20240722T150512Z
UID:9551-1726999200-1727003700@eastlincolnalliance.com
SUMMARY:Worship Service
DESCRIPTION:We welcome you to our regular worship service every Sunday @ 10:00am.\n\n\n\nWe offer the following services for kids during the Worship Service: \nEarly Childhood care for 1-3 year olds in the East Wing \n4 years old-Kindergarten in the West Wing (Discovery Land) \n1st-5th Grade in the East Wing (Discovery Land)
URL:https://eastlincolnalliance.com/event/worship-service-118/
LOCATION:East Lincoln Alliance Church\, 735 70th Avenue\, Amery\, WI\, 54001\, United States
END:VEVENT
BEGIN:VEVENT
DTSTART;TZID=UTC:20240922T113000
DTEND;TZID=UTC:20240922T130000
DTSTAMP:20260425T145321
CREATED:20240909T141416Z
LAST-MODIFIED:20240909T141416Z
UID:9774-1727004600-1727010000@eastlincolnalliance.com
SUMMARY:Annual Child/Youth Volunteer Safety Training
DESCRIPTION:All who volunteer with ELAC youth and/or Children’s Ministry are required to attend our annual Safety Training on Sunday\, September 22nd\, 11:30am.  Refreshments will be provided.  Contact the church office if you have questions or are unable to attend.
URL:https://eastlincolnalliance.com/event/annual-child-youth-volunteer-safety-training/
LOCATION:East Lincoln Alliance Church\, 735 70th Avenue\, Amery\, WI\, 54001\, United States
END:VEVENT
BEGIN:VEVENT
DTSTART;TZID=UTC:20240923T084500
DTEND;TZID=UTC:20240923T094500
DTSTAMP:20260425T145321
CREATED:20240923T151357Z
LAST-MODIFIED:20240923T151357Z
UID:9792-1727081100-1727084700@eastlincolnalliance.com
SUMMARY:Discipleship Hour
DESCRIPTION:Join us for Discipleship Hour from 8:45-9:45am.  All 6th grade and up are invited.
URL:https://eastlincolnalliance.com/event/discipleship-hour-23/
LOCATION:East Lincoln Alliance Church\, 735 70th Avenue\, Amery\, WI\, 54001\, United States
END:VEVENT
BEGIN:VEVENT
DTSTART;TZID=UTC:20240923T180000
DTEND;TZID=UTC:20240923T203000
DTSTAMP:20260425T145321
CREATED:20240819T215941Z
LAST-MODIFIED:20240819T215941Z
UID:9663-1727114400-1727123400@eastlincolnalliance.com
SUMMARY:Bible Quiz Practice
DESCRIPTION:Junior quizzing 6-7pm (5th grade and younger) \nRegular quizzing 7-8:30pm (6th-12th grade) \nWhether you’re a seasoned quizzing champion or new to the world of Bible trivia\, this event promises fun and friendly competition. Come challenge your knowledge\, deepen your understanding of Scripture\, and connect with fellow Bible enthusiasts.
URL:https://eastlincolnalliance.com/event/bible-quiz-practice-4/
LOCATION:East Lincoln Alliance Church\, 735 70th Avenue\, Amery\, WI\, 54001\, United States
END:VEVENT
BEGIN:VEVENT
DTSTART;TZID=UTC:20240925T073000
DTEND;TZID=UTC:20240925T080000
DTSTAMP:20260425T145321
CREATED:20240916T161051Z
LAST-MODIFIED:20240916T161051Z
UID:9782-1727249400-1727251200@eastlincolnalliance.com
SUMMARY:See You at the Pole
DESCRIPTION:The annual See You at the Pole event is Wednesday\, September 25th at 7:30am.  Encourage your middle and/or high school student(s) to join fellow classmates at their school’s flagpole to uplift their friends\, families\, teachers\, school and nation to God.  This is a student-led event.  There will be donuts and refreshments to enjoy during the event. \nLocations: Amery Middle School & Amery High School
URL:https://eastlincolnalliance.com/event/see-you-at-the-pole-2/
LOCATION:WI
END:VEVENT
BEGIN:VEVENT
DTSTART;TZID=UTC:20240925T151500
DTEND;TZID=UTC:20240925T163000
DTSTAMP:20260425T145321
CREATED:20240907T155615Z
LAST-MODIFIED:20240907T155615Z
UID:9735-1727277300-1727281800@eastlincolnalliance.com
SUMMARY:After School Good News Club
DESCRIPTION:After School Good News Club starts on Wednesday\, September 11th at Lien Elementary School (Amery) right after school (3:15pm) until 4:30pm and will continue every Wednesday that Amery Schools are in session. \nGood News Club is open to students Kindergarten to 5th grade. Students attending the Intermediate School should ride the transfer bus to the Elementary School. Registration Forms must be filled out (below).   Questions? Contact Mary Schussman. \neastlincolnalliance.com/ninja-forms/10okpn/
URL:https://eastlincolnalliance.com/event/after-school-good-news-club-61/
LOCATION:Lien Elementary School\, 469 Minneapolis Ave S\, Amery\, WI\, 54001\, United States
END:VEVENT
BEGIN:VEVENT
DTSTART;TZID=UTC:20240925T180000
DTEND;TZID=UTC:20240925T200000
DTSTAMP:20260425T145321
CREATED:20240805T141653Z
LAST-MODIFIED:20240805T141653Z
UID:9576-1727287200-1727294400@eastlincolnalliance.com
SUMMARY:Recharge
DESCRIPTION:All students 6-12th grade are invited to attend.  Make sure to invite your friends!
URL:https://eastlincolnalliance.com/event/recharge-85/
LOCATION:East Lincoln Alliance Church\, 735 70th Avenue\, Amery\, WI\, 54001\, United States
END:VEVENT
BEGIN:VEVENT
DTSTART;TZID=UTC:20240925T180000
DTEND;TZID=UTC:20240925T200000
DTSTAMP:20260425T145321
CREATED:20240805T142539Z
LAST-MODIFIED:20240805T142539Z
UID:9604-1727287200-1727294400@eastlincolnalliance.com
SUMMARY:Son Seekers
DESCRIPTION:Son Seekers is a program for K-5th graders.  Programming is 6-8pm every Wednesday at East Lincoln Alliance Church. We will have games\, stories\, songs\, crafts.
URL:https://eastlincolnalliance.com/event/son-seekers-22/
LOCATION:East Lincoln Alliance Church\, 735 70th Avenue\, Amery\, WI\, 54001\, United States
END:VEVENT
BEGIN:VEVENT
DTSTART;VALUE=DATE:20240926
DTEND;VALUE=DATE:20240930
DTSTAMP:20260425T145321
CREATED:20240909T140041Z
LAST-MODIFIED:20240909T140041Z
UID:9770-1727308800-1727654399@eastlincolnalliance.com
SUMMARY:Fall Conference
DESCRIPTION:We have invited Mike & Ruth to be our guests for our Fall Conference this year.  Check out all the great events we have available to allow Mike & Ruth to share their story. \nEvents are as follows: \n\nThursday\, September 26th @ 6pm – Men’s/Boy’s Beast Feast with Mike *Please note – according to our food safety guidelines\, please cook meat to an internal temp of 160 degrees (no pink) for this event.\nFriday\, September 27th @ 7pm – All Church Family Night Concert/Testimony with “Call to Missions” at ELAC with ice cream sundaes after the service. All are invited!\nSaturday\, September 28th @ 10am Woman’s event with Ruth. Message by Ruth “From Flip Flops to High Heels.” Serving muffins\, sweet bread and fruit.\nSunday\, September 29th @ 10:00am – Mike will preach\, Ruth will be invited to speak to Discovery Land. Potluck meal to follow the service.\n\n  \nIf you would be willing to host Mike & Ruth for a meal to learn more about the work they are doing\, there is a sign-up sheet at the Information Table in the Fellowship Hall.
URL:https://eastlincolnalliance.com/event/fall-conference-5/
LOCATION:WI
END:VEVENT
BEGIN:VEVENT
DTSTART;TZID=UTC:20240926T180000
DTEND;TZID=UTC:20240926T200000
DTSTAMP:20260425T145321
CREATED:20240909T135733Z
LAST-MODIFIED:20240909T135733Z
UID:9764-1727373600-1727380800@eastlincolnalliance.com
SUMMARY:Men's Beast Feast
DESCRIPTION:All boys/men are invited to hear our international worker Mike speak.  Bring your favorite wild game dish to share or if that’s not your thing\, bring a side dish to share!
URL:https://eastlincolnalliance.com/event/mens-beast-feast/
LOCATION:East Lincoln Alliance Church\, 735 70th Avenue\, Amery\, WI\, 54001\, United States
END:VEVENT
BEGIN:VEVENT
DTSTART;TZID=UTC:20240927T190000
DTEND;TZID=UTC:20240927T203000
DTSTAMP:20260425T145321
CREATED:20240909T135826Z
LAST-MODIFIED:20240909T135826Z
UID:9766-1727463600-1727469000@eastlincolnalliance.com
SUMMARY:Family Night Concert/Testimony
DESCRIPTION:All Church Family Night Concert/Testimony with “Call to Missions” at ELAC with ice cream sundaes after the service. All are invited!
URL:https://eastlincolnalliance.com/event/family-night-concert-testimony/
LOCATION:East Lincoln Alliance Church\, 735 70th Avenue\, Amery\, WI\, 54001\, United States
END:VEVENT
BEGIN:VEVENT
DTSTART;TZID=UTC:20240928T100000
DTEND;TZID=UTC:20240928T120000
DTSTAMP:20260425T145321
CREATED:20240909T135907Z
LAST-MODIFIED:20240909T135907Z
UID:9768-1727517600-1727524800@eastlincolnalliance.com
SUMMARY:Women's Gathering
DESCRIPTION:Woman’s event with Ruth. Message by Ruth “From Flip Flops to High Heels.” Serving muffins\, sweet bread and fruit.
URL:https://eastlincolnalliance.com/event/womens-gathering-2/
LOCATION:East Lincoln Alliance Church\, 735 70th Avenue\, Amery\, WI\, 54001\, United States
END:VEVENT
BEGIN:VEVENT
DTSTART;TZID=UTC:20240929T084500
DTEND;TZID=UTC:20240929T094500
DTSTAMP:20260425T145321
CREATED:20240722T150111Z
LAST-MODIFIED:20240722T150111Z
UID:9535-1727599500-1727603100@eastlincolnalliance.com
SUMMARY:Discipleship Hour
DESCRIPTION:Join us for Discipleship Hour from 8:45-9:45am.  All 6th grade and up are invited.
URL:https://eastlincolnalliance.com/event/discipleship-hour-21/
LOCATION:East Lincoln Alliance Church\, 735 70th Avenue\, Amery\, WI\, 54001\, United States
END:VEVENT
BEGIN:VEVENT
DTSTART;TZID=UTC:20240929T100000
DTEND;TZID=UTC:20240929T111500
DTSTAMP:20260425T145321
CREATED:20240722T150541Z
LAST-MODIFIED:20240722T150541Z
UID:9553-1727604000-1727608500@eastlincolnalliance.com
SUMMARY:Worship Service
DESCRIPTION:We welcome you to our regular worship service every Sunday @ 10:00am.\n\n\n\nWe offer the following services for kids during the Worship Service: \nEarly Childhood care for 1-3 year olds in the East Wing \n4 years old-Kindergarten in the West Wing (Discovery Land) \n1st-5th Grade in the East Wing (Discovery Land)
URL:https://eastlincolnalliance.com/event/worship-service-119/
LOCATION:East Lincoln Alliance Church\, 735 70th Avenue\, Amery\, WI\, 54001\, United States
END:VEVENT
BEGIN:VEVENT
DTSTART;TZID=UTC:20240929T113000
DTEND;TZID=UTC:20240929T133000
DTSTAMP:20260425T145321
CREATED:20240909T140128Z
LAST-MODIFIED:20240909T140128Z
UID:9772-1727609400-1727616600@eastlincolnalliance.com
SUMMARY:Fall Conference Potluck Meal
DESCRIPTION:All are invited to join us for a potluck meal.
URL:https://eastlincolnalliance.com/event/fall-conference-potluck-meal/
LOCATION:East Lincoln Alliance Church\, 735 70th Avenue\, Amery\, WI\, 54001\, United States
END:VEVENT
BEGIN:VEVENT
DTSTART;TZID=UTC:20240930T180000
DTEND;TZID=UTC:20240930T203000
DTSTAMP:20260425T145321
CREATED:20240819T220007Z
LAST-MODIFIED:20240819T220007Z
UID:9665-1727719200-1727728200@eastlincolnalliance.com
SUMMARY:Bible Quiz Practice
DESCRIPTION:Junior quizzing 6-7pm (5th grade and younger) \nRegular quizzing 7-8:30pm (6th-12th grade) \nWhether you’re a seasoned quizzing champion or new to the world of Bible trivia\, this event promises fun and friendly competition. Come challenge your knowledge\, deepen your understanding of Scripture\, and connect with fellow Bible enthusiasts.
URL:https://eastlincolnalliance.com/event/bible-quiz-practice-5/
LOCATION:East Lincoln Alliance Church\, 735 70th Avenue\, Amery\, WI\, 54001\, United States
END:VEVENT
BEGIN:VEVENT
DTSTART;TZID=UTC:20241002T151500
DTEND;TZID=UTC:20241002T163000
DTSTAMP:20260425T145321
CREATED:20240907T155644Z
LAST-MODIFIED:20240907T155644Z
UID:9737-1727882100-1727886600@eastlincolnalliance.com
SUMMARY:After School Good News Club
DESCRIPTION:After School Good News Club starts on Wednesday\, September 11th at Lien Elementary School (Amery) right after school (3:15pm) until 4:30pm and will continue every Wednesday that Amery Schools are in session. \nGood News Club is open to students Kindergarten to 5th grade. Students attending the Intermediate School should ride the transfer bus to the Elementary School. Registration Forms must be filled out (below).   Questions? Contact Mary Schussman. \neastlincolnalliance.com/ninja-forms/10okpn/
URL:https://eastlincolnalliance.com/event/after-school-good-news-club-62/
LOCATION:Lien Elementary School\, 469 Minneapolis Ave S\, Amery\, WI\, 54001\, United States
END:VEVENT
BEGIN:VEVENT
DTSTART;TZID=UTC:20241002T180000
DTEND;TZID=UTC:20241002T200000
DTSTAMP:20260425T145321
CREATED:20240805T141908Z
LAST-MODIFIED:20240805T141908Z
UID:9578-1727892000-1727899200@eastlincolnalliance.com
SUMMARY:Recharge
DESCRIPTION:All students 6-12th grade are invited to attend.  Make sure to invite your friends!
URL:https://eastlincolnalliance.com/event/recharge-86/
LOCATION:East Lincoln Alliance Church\, 735 70th Avenue\, Amery\, WI\, 54001\, United States
END:VEVENT
BEGIN:VEVENT
DTSTART;TZID=UTC:20241002T180000
DTEND;TZID=UTC:20241002T200000
DTSTAMP:20260425T145321
CREATED:20240805T142600Z
LAST-MODIFIED:20240805T142600Z
UID:9606-1727892000-1727899200@eastlincolnalliance.com
SUMMARY:Son Seekers
DESCRIPTION:Son Seekers is a program for K-5th graders.  Programming is 6-8pm every Wednesday at East Lincoln Alliance Church. We will have games\, stories\, songs\, crafts.
URL:https://eastlincolnalliance.com/event/son-seekers-23/
LOCATION:East Lincoln Alliance Church\, 735 70th Avenue\, Amery\, WI\, 54001\, United States
END:VEVENT
BEGIN:VEVENT
DTSTART;TZID=UTC:20241006T073000
DTEND;TZID=UTC:20241006T083000
DTSTAMP:20260425T145321
CREATED:20240826T132437Z
LAST-MODIFIED:20240826T132437Z
UID:9705-1728199800-1728203400@eastlincolnalliance.com
SUMMARY:Men's Breakfast
DESCRIPTION:1st Sunday of every month.  All men/boys are invited!
URL:https://eastlincolnalliance.com/event/mens-breakfast-11/
LOCATION:East Lincoln Alliance Church\, 735 70th Avenue\, Amery\, WI\, 54001\, United States
END:VEVENT
BEGIN:VEVENT
DTSTART;TZID=UTC:20241006T084500
DTEND;TZID=UTC:20241006T094500
DTSTAMP:20260425T145321
CREATED:20240923T151311Z
LAST-MODIFIED:20240923T151311Z
UID:9790-1728204300-1728207900@eastlincolnalliance.com
SUMMARY:Discipleship Hour
DESCRIPTION:Join us for Discipleship Hour from 8:45-9:45am.  All 6th grade and up are invited.
URL:https://eastlincolnalliance.com/event/discipleship-hour-22/
LOCATION:East Lincoln Alliance Church\, 735 70th Avenue\, Amery\, WI\, 54001\, United States
END:VEVENT
BEGIN:VEVENT
DTSTART;TZID=UTC:20241006T100000
DTEND;TZID=UTC:20241006T111500
DTSTAMP:20260425T145321
CREATED:20240925T204250Z
LAST-MODIFIED:20240925T204250Z
UID:9823-1728208800-1728213300@eastlincolnalliance.com
SUMMARY:Worship Service
DESCRIPTION:We welcome you to our regular worship service every Sunday @ 10:00am.\n\n\n\nWe offer the following services for kids during the Worship Service: \nEarly Childhood care for 1-3 year olds in the East Wing \n4 years old-Kindergarten in the West Wing (Discovery Land) \n1st-5th Grade in the East Wing (Discovery Land)
URL:https://eastlincolnalliance.com/event/worship-service-120/
LOCATION:East Lincoln Alliance Church\, 735 70th Avenue\, Amery\, WI\, 54001\, United States
END:VEVENT
BEGIN:VEVENT
DTSTART;TZID=UTC:20241006T113000
DTEND;TZID=UTC:20241006T120000
DTSTAMP:20260425T145321
CREATED:20241004T193725Z
LAST-MODIFIED:20241004T193725Z
UID:9855-1728214200-1728216000@eastlincolnalliance.com
SUMMARY:Hi-Rise Ministry Meeting
DESCRIPTION:Hi Rise Ministry Meeting \nWe will be having a brief meeting after church on October 6th for anyone interested in being part of the meal ministry to the residents in the Amery Hi-Rise.
URL:https://eastlincolnalliance.com/event/hi-rise-ministry-meeting/
LOCATION:East Lincoln Alliance Church\, 735 70th Avenue\, Amery\, WI\, 54001\, United States
END:VEVENT
BEGIN:VEVENT
DTSTART;TZID=UTC:20241006T113000
DTEND;TZID=UTC:20241006T140000
DTSTAMP:20260425T145321
CREATED:20240719T231012Z
LAST-MODIFIED:20240719T231012Z
UID:9515-1728214200-1728223200@eastlincolnalliance.com
SUMMARY:Baby Shower for Kayla Nelson
DESCRIPTION:Reserved by Anna Ochoa
URL:https://eastlincolnalliance.com/event/baby-shower-for-kayla-nelson/
LOCATION:East Lincoln Alliance Church\, 735 70th Avenue\, Amery\, WI\, 54001\, United States
END:VEVENT
BEGIN:VEVENT
DTSTART;TZID=UTC:20241007T180000
DTEND;TZID=UTC:20241007T203000
DTSTAMP:20260425T145321
CREATED:20240819T220047Z
LAST-MODIFIED:20240819T220047Z
UID:9667-1728324000-1728333000@eastlincolnalliance.com
SUMMARY:Bible Quiz Practice
DESCRIPTION:Junior quizzing 6-7pm (5th grade and younger) \nRegular quizzing 7-8:30pm (6th-12th grade) \nWhether you’re a seasoned quizzing champion or new to the world of Bible trivia\, this event promises fun and friendly competition. Come challenge your knowledge\, deepen your understanding of Scripture\, and connect with fellow Bible enthusiasts.
URL:https://eastlincolnalliance.com/event/bible-quiz-practice-6/
LOCATION:East Lincoln Alliance Church\, 735 70th Avenue\, Amery\, WI\, 54001\, United States
END:VEVENT
BEGIN:VEVENT
DTSTART;TZID=UTC:20241009T151500
DTEND;TZID=UTC:20241009T163000
DTSTAMP:20260425T145321
CREATED:20240907T155708Z
LAST-MODIFIED:20240907T155708Z
UID:9739-1728486900-1728491400@eastlincolnalliance.com
SUMMARY:After School Good News Club
DESCRIPTION:After School Good News Club starts on Wednesday\, September 11th at Lien Elementary School (Amery) right after school (3:15pm) until 4:30pm and will continue every Wednesday that Amery Schools are in session. \nGood News Club is open to students Kindergarten to 5th grade. Students attending the Intermediate School should ride the transfer bus to the Elementary School. Registration Forms must be filled out (below).   Questions? Contact Mary Schussman. \neastlincolnalliance.com/ninja-forms/10okpn/
URL:https://eastlincolnalliance.com/event/after-school-good-news-club-63/
LOCATION:Lien Elementary School\, 469 Minneapolis Ave S\, Amery\, WI\, 54001\, United States
END:VEVENT
BEGIN:VEVENT
DTSTART;TZID=UTC:20241009T180000
DTEND;TZID=UTC:20241009T200000
DTSTAMP:20260425T145321
CREATED:20240805T141931Z
LAST-MODIFIED:20240805T141931Z
UID:9580-1728496800-1728504000@eastlincolnalliance.com
SUMMARY:Recharge
DESCRIPTION:All students 6-12th grade are invited to attend.  Make sure to invite your friends!
URL:https://eastlincolnalliance.com/event/recharge-87/
LOCATION:East Lincoln Alliance Church\, 735 70th Avenue\, Amery\, WI\, 54001\, United States
END:VEVENT
BEGIN:VEVENT
DTSTART;TZID=UTC:20241009T180000
DTEND;TZID=UTC:20241009T200000
DTSTAMP:20260425T145321
CREATED:20240805T142632Z
LAST-MODIFIED:20240805T142632Z
UID:9608-1728496800-1728504000@eastlincolnalliance.com
SUMMARY:Son Seekers
DESCRIPTION:Son Seekers is a program for K-5th graders.  Programming is 6-8pm every Wednesday at East Lincoln Alliance Church. We will have games\, stories\, songs\, crafts.
URL:https://eastlincolnalliance.com/event/son-seekers-24/
LOCATION:East Lincoln Alliance Church\, 735 70th Avenue\, Amery\, WI\, 54001\, United States
END:VEVENT
BEGIN:VEVENT
DTSTART;TZID=UTC:20241012T130000
DTEND;TZID=UTC:20241012T160000
DTSTAMP:20260425T145321
CREATED:20240130T151743Z
LAST-MODIFIED:20241007T144921Z
UID:9052-1728738000-1728748800@eastlincolnalliance.com
SUMMARY:Raylene Anderson's 70th Birthday Party
DESCRIPTION:All are invited to celebrate Raylene’s birthday!
URL:https://eastlincolnalliance.com/event/reserved-for-raylene-andersons-70th-birthday-party/
LOCATION:East Lincoln Alliance Church\, 735 70th Avenue\, Amery\, WI\, 54001\, United States
END:VEVENT
END:VCALENDAR