BEGIN:VCALENDAR
VERSION:2.0
PRODID:-//East Lincoln Alliance Church - ECPv6.15.20//NONSGML v1.0//EN
CALSCALE:GREGORIAN
METHOD:PUBLISH
X-WR-CALNAME:East Lincoln Alliance Church
X-ORIGINAL-URL:https://eastlincolnalliance.com
X-WR-CALDESC:Events for East Lincoln Alliance Church
REFRESH-INTERVAL;VALUE=DURATION:PT1H
X-Robots-Tag:noindex
X-PUBLISHED-TTL:PT1H
BEGIN:VTIMEZONE
TZID:UTC
BEGIN:STANDARD
TZOFFSETFROM:+0000
TZOFFSETTO:+0000
TZNAME:UTC
DTSTART:20220101T000000
END:STANDARD
END:VTIMEZONE
BEGIN:VEVENT
DTSTART;TZID=UTC:20231017T083000
DTEND;TZID=UTC:20231017T143000
DTSTAMP:20260426T031643
CREATED:20230821T165226Z
LAST-MODIFIED:20230821T165226Z
UID:8500-1697531400-1697553000@eastlincolnalliance.com
SUMMARY:Homeschool Co-op Classes
DESCRIPTION:
URL:https://eastlincolnalliance.com/event/homeschool-co-op-classes-7/
LOCATION:East Lincoln Alliance Church\, 735 70th Avenue\, Amery\, WI\, 54001\, United States
END:VEVENT
BEGIN:VEVENT
DTSTART;TZID=UTC:20231015T110000
DTEND;TZID=UTC:20231015T123000
DTSTAMP:20260426T031643
CREATED:20230904T154741Z
LAST-MODIFIED:20230904T154741Z
UID:8642-1697367600-1697373000@eastlincolnalliance.com
SUMMARY:"How To..." Sunday Study
DESCRIPTION:Beginning Sunday\, September 10th 11am-12:30pm Perry Anderson\, Barry Iverson and a few “special guests” will be facilitating a study on different “how to” topics. This class will be in a discussion format and is intended for ages 6th grade to adult. We will meet in the East Wing Youth/Discovery Land Room. \nEach topic will be discussed for 2 or more weeks. On the first Sunday of each topic\, the group will discuss the topic. Each participant is invited to study\, explore\, ask questions of others regarding the topic to share the following week. Participants present can suggest and vote for the topic for the day and offer suggestions for future studies. Likely scenario will be that we study the topics in order of interest.
URL:https://eastlincolnalliance.com/event/how-to-sunday-study-6/
LOCATION:East Lincoln Alliance Church\, 735 70th Avenue\, Amery\, WI\, 54001\, United States
END:VEVENT
BEGIN:VEVENT
DTSTART;TZID=UTC:20231015T093000
DTEND;TZID=UTC:20231015T110000
DTSTAMP:20260426T031643
CREATED:20230904T155256Z
LAST-MODIFIED:20230904T155256Z
UID:8652-1697362200-1697367600@eastlincolnalliance.com
SUMMARY:Worship Service
DESCRIPTION:We welcome you to our regular worship service every Sunday @ 9:30am. \nWe offer the following services for kids during the Worship Service: \nEarly Childhood care for 1-3 year olds in the East Wing \n4 years old-Kindergarten in the West Wing (Discovery Land) \n1st-5th Grade in the East Wing (Discovery Land)
URL:https://eastlincolnalliance.com/event/worship-service-71/
LOCATION:East Lincoln Alliance Church\, 735 70th Avenue\, Amery\, WI\, 54001\, United States
END:VEVENT
BEGIN:VEVENT
DTSTART;TZID=UTC:20231014T110000
DTEND;TZID=UTC:20231014T220000
DTSTAMP:20260426T031643
CREATED:20230703T133350Z
LAST-MODIFIED:20230703T133350Z
UID:8336-1697281200-1697320800@eastlincolnalliance.com
SUMMARY:Church Rented for outside organization
DESCRIPTION:
URL:https://eastlincolnalliance.com/event/church-rented-for-outside-organization/
LOCATION:East Lincoln Alliance Church\, 735 70th Avenue\, Amery\, WI\, 54001\, United States
END:VEVENT
BEGIN:VEVENT
DTSTART;TZID=UTC:20231013T090000
DTEND;TZID=UTC:20231013T120000
DTSTAMP:20260426T031643
CREATED:20230904T151052Z
LAST-MODIFIED:20230904T151052Z
UID:8598-1697187600-1697198400@eastlincolnalliance.com
SUMMARY:Homeschool Co-op
DESCRIPTION:
URL:https://eastlincolnalliance.com/event/homeschool-co-op-3/
LOCATION:East Lincoln Alliance Church\, 735 70th Avenue\, Amery\, WI\, 54001\, United States
END:VEVENT
BEGIN:VEVENT
DTSTART;TZID=UTC:20231011T180000
DTEND;TZID=UTC:20231011T200000
DTSTAMP:20260426T031643
CREATED:20230821T163500Z
LAST-MODIFIED:20230821T163500Z
UID:8466-1697047200-1697054400@eastlincolnalliance.com
SUMMARY:SonSeekers
DESCRIPTION:SonSeekers is a program for K-5th graders. We will be learning the 40 names of God. Programming will be from 6-8pm every Wednesday at East Lincoln Alliance Church. We will have games\, stories\, songs\, crafts.\nCost is $20 per child\, with a max amount of $40 per family
URL:https://eastlincolnalliance.com/event/sonseekers-6/
LOCATION:East Lincoln Alliance Church\, 735 70th Avenue\, Amery\, WI\, 54001\, United States
END:VEVENT
BEGIN:VEVENT
DTSTART;TZID=UTC:20231011T180000
DTEND;TZID=UTC:20231011T200000
DTSTAMP:20260426T031643
CREATED:20230821T153205Z
LAST-MODIFIED:20230821T153205Z
UID:8398-1697047200-1697054400@eastlincolnalliance.com
SUMMARY:Recharge/Youth Group
DESCRIPTION:All students 6-12th grade are invited to attend.  Make sure to invite your friends!
URL:https://eastlincolnalliance.com/event/recharge-youth-group-38/
LOCATION:East Lincoln Alliance Church\, 735 70th Avenue\, Amery\, WI\, 54001\, United States
END:VEVENT
BEGIN:VEVENT
DTSTART;TZID=UTC:20231011T151500
DTEND;TZID=UTC:20231011T163000
DTSTAMP:20260426T031643
CREATED:20230821T154107Z
LAST-MODIFIED:20230821T154107Z
UID:8429-1697037300-1697041800@eastlincolnalliance.com
SUMMARY:After School Good News Club
DESCRIPTION:After School Good News Club will be at Lien Elementary School (Amery) every Wednesday right after school until 4:30pm.  This is open to students Kindergarten to 5th grade.  Students attending the Intermediate School should ride the transfer bus to the Elementary School. Parent permission slips must be filled out.  Forms can be found here: Parent Permission Form \n*Note – if Amery Schools are closed on a Wednesday\, there will be no GNC
URL:https://eastlincolnalliance.com/event/after-school-good-news-club-27/
LOCATION:Lien Elementary School\, 469 Minneapolis Ave S\, Amery\, WI\, 54001\, United States
END:VEVENT
BEGIN:VEVENT
DTSTART;TZID=UTC:20231010T083000
DTEND;TZID=UTC:20231010T143000
DTSTAMP:20260426T031643
CREATED:20230821T165203Z
LAST-MODIFIED:20230821T165203Z
UID:8498-1696926600-1696948200@eastlincolnalliance.com
SUMMARY:Homeschool Co-op Classes
DESCRIPTION:
URL:https://eastlincolnalliance.com/event/homeschool-co-op-classes-6/
LOCATION:East Lincoln Alliance Church\, 735 70th Avenue\, Amery\, WI\, 54001\, United States
END:VEVENT
BEGIN:VEVENT
DTSTART;TZID=UTC:20231008T110000
DTEND;TZID=UTC:20231008T123000
DTSTAMP:20260426T031643
CREATED:20230904T154712Z
LAST-MODIFIED:20230904T154712Z
UID:8640-1696762800-1696768200@eastlincolnalliance.com
SUMMARY:"How To..." Sunday Study
DESCRIPTION:Beginning Sunday\, September 10th 11am-12:30pm Perry Anderson\, Barry Iverson and a few “special guests” will be facilitating a study on different “how to” topics. This class will be in a discussion format and is intended for ages 6th grade to adult. We will meet in the East Wing Youth/Discovery Land Room. \nEach topic will be discussed for 2 or more weeks. On the first Sunday of each topic\, the group will discuss the topic. Each participant is invited to study\, explore\, ask questions of others regarding the topic to share the following week. Participants present can suggest and vote for the topic for the day and offer suggestions for future studies. Likely scenario will be that we study the topics in order of interest.
URL:https://eastlincolnalliance.com/event/how-to-sunday-study-5/
LOCATION:East Lincoln Alliance Church\, 735 70th Avenue\, Amery\, WI\, 54001\, United States
END:VEVENT
BEGIN:VEVENT
DTSTART;TZID=UTC:20231008T093000
DTEND;TZID=UTC:20231008T110000
DTSTAMP:20260426T031643
CREATED:20230904T155238Z
LAST-MODIFIED:20230904T155238Z
UID:8650-1696757400-1696762800@eastlincolnalliance.com
SUMMARY:Worship Service
DESCRIPTION:We welcome you to our regular worship service every Sunday @ 9:30am. \nWe offer the following services for kids during the Worship Service: \nEarly Childhood care for 1-3 year olds in the East Wing \n4 years old-Kindergarten in the West Wing (Discovery Land) \n1st-5th Grade in the East Wing (Discovery Land)
URL:https://eastlincolnalliance.com/event/worship-service-70/
LOCATION:East Lincoln Alliance Church\, 735 70th Avenue\, Amery\, WI\, 54001\, United States
END:VEVENT
BEGIN:VEVENT
DTSTART;TZID=UTC:20231008T081500
DTEND;TZID=UTC:20231008T091500
DTSTAMP:20260426T031643
CREATED:20230904T153955Z
LAST-MODIFIED:20230904T153955Z
UID:8626-1696752900-1696756500@eastlincolnalliance.com
SUMMARY:Fireside Chats
DESCRIPTION:Starting September 10th\, all women are invited to do a study on the book of Colossians. \nWe will meet in Pastor Eric’s office at church at 8:15 Sunday morning before the worship gathering. Bring a pen/pencil and a mug for coffee/tea. \nPlease let Kathy Schwanke know if you plan to attend!
URL:https://eastlincolnalliance.com/event/fireside-chats-14/
LOCATION:East Lincoln Alliance Church\, 735 70th Avenue\, Amery\, WI\, 54001\, United States
END:VEVENT
BEGIN:VEVENT
DTSTART;TZID=UTC:20231007T110000
DTEND;TZID=UTC:20231007T130000
DTSTAMP:20260426T031643
CREATED:20230915T191240Z
LAST-MODIFIED:20230915T191515Z
UID:8684-1696676400-1696683600@eastlincolnalliance.com
SUMMARY:Beginning Sewing
DESCRIPTION:Rosemary Sheffel is offering beginning sewing every other Saturday at the church. Anyone under 12 must be accompanied by an adult. Sewing machines are available\, but if you have one\, please bring it.  We will be making pillowcase dresses for little girls in Uganda.  Rosemary will bring the dresses with her when she travels to Uganda in January. \nIf you have any pillowcases to donate or are interested in joining\, please contact Rosemary.  (715) 220-8924 \nClass size is limited.
URL:https://eastlincolnalliance.com/event/beginning-sewing-2/
LOCATION:East Lincoln Alliance Church\, 735 70th Avenue\, Amery\, WI\, 54001\, United States
END:VEVENT
BEGIN:VEVENT
DTSTART;TZID=UTC:20231006T090000
DTEND;TZID=UTC:20231006T120000
DTSTAMP:20260426T031643
CREATED:20230904T151035Z
LAST-MODIFIED:20230904T151035Z
UID:8596-1696582800-1696593600@eastlincolnalliance.com
SUMMARY:Homeschool Co-op
DESCRIPTION:
URL:https://eastlincolnalliance.com/event/homeschool-co-op-2/
LOCATION:East Lincoln Alliance Church\, 735 70th Avenue\, Amery\, WI\, 54001\, United States
END:VEVENT
BEGIN:VEVENT
DTSTART;TZID=UTC:20231005T110000
DTEND;TZID=UTC:20231005T170000
DTSTAMP:20260426T031644
CREATED:20230725T213752Z
LAST-MODIFIED:20230725T213752Z
UID:8354-1696503600-1696525200@eastlincolnalliance.com
SUMMARY:Kitchen & Fellowship Hall Reserved
DESCRIPTION:Kayla Nelson
URL:https://eastlincolnalliance.com/event/kitchen-fellowship-hall-reserved/
LOCATION:East Lincoln Alliance Church\, 735 70th Avenue\, Amery\, WI\, 54001\, United States
END:VEVENT
BEGIN:VEVENT
DTSTART;TZID=UTC:20231004T180000
DTEND;TZID=UTC:20231004T200000
DTSTAMP:20260426T031644
CREATED:20230821T163439Z
LAST-MODIFIED:20230821T163439Z
UID:8464-1696442400-1696449600@eastlincolnalliance.com
SUMMARY:SonSeekers
DESCRIPTION:SonSeekers is a program for K-5th graders. We will be learning the 40 names of God. Programming will be from 6-8pm every Wednesday at East Lincoln Alliance Church. We will have games\, stories\, songs\, crafts.\nCost is $20 per child\, with a max amount of $40 per family
URL:https://eastlincolnalliance.com/event/sonseekers-5/
LOCATION:East Lincoln Alliance Church\, 735 70th Avenue\, Amery\, WI\, 54001\, United States
END:VEVENT
BEGIN:VEVENT
DTSTART;TZID=UTC:20231004T180000
DTEND;TZID=UTC:20231004T200000
DTSTAMP:20260426T031644
CREATED:20230821T153140Z
LAST-MODIFIED:20230821T153140Z
UID:8396-1696442400-1696449600@eastlincolnalliance.com
SUMMARY:Recharge/Youth Group
DESCRIPTION:All students 6-12th grade are invited to attend.  Make sure to invite your friends!
URL:https://eastlincolnalliance.com/event/recharge-youth-group-37/
LOCATION:East Lincoln Alliance Church\, 735 70th Avenue\, Amery\, WI\, 54001\, United States
END:VEVENT
BEGIN:VEVENT
DTSTART;TZID=UTC:20231004T151500
DTEND;TZID=UTC:20231004T163000
DTSTAMP:20260426T031644
CREATED:20230821T154039Z
LAST-MODIFIED:20230821T154039Z
UID:8427-1696432500-1696437000@eastlincolnalliance.com
SUMMARY:After School Good News Club
DESCRIPTION:After School Good News Club will be at Lien Elementary School (Amery) every Wednesday right after school until 4:30pm.  This is open to students Kindergarten to 5th grade.  Students attending the Intermediate School should ride the transfer bus to the Elementary School. Parent permission slips must be filled out.  Forms can be found here: Parent Permission Form \n*Note – if Amery Schools are closed on a Wednesday\, there will be no GNC
URL:https://eastlincolnalliance.com/event/after-school-good-news-club-26/
LOCATION:Lien Elementary School\, 469 Minneapolis Ave S\, Amery\, WI\, 54001\, United States
END:VEVENT
BEGIN:VEVENT
DTSTART;TZID=UTC:20231003T083000
DTEND;TZID=UTC:20231003T143000
DTSTAMP:20260426T031644
CREATED:20230821T165144Z
LAST-MODIFIED:20230821T165144Z
UID:8496-1696321800-1696343400@eastlincolnalliance.com
SUMMARY:Homeschool Co-op Classes
DESCRIPTION:
URL:https://eastlincolnalliance.com/event/homeschool-co-op-classes-5/
LOCATION:East Lincoln Alliance Church\, 735 70th Avenue\, Amery\, WI\, 54001\, United States
END:VEVENT
BEGIN:VEVENT
DTSTART;TZID=UTC:20231001T110000
DTEND;TZID=UTC:20231001T123000
DTSTAMP:20260426T031644
CREATED:20230904T154638Z
LAST-MODIFIED:20230904T154638Z
UID:8638-1696158000-1696163400@eastlincolnalliance.com
SUMMARY:"How To..." Sunday Study
DESCRIPTION:Beginning Sunday\, September 10th 11am-12:30pm Perry Anderson\, Barry Iverson and a few “special guests” will be facilitating a study on different “how to” topics. This class will be in a discussion format and is intended for ages 6th grade to adult. We will meet in the East Wing Youth/Discovery Land Room. \nEach topic will be discussed for 2 or more weeks. On the first Sunday of each topic\, the group will discuss the topic. Each participant is invited to study\, explore\, ask questions of others regarding the topic to share the following week. Participants present can suggest and vote for the topic for the day and offer suggestions for future studies. Likely scenario will be that we study the topics in order of interest.
URL:https://eastlincolnalliance.com/event/how-to-sunday-study-4/
LOCATION:East Lincoln Alliance Church\, 735 70th Avenue\, Amery\, WI\, 54001\, United States
END:VEVENT
BEGIN:VEVENT
DTSTART;TZID=UTC:20231001T110000
DTEND;TZID=UTC:20231001T120000
DTSTAMP:20260426T031644
CREATED:20230915T194047Z
LAST-MODIFIED:20230919T140717Z
UID:8697-1696158000-1696161600@eastlincolnalliance.com
SUMMARY:Child/Youth Volunteer Safety Training
DESCRIPTION:Anyone who volunteers with our youth is required to attend our annual safety training.  Training will be held in the Sanctuary. \nRefreshments will be provided.
URL:https://eastlincolnalliance.com/event/child-youth-volunteer-safety-training/
LOCATION:East Lincoln Alliance Church\, 735 70th Avenue\, Amery\, WI\, 54001\, United States
END:VEVENT
BEGIN:VEVENT
DTSTART;TZID=UTC:20231001T093000
DTEND;TZID=UTC:20231001T110000
DTSTAMP:20260426T031644
CREATED:20230904T155217Z
LAST-MODIFIED:20230904T155217Z
UID:8648-1696152600-1696158000@eastlincolnalliance.com
SUMMARY:Worship Service
DESCRIPTION:We welcome you to our regular worship service every Sunday @ 9:30am. \nWe offer the following services for kids during the Worship Service: \nEarly Childhood care for 1-3 year olds in the East Wing \n4 years old-Kindergarten in the West Wing (Discovery Land) \n1st-5th Grade in the East Wing (Discovery Land)
URL:https://eastlincolnalliance.com/event/worship-service-69/
LOCATION:East Lincoln Alliance Church\, 735 70th Avenue\, Amery\, WI\, 54001\, United States
END:VEVENT
BEGIN:VEVENT
DTSTART;TZID=UTC:20231001T083000
DTEND;TZID=UTC:20231001T093000
DTSTAMP:20260426T031644
CREATED:20230919T141320Z
LAST-MODIFIED:20230919T141320Z
UID:8705-1696149000-1696152600@eastlincolnalliance.com
SUMMARY:Men's Breakfast
DESCRIPTION:1st Sunday of every month.
URL:https://eastlincolnalliance.com/event/mens-breakfast/
LOCATION:East Lincoln Alliance Church\, 735 70th Avenue\, Amery\, WI\, 54001\, United States
END:VEVENT
BEGIN:VEVENT
DTSTART;TZID=UTC:20231001T081500
DTEND;TZID=UTC:20231001T091500
DTSTAMP:20260426T031644
CREATED:20230904T153931Z
LAST-MODIFIED:20230904T153931Z
UID:8624-1696148100-1696151700@eastlincolnalliance.com
SUMMARY:Fireside Chats
DESCRIPTION:Starting September 10th\, all women are invited to do a study on the book of Colossians. \nWe will meet in Pastor Eric’s office at church at 8:15 Sunday morning before the worship gathering. Bring a pen/pencil and a mug for coffee/tea. \nPlease let Kathy Schwanke know if you plan to attend!
URL:https://eastlincolnalliance.com/event/fireside-chats-13/
LOCATION:East Lincoln Alliance Church\, 735 70th Avenue\, Amery\, WI\, 54001\, United States
END:VEVENT
BEGIN:VEVENT
DTSTART;TZID=UTC:20230927T180000
DTEND;TZID=UTC:20230927T200000
DTSTAMP:20260426T031644
CREATED:20230821T163417Z
LAST-MODIFIED:20230821T163417Z
UID:8462-1695837600-1695844800@eastlincolnalliance.com
SUMMARY:SonSeekers
DESCRIPTION:SonSeekers is a program for K-5th graders. We will be learning the 40 names of God. Programming will be from 6-8pm every Wednesday at East Lincoln Alliance Church. We will have games\, stories\, songs\, crafts.\nCost is $20 per child\, with a max amount of $40 per family
URL:https://eastlincolnalliance.com/event/sonseekers-4/
LOCATION:East Lincoln Alliance Church\, 735 70th Avenue\, Amery\, WI\, 54001\, United States
END:VEVENT
BEGIN:VEVENT
DTSTART;TZID=UTC:20230927T180000
DTEND;TZID=UTC:20230927T200000
DTSTAMP:20260426T031644
CREATED:20230821T153115Z
LAST-MODIFIED:20230821T153115Z
UID:8394-1695837600-1695844800@eastlincolnalliance.com
SUMMARY:Recharge/Youth Group
DESCRIPTION:All students 6-12th grade are invited to attend.  Make sure to invite your friends!
URL:https://eastlincolnalliance.com/event/recharge-youth-group-36/
LOCATION:East Lincoln Alliance Church\, 735 70th Avenue\, Amery\, WI\, 54001\, United States
END:VEVENT
BEGIN:VEVENT
DTSTART;TZID=UTC:20230927T151500
DTEND;TZID=UTC:20230927T163000
DTSTAMP:20260426T031644
CREATED:20230821T154012Z
LAST-MODIFIED:20230821T154012Z
UID:8425-1695827700-1695832200@eastlincolnalliance.com
SUMMARY:After School Good News Club
DESCRIPTION:After School Good News Club will be at Lien Elementary School (Amery) every Wednesday right after school until 4:30pm.  This is open to students Kindergarten to 5th grade.  Students attending the Intermediate School should ride the transfer bus to the Elementary School. Parent permission slips must be filled out.  Forms can be found here: Parent Permission Form \n*Note – if Amery Schools are closed on a Wednesday\, there will be no GNC
URL:https://eastlincolnalliance.com/event/after-school-good-news-club-25/
LOCATION:Lien Elementary School\, 469 Minneapolis Ave S\, Amery\, WI\, 54001\, United States
END:VEVENT
BEGIN:VEVENT
DTSTART;TZID=UTC:20230927T073000
DTEND;TZID=UTC:20230927T080000
DTSTAMP:20260426T031644
CREATED:20230915T190932Z
LAST-MODIFIED:20230915T190932Z
UID:8680-1695799800-1695801600@eastlincolnalliance.com
SUMMARY:See You at the Pole
DESCRIPTION:The annual See You at the Pole event is Wednesday\, September 27th at 7:30am.  Encourage your middle and/or high school student(s) to join fellow classmates at their school’s flagpole to uplift their friends\, families\, teachers\, school and nation to God.  This is a student-led event.  There will be donuts and refreshments to enjoy during the event. \nLocations: Amery Middle School & Amery High School
URL:https://eastlincolnalliance.com/event/see-you-at-the-pole/
LOCATION:WI
END:VEVENT
BEGIN:VEVENT
DTSTART;TZID=UTC:20230926T083000
DTEND;TZID=UTC:20230926T143000
DTSTAMP:20260426T031644
CREATED:20230821T165123Z
LAST-MODIFIED:20230821T165123Z
UID:8494-1695717000-1695738600@eastlincolnalliance.com
SUMMARY:Homeschool Co-op Classes
DESCRIPTION:
URL:https://eastlincolnalliance.com/event/homeschool-co-op-classes-4/
LOCATION:East Lincoln Alliance Church\, 735 70th Avenue\, Amery\, WI\, 54001\, United States
END:VEVENT
BEGIN:VEVENT
DTSTART;TZID=UTC:20230924T110000
DTEND;TZID=UTC:20230924T123000
DTSTAMP:20260426T031644
CREATED:20230904T154616Z
LAST-MODIFIED:20230904T154616Z
UID:8636-1695553200-1695558600@eastlincolnalliance.com
SUMMARY:"How To..." Sunday Study
DESCRIPTION:Beginning Sunday\, September 10th 11am-12:30pm Perry Anderson\, Barry Iverson and a few “special guests” will be facilitating a study on different “how to” topics. This class will be in a discussion format and is intended for ages 6th grade to adult. We will meet in the East Wing Youth/Discovery Land Room. \nEach topic will be discussed for 2 or more weeks. On the first Sunday of each topic\, the group will discuss the topic. Each participant is invited to study\, explore\, ask questions of others regarding the topic to share the following week. Participants present can suggest and vote for the topic for the day and offer suggestions for future studies. Likely scenario will be that we study the topics in order of interest.
URL:https://eastlincolnalliance.com/event/how-to-sunday-study-3/
LOCATION:East Lincoln Alliance Church\, 735 70th Avenue\, Amery\, WI\, 54001\, United States
END:VEVENT
END:VCALENDAR