BEGIN:VCALENDAR
VERSION:2.0
PRODID:-//East Lincoln Alliance Church - ECPv6.15.20//NONSGML v1.0//EN
CALSCALE:GREGORIAN
METHOD:PUBLISH
X-WR-CALNAME:East Lincoln Alliance Church
X-ORIGINAL-URL:https://eastlincolnalliance.com
X-WR-CALDESC:Events for East Lincoln Alliance Church
REFRESH-INTERVAL;VALUE=DURATION:PT1H
X-Robots-Tag:noindex
X-PUBLISHED-TTL:PT1H
BEGIN:VTIMEZONE
TZID:UTC
BEGIN:STANDARD
TZOFFSETFROM:+0000
TZOFFSETTO:+0000
TZNAME:UTC
DTSTART:20220101T000000
END:STANDARD
END:VTIMEZONE
BEGIN:VEVENT
DTSTART;TZID=UTC:20230920T180000
DTEND;TZID=UTC:20230920T200000
DTSTAMP:20260426T031144
CREATED:20230821T163357Z
LAST-MODIFIED:20230821T163357Z
UID:8460-1695232800-1695240000@eastlincolnalliance.com
SUMMARY:SonSeekers
DESCRIPTION:SonSeekers is a program for K-5th graders. We will be learning the 40 names of God. Programming will be from 6-8pm every Wednesday at East Lincoln Alliance Church. We will have games\, stories\, songs\, crafts.\nCost is $20 per child\, with a max amount of $40 per family
URL:https://eastlincolnalliance.com/event/sonseekers-3/
LOCATION:East Lincoln Alliance Church\, 735 70th Avenue\, Amery\, WI\, 54001\, United States
END:VEVENT
BEGIN:VEVENT
DTSTART;TZID=UTC:20230920T180000
DTEND;TZID=UTC:20230920T200000
DTSTAMP:20260426T031144
CREATED:20230821T153050Z
LAST-MODIFIED:20230821T153050Z
UID:8392-1695232800-1695240000@eastlincolnalliance.com
SUMMARY:Recharge/Youth Group
DESCRIPTION:All students 6-12th grade are invited to attend.  Make sure to invite your friends!
URL:https://eastlincolnalliance.com/event/recharge-youth-group-35/
LOCATION:East Lincoln Alliance Church\, 735 70th Avenue\, Amery\, WI\, 54001\, United States
END:VEVENT
BEGIN:VEVENT
DTSTART;TZID=UTC:20230920T151500
DTEND;TZID=UTC:20230920T163000
DTSTAMP:20260426T031144
CREATED:20230821T153945Z
LAST-MODIFIED:20230821T153945Z
UID:8423-1695222900-1695227400@eastlincolnalliance.com
SUMMARY:After School Good News Club
DESCRIPTION:After School Good News Club will be at Lien Elementary School (Amery) every Wednesday right after school until 4:30pm.  This is open to students Kindergarten to 5th grade.  Students attending the Intermediate School should ride the transfer bus to the Elementary School. Parent permission slips must be filled out.  Forms can be found here: Parent Permission Form \n*Note – if Amery Schools are closed on a Wednesday\, there will be no GNC
URL:https://eastlincolnalliance.com/event/after-school-good-news-club-24/
LOCATION:Lien Elementary School\, 469 Minneapolis Ave S\, Amery\, WI\, 54001\, United States
END:VEVENT
BEGIN:VEVENT
DTSTART;TZID=UTC:20230919T093000
DTEND;TZID=UTC:20230919T113000
DTSTAMP:20260426T031144
CREATED:20230904T145335Z
LAST-MODIFIED:20230904T145351Z
UID:8581-1695115800-1695123000@eastlincolnalliance.com
SUMMARY:Fall Conference - Tuesday Women's Bible Study
DESCRIPTION:All women are invited to attend to hear Hannah speak.  There will be a potluck meal as well.
URL:https://eastlincolnalliance.com/event/tuesday-womens-bible-study/
LOCATION:East Lincoln Alliance Church\, 735 70th Avenue\, Amery\, WI\, 54001\, United States
END:VEVENT
BEGIN:VEVENT
DTSTART;TZID=UTC:20230919T083000
DTEND;TZID=UTC:20230919T143000
DTSTAMP:20260426T031144
CREATED:20230821T165104Z
LAST-MODIFIED:20230821T165104Z
UID:8492-1695112200-1695133800@eastlincolnalliance.com
SUMMARY:Homeschool Co-op Classes
DESCRIPTION:
URL:https://eastlincolnalliance.com/event/homeschool-co-op-classes-3/
LOCATION:East Lincoln Alliance Church\, 735 70th Avenue\, Amery\, WI\, 54001\, United States
END:VEVENT
BEGIN:VEVENT
DTSTART;VALUE=DATE:20230919
DTEND;VALUE=DATE:20230925
DTSTAMP:20260426T031144
CREATED:20230904T145220Z
LAST-MODIFIED:20230904T145220Z
UID:8579-1695081600-1695599999@eastlincolnalliance.com
SUMMARY:Fall Conference
DESCRIPTION:
URL:https://eastlincolnalliance.com/event/fall-conference-4/
LOCATION:WI
END:VEVENT
BEGIN:VEVENT
DTSTART;TZID=UTC:20230917T110000
DTEND;TZID=UTC:20230917T123000
DTSTAMP:20260426T031144
CREATED:20230904T154552Z
LAST-MODIFIED:20230904T154552Z
UID:8634-1694948400-1694953800@eastlincolnalliance.com
SUMMARY:"How To..." Sunday Study
DESCRIPTION:Beginning Sunday\, September 10th 11am-12:30pm Perry Anderson\, Barry Iverson and a few “special guests” will be facilitating a study on different “how to” topics. This class will be in a discussion format and is intended for ages 6th grade to adult. We will meet in the East Wing Youth/Discovery Land Room. \nEach topic will be discussed for 2 or more weeks. On the first Sunday of each topic\, the group will discuss the topic. Each participant is invited to study\, explore\, ask questions of others regarding the topic to share the following week. Participants present can suggest and vote for the topic for the day and offer suggestions for future studies. Likely scenario will be that we study the topics in order of interest.
URL:https://eastlincolnalliance.com/event/how-to-sunday-study-2/
LOCATION:East Lincoln Alliance Church\, 735 70th Avenue\, Amery\, WI\, 54001\, United States
END:VEVENT
BEGIN:VEVENT
DTSTART;TZID=UTC:20230917T093000
DTEND;TZID=UTC:20230917T110000
DTSTAMP:20260426T031144
CREATED:20230627T201753Z
LAST-MODIFIED:20230627T201753Z
UID:8331-1694943000-1694948400@eastlincolnalliance.com
SUMMARY:Worship Service
DESCRIPTION:We welcome you to our regular worship service every Sunday @ 9:30am. \nWe offer the following services for kids during the Worship Service: \nEarly Childhood care for 1-3 year olds in the East Wing \n4 years old-Kindergarten in the West Wing (Discovery Land) \n1st-5th Grade in the East Wing (Discovery Land)
URL:https://eastlincolnalliance.com/event/worship-service-67/
LOCATION:East Lincoln Alliance Church\, 735 70th Avenue\, Amery\, WI\, 54001\, United States
END:VEVENT
BEGIN:VEVENT
DTSTART;TZID=UTC:20230917T081500
DTEND;TZID=UTC:20230917T091500
DTSTAMP:20260426T031144
CREATED:20230904T153838Z
LAST-MODIFIED:20230904T153838Z
UID:8620-1694938500-1694942100@eastlincolnalliance.com
SUMMARY:Fireside Chats
DESCRIPTION:Starting September 10th\, all women are invited to do a study on the book of Colossians. \nWe will meet in Pastor Eric’s office at church at 8:15 Sunday morning before the worship gathering. Bring a pen/pencil and a mug for coffee/tea. \nPlease let Kathy Schwanke know if you plan to attend!
URL:https://eastlincolnalliance.com/event/fireside-chats-11/
LOCATION:East Lincoln Alliance Church\, 735 70th Avenue\, Amery\, WI\, 54001\, United States
END:VEVENT
BEGIN:VEVENT
DTSTART;TZID=UTC:20230915T090000
DTEND;TZID=UTC:20230915T120000
DTSTAMP:20260426T031144
CREATED:20230904T151013Z
LAST-MODIFIED:20230904T151013Z
UID:8594-1694768400-1694779200@eastlincolnalliance.com
SUMMARY:Homeschool Co-op
DESCRIPTION:
URL:https://eastlincolnalliance.com/event/homeschool-co-op/
LOCATION:East Lincoln Alliance Church\, 735 70th Avenue\, Amery\, WI\, 54001\, United States
END:VEVENT
BEGIN:VEVENT
DTSTART;TZID=UTC:20230913T180000
DTEND;TZID=UTC:20230913T200000
DTSTAMP:20260426T031144
CREATED:20230821T163337Z
LAST-MODIFIED:20230821T163337Z
UID:8458-1694628000-1694635200@eastlincolnalliance.com
SUMMARY:SonSeekers
DESCRIPTION:SonSeekers is a program for K-5th graders. We will be learning the 40 names of God. Programming will be from 6-8pm every Wednesday at East Lincoln Alliance Church. We will have games\, stories\, songs\, crafts.\nCost is $20 per child\, with a max amount of $40 per family
URL:https://eastlincolnalliance.com/event/sonseekers-2/
LOCATION:East Lincoln Alliance Church\, 735 70th Avenue\, Amery\, WI\, 54001\, United States
END:VEVENT
BEGIN:VEVENT
DTSTART;TZID=UTC:20230913T180000
DTEND;TZID=UTC:20230913T200000
DTSTAMP:20260426T031144
CREATED:20230821T153016Z
LAST-MODIFIED:20230821T153016Z
UID:8390-1694628000-1694635200@eastlincolnalliance.com
SUMMARY:Recharge/Youth Group
DESCRIPTION:All students 6-12th grade are invited to attend.  Make sure to invite your friends!
URL:https://eastlincolnalliance.com/event/recharge-youth-group-34/
LOCATION:East Lincoln Alliance Church\, 735 70th Avenue\, Amery\, WI\, 54001\, United States
END:VEVENT
BEGIN:VEVENT
DTSTART;TZID=UTC:20230913T151500
DTEND;TZID=UTC:20230913T163000
DTSTAMP:20260426T031144
CREATED:20230821T153910Z
LAST-MODIFIED:20230821T153910Z
UID:8421-1694618100-1694622600@eastlincolnalliance.com
SUMMARY:After School Good News Club
DESCRIPTION:After School Good News Club will be at Lien Elementary School (Amery) every Wednesday right after school until 4:30pm.  This is open to students Kindergarten to 5th grade.  Students attending the Intermediate School should ride the transfer bus to the Elementary School. Parent permission slips must be filled out.  Forms can be found here: Parent Permission Form \n*Note – if Amery Schools are closed on a Wednesday\, there will be no GNC
URL:https://eastlincolnalliance.com/event/after-school-good-news-club-23/
LOCATION:Lien Elementary School\, 469 Minneapolis Ave S\, Amery\, WI\, 54001\, United States
END:VEVENT
BEGIN:VEVENT
DTSTART;TZID=UTC:20230912T083000
DTEND;TZID=UTC:20230912T143000
DTSTAMP:20260426T031144
CREATED:20230821T165046Z
LAST-MODIFIED:20230821T165046Z
UID:8490-1694507400-1694529000@eastlincolnalliance.com
SUMMARY:Homeschool Co-op Classes
DESCRIPTION:
URL:https://eastlincolnalliance.com/event/homeschool-co-op-classes-2/
LOCATION:East Lincoln Alliance Church\, 735 70th Avenue\, Amery\, WI\, 54001\, United States
END:VEVENT
BEGIN:VEVENT
DTSTART;TZID=UTC:20230910T110000
DTEND;TZID=UTC:20230910T123000
DTSTAMP:20260426T031144
CREATED:20230904T154527Z
LAST-MODIFIED:20230904T154527Z
UID:8632-1694343600-1694349000@eastlincolnalliance.com
SUMMARY:"How To..." Sunday Study
DESCRIPTION:Beginning Sunday\, September 10th 11am-12:30pm Perry Anderson\, Barry Iverson and a few “special guests” will be facilitating a study on different “how to” topics. This class will be in a discussion format and is intended for ages 6th grade to adult. We will meet in the East Wing Youth/Discovery Land Room. \nEach topic will be discussed for 2 or more weeks. On the first Sunday of each topic\, the group will discuss the topic. Each participant is invited to study\, explore\, ask questions of others regarding the topic to share the following week. Participants present can suggest and vote for the topic for the day and offer suggestions for future studies. Likely scenario will be that we study the topics in order of interest.
URL:https://eastlincolnalliance.com/event/how-to-sunday-study/
LOCATION:East Lincoln Alliance Church\, 735 70th Avenue\, Amery\, WI\, 54001\, United States
END:VEVENT
BEGIN:VEVENT
DTSTART;TZID=UTC:20230910T093000
DTEND;TZID=UTC:20230910T110000
DTSTAMP:20260426T031144
CREATED:20230627T201730Z
LAST-MODIFIED:20230627T201730Z
UID:8329-1694338200-1694343600@eastlincolnalliance.com
SUMMARY:Worship Service
DESCRIPTION:We welcome you to our regular worship service every Sunday @ 9:30am. \nWe offer the following services for kids during the Worship Service: \nEarly Childhood care for 1-3 year olds in the East Wing \n4 years old-Kindergarten in the West Wing (Discovery Land) \n1st-5th Grade in the East Wing (Discovery Land)
URL:https://eastlincolnalliance.com/event/worship-service-66/
LOCATION:East Lincoln Alliance Church\, 735 70th Avenue\, Amery\, WI\, 54001\, United States
END:VEVENT
BEGIN:VEVENT
DTSTART;TZID=UTC:20230910T081500
DTEND;TZID=UTC:20230910T091500
DTSTAMP:20260426T031144
CREATED:20230904T153801Z
LAST-MODIFIED:20230904T153801Z
UID:8618-1694333700-1694337300@eastlincolnalliance.com
SUMMARY:Fireside Chats
DESCRIPTION:Starting September 10th\, all women are invited to do a study on the book of Colossians. \nWe will meet in Pastor Eric’s office at church at 8:15 Sunday morning before the worship gathering. Bring a pen/pencil and a mug for coffee/tea. \nPlease let Kathy Schwanke know if you plan to attend!
URL:https://eastlincolnalliance.com/event/fireside-chats-10/
LOCATION:East Lincoln Alliance Church\, 735 70th Avenue\, Amery\, WI\, 54001\, United States
END:VEVENT
BEGIN:VEVENT
DTSTART;TZID=UTC:20230908T090000
DTEND;TZID=UTC:20230908T120000
DTSTAMP:20260426T031144
CREATED:20230904T153631Z
LAST-MODIFIED:20230904T153631Z
UID:8614-1694163600-1694174400@eastlincolnalliance.com
SUMMARY:Homeschool co-op
DESCRIPTION:
URL:https://eastlincolnalliance.com/event/homeschool-co-op-11/
LOCATION:East Lincoln Alliance Church\, 735 70th Avenue\, Amery\, WI\, 54001\, United States
END:VEVENT
BEGIN:VEVENT
DTSTART;TZID=UTC:20230907T183000
DTEND;TZID=UTC:20230907T200000
DTSTAMP:20260426T031144
CREATED:20230904T153713Z
LAST-MODIFIED:20230904T153713Z
UID:8616-1694111400-1694116800@eastlincolnalliance.com
SUMMARY:Men's Ministry Planning Meeting
DESCRIPTION:All men are encouraged to attend a gathering at ELAC on Thursday\, September 7th at 6:30pm for fellowship\, planning for upcoming Men’s Ministry events and Bible study brainstorming.
URL:https://eastlincolnalliance.com/event/mens-ministry-planning-meeting/
LOCATION:East Lincoln Alliance Church\, 735 70th Avenue\, Amery\, WI\, 54001\, United States
END:VEVENT
BEGIN:VEVENT
DTSTART;TZID=UTC:20230906T180000
DTEND;TZID=UTC:20230906T200000
DTSTAMP:20260426T031144
CREATED:20230821T163305Z
LAST-MODIFIED:20230821T163305Z
UID:8456-1694023200-1694030400@eastlincolnalliance.com
SUMMARY:SonSeekers
DESCRIPTION:SonSeekers is a program for K-5th graders. We will be learning the 40 names of God. Programming will be from 6-8pm every Wednesday at East Lincoln Alliance Church. We will have games\, stories\, songs\, crafts.\nCost is $20 per child\, with a max amount of $40 per family.
URL:https://eastlincolnalliance.com/event/sonseekers/
LOCATION:East Lincoln Alliance Church\, 735 70th Avenue\, Amery\, WI\, 54001\, United States
END:VEVENT
BEGIN:VEVENT
DTSTART;TZID=UTC:20230906T180000
DTEND;TZID=UTC:20230906T200000
DTSTAMP:20260426T031144
CREATED:20230821T152903Z
LAST-MODIFIED:20230821T152903Z
UID:8388-1694023200-1694030400@eastlincolnalliance.com
SUMMARY:Recharge Kick-off
DESCRIPTION:Recharge will begin for the upcoming school year on Wednesday\, September 9th.  Students in 6th-12th grade are invited to attend for a fun night of food\, ice cream sundaes\, games and fellowship.  Invite your friends!  Bring an ice cream topping to share!  6-8pm \nRecharge will continue every Wednesday during the school year\, 6-8pm. \nIf you have any questions\, contact Kent Tollakson.
URL:https://eastlincolnalliance.com/event/recharge-kick-off-2/
LOCATION:East Lincoln Alliance Church\, 735 70th Avenue\, Amery\, WI\, 54001\, United States
END:VEVENT
BEGIN:VEVENT
DTSTART;TZID=UTC:20230906T151500
DTEND;TZID=UTC:20230906T163000
DTSTAMP:20260426T031144
CREATED:20230821T153842Z
LAST-MODIFIED:20230821T153842Z
UID:8419-1694013300-1694017800@eastlincolnalliance.com
SUMMARY:After School Good News Club
DESCRIPTION:After School Good News Club will be at Lien Elementary School (Amery) every Wednesday right after school until 4:30pm.  This is open to students Kindergarten to 5th grade.  Students attending the Intermediate School should ride the transfer bus to the Elementary School. Parent permission slips must be filled out.  Forms can be found here: Parent Permission Form \n*Note – if Amery Schools are closed on a Wednesday\, there will be no GNC
URL:https://eastlincolnalliance.com/event/after-school-good-news-club-22/
LOCATION:Lien Elementary School\, 469 Minneapolis Ave S\, Amery\, WI\, 54001\, United States
END:VEVENT
BEGIN:VEVENT
DTSTART;TZID=UTC:20230905T083000
DTEND;TZID=UTC:20230905T143000
DTSTAMP:20260426T031144
CREATED:20230821T165020Z
LAST-MODIFIED:20230821T165020Z
UID:8488-1693902600-1693924200@eastlincolnalliance.com
SUMMARY:Homeschool Co-op Classes
DESCRIPTION:
URL:https://eastlincolnalliance.com/event/homeschool-co-op-classes/
LOCATION:East Lincoln Alliance Church\, 735 70th Avenue\, Amery\, WI\, 54001\, United States
END:VEVENT
BEGIN:VEVENT
DTSTART;TZID=UTC:20230903T093000
DTEND;TZID=UTC:20230903T110000
DTSTAMP:20260426T031144
CREATED:20230627T201706Z
LAST-MODIFIED:20230627T201706Z
UID:8327-1693733400-1693738800@eastlincolnalliance.com
SUMMARY:Worship Service
DESCRIPTION:We welcome you to our regular worship service every Sunday @ 9:30am. \nWe offer the following services for kids during the Worship Service: \nEarly Childhood care for 1-3 year olds in the East Wing \n4 years old-Kindergarten in the West Wing (Discovery Land) \n1st-5th Grade in the East Wing (Discovery Land)
URL:https://eastlincolnalliance.com/event/worship-service-65/
LOCATION:East Lincoln Alliance Church\, 735 70th Avenue\, Amery\, WI\, 54001\, United States
END:VEVENT
BEGIN:VEVENT
DTSTART;TZID=UTC:20230830T180000
DTEND;TZID=UTC:20230830T190000
DTSTAMP:20260426T031144
CREATED:20230821T154935Z
LAST-MODIFIED:20230821T154935Z
UID:8454-1693418400-1693422000@eastlincolnalliance.com
SUMMARY:Parent Workshop Re: Technology
DESCRIPTION:All parents and families are invited to a parent training on students and technology at ELAC on Wednesday\, August 30th from 6-7pm\, immediately following the youth ministry volunteer meeting.  Refreshments will be provided.  Any questions\, contact the church office or Kent Tollakson. \nIn this video teaching\, Dr. Sean McDowell offers a clear roadmap for parents on blending faith with digital literacy.
URL:https://eastlincolnalliance.com/event/parent-workshop-re-technology/
LOCATION:East Lincoln Alliance Church\, 735 70th Avenue\, Amery\, WI\, 54001\, United States
END:VEVENT
BEGIN:VEVENT
DTSTART;TZID=UTC:20230830T170000
DTEND;TZID=UTC:20230830T180000
DTSTAMP:20260426T031144
CREATED:20230821T164006Z
LAST-MODIFIED:20230821T164006Z
UID:8486-1693414800-1693418400@eastlincolnalliance.com
SUMMARY:Recharge Leader Meeting
DESCRIPTION:Recharge volunteers are encouraged to attend a leader meeting on Wednesday\, August 30th from 5-6pm at ELAC\, food will be provided. RSVP to Kent.
URL:https://eastlincolnalliance.com/event/recharge-leader-meeting/
LOCATION:East Lincoln Alliance Church\, 735 70th Avenue\, Amery\, WI\, 54001\, United States
END:VEVENT
BEGIN:VEVENT
DTSTART;TZID=UTC:20230827T113000
DTEND;TZID=UTC:20230827T123000
DTSTAMP:20260426T031144
CREATED:20230821T154845Z
LAST-MODIFIED:20230821T154845Z
UID:8452-1693135800-1693139400@eastlincolnalliance.com
SUMMARY:Single Women's Fellowship
DESCRIPTION:All single women are invited to join on Sunday\, August 27th at 11:30am at ELAC for a potluck and time of fellowship.
URL:https://eastlincolnalliance.com/event/single-womens-fellowship-9/
LOCATION:East Lincoln Alliance Church\, 735 70th Avenue\, Amery\, WI\, 54001\, United States
END:VEVENT
BEGIN:VEVENT
DTSTART;TZID=UTC:20230827T110000
DTEND;TZID=UTC:20230827T120000
DTSTAMP:20260426T031144
CREATED:20230807T134551Z
LAST-MODIFIED:20230807T134551Z
UID:8372-1693134000-1693137600@eastlincolnalliance.com
SUMMARY:Discovery Land Training
DESCRIPTION:
URL:https://eastlincolnalliance.com/event/discovery-land-training-3/
LOCATION:East Lincoln Alliance Church\, 735 70th Avenue\, Amery\, WI\, 54001\, United States
END:VEVENT
BEGIN:VEVENT
DTSTART;TZID=UTC:20230827T110000
DTEND;TZID=UTC:20230827T113000
DTSTAMP:20260426T031144
CREATED:20230821T154753Z
LAST-MODIFIED:20230821T154753Z
UID:8450-1693134000-1693135800@eastlincolnalliance.com
SUMMARY:Hymn Sing
DESCRIPTION:Join us for a Hymn Sing on Sunday\, August 27th\, 11-11:30am.
URL:https://eastlincolnalliance.com/event/hymn-sing-10/
LOCATION:East Lincoln Alliance Church\, 735 70th Avenue\, Amery\, WI\, 54001\, United States
END:VEVENT
BEGIN:VEVENT
DTSTART;TZID=UTC:20230827T093000
DTEND;TZID=UTC:20230827T110000
DTSTAMP:20260426T031144
CREATED:20230627T201629Z
LAST-MODIFIED:20230627T201629Z
UID:8325-1693128600-1693134000@eastlincolnalliance.com
SUMMARY:Worship Service
DESCRIPTION:We welcome you to our regular worship service every Sunday @ 9:30am. \nWe offer the following services for kids during the Worship Service: \nEarly Childhood care for 1-3 year olds in the East Wing \n4 years old-Kindergarten in the West Wing (Discovery Land) \n1st-5th Grade in the East Wing (Discovery Land)
URL:https://eastlincolnalliance.com/event/worship-service-64/
LOCATION:East Lincoln Alliance Church\, 735 70th Avenue\, Amery\, WI\, 54001\, United States
END:VEVENT
END:VCALENDAR