BEGIN:VCALENDAR
VERSION:2.0
PRODID:-//East Lincoln Alliance Church - ECPv6.15.20//NONSGML v1.0//EN
CALSCALE:GREGORIAN
METHOD:PUBLISH
X-ORIGINAL-URL:https://eastlincolnalliance.com
X-WR-CALDESC:Events for East Lincoln Alliance Church
REFRESH-INTERVAL;VALUE=DURATION:PT1H
X-Robots-Tag:noindex
X-PUBLISHED-TTL:PT1H
BEGIN:VTIMEZONE
TZID:UTC
BEGIN:STANDARD
TZOFFSETFROM:+0000
TZOFFSETTO:+0000
TZNAME:UTC
DTSTART:20230101T000000
END:STANDARD
END:VTIMEZONE
BEGIN:VEVENT
DTSTART;TZID=UTC:20241020T084500
DTEND;TZID=UTC:20241020T094500
DTSTAMP:20260425T132125
CREATED:20240923T151640Z
LAST-MODIFIED:20240923T151640Z
UID:9794-1729413900-1729417500@eastlincolnalliance.com
SUMMARY:Discipleship Hour
DESCRIPTION:Join us for Discipleship Hour from 8:45-9:45am.  All 6th grade and up are invited.
URL:https://eastlincolnalliance.com/event/discipleship-hour-24/
LOCATION:East Lincoln Alliance Church\, 735 70th Avenue\, Amery\, WI\, 54001\, United States
END:VEVENT
BEGIN:VEVENT
DTSTART;TZID=UTC:20241020T100000
DTEND;TZID=UTC:20241020T111500
DTSTAMP:20260425T132125
CREATED:20240925T204745Z
LAST-MODIFIED:20240925T204745Z
UID:9827-1729418400-1729422900@eastlincolnalliance.com
SUMMARY:Worship Service
DESCRIPTION:We welcome you to our regular worship service every Sunday @ 10:00am.\n\n\n\nWe offer the following services for kids during the Worship Service: \nEarly Childhood care for 1-3 year olds in the East Wing \n4 years old-Kindergarten in the West Wing (Discovery Land) \n1st-5th Grade in the East Wing (Discovery Land)
URL:https://eastlincolnalliance.com/event/worship-service-122/
LOCATION:East Lincoln Alliance Church\, 735 70th Avenue\, Amery\, WI\, 54001\, United States
END:VEVENT
BEGIN:VEVENT
DTSTART;TZID=UTC:20241020T113000
DTEND;TZID=UTC:20241020T140000
DTSTAMP:20260425T132125
CREATED:20240819T214041Z
LAST-MODIFIED:20240819T214041Z
UID:9655-1729423800-1729432800@eastlincolnalliance.com
SUMMARY:Missions Fundraiser meal
DESCRIPTION:More details to follow.
URL:https://eastlincolnalliance.com/event/missions-fundraiser-meal/
LOCATION:East Lincoln Alliance Church\, 735 70th Avenue\, Amery\, WI\, 54001\, United States
END:VEVENT
BEGIN:VEVENT
DTSTART;TZID=UTC:20241021T180000
DTEND;TZID=UTC:20241021T203000
DTSTAMP:20260425T132125
CREATED:20240819T220134Z
LAST-MODIFIED:20240819T220134Z
UID:9671-1729533600-1729542600@eastlincolnalliance.com
SUMMARY:Bible Quiz Practice
DESCRIPTION:Junior quizzing 6-7pm (5th grade and younger) \nRegular quizzing 7-8:30pm (6th-12th grade) \nWhether you’re a seasoned quizzing champion or new to the world of Bible trivia\, this event promises fun and friendly competition. Come challenge your knowledge\, deepen your understanding of Scripture\, and connect with fellow Bible enthusiasts.
URL:https://eastlincolnalliance.com/event/bible-quiz-practice-8/
LOCATION:East Lincoln Alliance Church\, 735 70th Avenue\, Amery\, WI\, 54001\, United States
END:VEVENT
BEGIN:VEVENT
DTSTART;TZID=UTC:20241023T151500
DTEND;TZID=UTC:20241023T163000
DTSTAMP:20260425T132125
CREATED:20240907T155758Z
LAST-MODIFIED:20240907T155758Z
UID:9743-1729696500-1729701000@eastlincolnalliance.com
SUMMARY:After School Good News Club
DESCRIPTION:After School Good News Club starts on Wednesday\, September 11th at Lien Elementary School (Amery) right after school (3:15pm) until 4:30pm and will continue every Wednesday that Amery Schools are in session. \nGood News Club is open to students Kindergarten to 5th grade. Students attending the Intermediate School should ride the transfer bus to the Elementary School. Registration Forms must be filled out (below).   Questions? Contact Mary Schussman. \neastlincolnalliance.com/ninja-forms/10okpn/
URL:https://eastlincolnalliance.com/event/after-school-good-news-club-65/
LOCATION:Lien Elementary School\, 469 Minneapolis Ave S\, Amery\, WI\, 54001\, United States
END:VEVENT
BEGIN:VEVENT
DTSTART;TZID=UTC:20241023T180000
DTEND;TZID=UTC:20241023T200000
DTSTAMP:20260425T132125
CREATED:20240805T142020Z
LAST-MODIFIED:20240805T142020Z
UID:9584-1729706400-1729713600@eastlincolnalliance.com
SUMMARY:Recharge
DESCRIPTION:All students 6-12th grade are invited to attend.  Make sure to invite your friends!
URL:https://eastlincolnalliance.com/event/recharge-89/
LOCATION:East Lincoln Alliance Church\, 735 70th Avenue\, Amery\, WI\, 54001\, United States
END:VEVENT
BEGIN:VEVENT
DTSTART;TZID=UTC:20241023T180000
DTEND;TZID=UTC:20241023T200000
DTSTAMP:20260425T132125
CREATED:20240805T145316Z
LAST-MODIFIED:20240805T145316Z
UID:9612-1729706400-1729713600@eastlincolnalliance.com
SUMMARY:Son Seekers
DESCRIPTION:Son Seekers is a program for K-5th graders.  Programming is 6-8pm every Wednesday at East Lincoln Alliance Church. We will have games\, stories\, songs\, crafts.
URL:https://eastlincolnalliance.com/event/son-seekers-26/
LOCATION:East Lincoln Alliance Church\, 735 70th Avenue\, Amery\, WI\, 54001\, United States
END:VEVENT
BEGIN:VEVENT
DTSTART;VALUE=DATE:20241024
DTEND;VALUE=DATE:20241027
DTSTAMP:20260425T132125
CREATED:20241018T200228Z
LAST-MODIFIED:20241018T200228Z
UID:9896-1729728000-1729987199@eastlincolnalliance.com
SUMMARY:Carpet Cleaning
DESCRIPTION:Church will be unavailable October 24-26
URL:https://eastlincolnalliance.com/event/carpet-cleaning/
LOCATION:East Lincoln Alliance Church\, 735 70th Avenue\, Amery\, WI\, 54001\, United States
END:VEVENT
BEGIN:VEVENT
DTSTART;TZID=UTC:20241024T183000
DTEND;TZID=UTC:20241024T203000
DTSTAMP:20260425T132125
CREATED:20241011T190635Z
LAST-MODIFIED:20241011T190635Z
UID:9883-1729794600-1729801800@eastlincolnalliance.com
SUMMARY:Call to Prayer for Elections
DESCRIPTION:As we prepare for the upcoming elections\, let us gather in prayer on Thursday\, October 24th 6:30-8:30pm at East Lincoln.  May we seek wisdom and discernment in our choices\, and may our leaders reflect integrity and compassion.
URL:https://eastlincolnalliance.com/event/call-to-prayer-for-elections/
LOCATION:East Lincoln Alliance Church\, 735 70th Avenue\, Amery\, WI\, 54001\, United States
END:VEVENT
BEGIN:VEVENT
DTSTART;TZID=UTC:20241027T084500
DTEND;TZID=UTC:20241027T094500
DTSTAMP:20260425T132125
CREATED:20240923T151814Z
LAST-MODIFIED:20240923T151814Z
UID:9796-1730018700-1730022300@eastlincolnalliance.com
SUMMARY:Discipleship Hour
DESCRIPTION:Join us for Discipleship Hour from 8:45-9:45am.  All 6th grade and up are invited.
URL:https://eastlincolnalliance.com/event/discipleship-hour-25/
LOCATION:East Lincoln Alliance Church\, 735 70th Avenue\, Amery\, WI\, 54001\, United States
END:VEVENT
BEGIN:VEVENT
DTSTART;TZID=UTC:20241027T100000
DTEND;TZID=UTC:20241027T111500
DTSTAMP:20260425T132125
CREATED:20240925T204815Z
LAST-MODIFIED:20240925T204815Z
UID:9829-1730023200-1730027700@eastlincolnalliance.com
SUMMARY:Worship Service
DESCRIPTION:We welcome you to our regular worship service every Sunday @ 10:00am.\n\n\n\nWe offer the following services for kids during the Worship Service: \nEarly Childhood care for 1-3 year olds in the East Wing \n4 years old-Kindergarten in the West Wing (Discovery Land) \n1st-5th Grade in the East Wing (Discovery Land)
URL:https://eastlincolnalliance.com/event/worship-service-123/
LOCATION:East Lincoln Alliance Church\, 735 70th Avenue\, Amery\, WI\, 54001\, United States
END:VEVENT
BEGIN:VEVENT
DTSTART;TZID=UTC:20241027T113000
DTEND;TZID=UTC:20241027T120000
DTSTAMP:20260425T132125
CREATED:20241007T145246Z
LAST-MODIFIED:20241007T145246Z
UID:9869-1730028600-1730030400@eastlincolnalliance.com
SUMMARY:Hymn Sing
DESCRIPTION:Join us for a Hymn Sing on Sunday\, October 27th\, 11:30am-12pm.
URL:https://eastlincolnalliance.com/event/hymn-sing-18/
LOCATION:East Lincoln Alliance Church\, 735 70th Avenue\, Amery\, WI\, 54001\, United States
END:VEVENT
BEGIN:VEVENT
DTSTART;TZID=UTC:20241027T120000
DTEND;TZID=UTC:20241027T130000
DTSTAMP:20260425T132125
CREATED:20241007T145350Z
LAST-MODIFIED:20241007T145350Z
UID:9871-1730030400-1730034000@eastlincolnalliance.com
SUMMARY:Single Women's Fellowship
DESCRIPTION:All single women are invited to join on Sunday\, October 27th at noon at ELAC for a potluck and time of fellowship.
URL:https://eastlincolnalliance.com/event/single-womens-fellowship-17/
LOCATION:East Lincoln Alliance Church\, 735 70th Avenue\, Amery\, WI\, 54001\, United States
END:VEVENT
BEGIN:VEVENT
DTSTART;TZID=UTC:20241028T180000
DTEND;TZID=UTC:20241028T203000
DTSTAMP:20260425T132125
CREATED:20240819T220200Z
LAST-MODIFIED:20240819T220200Z
UID:9673-1730138400-1730147400@eastlincolnalliance.com
SUMMARY:Bible Quiz Practice
DESCRIPTION:Junior quizzing 6-7pm (5th grade and younger) \nRegular quizzing 7-8:30pm (6th-12th grade) \nWhether you’re a seasoned quizzing champion or new to the world of Bible trivia\, this event promises fun and friendly competition. Come challenge your knowledge\, deepen your understanding of Scripture\, and connect with fellow Bible enthusiasts.
URL:https://eastlincolnalliance.com/event/bible-quiz-practice-9/
LOCATION:East Lincoln Alliance Church\, 735 70th Avenue\, Amery\, WI\, 54001\, United States
END:VEVENT
BEGIN:VEVENT
DTSTART;TZID=UTC:20241030T151500
DTEND;TZID=UTC:20241030T163000
DTSTAMP:20260425T132125
CREATED:20240907T161402Z
LAST-MODIFIED:20240907T161402Z
UID:9745-1730301300-1730305800@eastlincolnalliance.com
SUMMARY:After School Good News Club
DESCRIPTION:After School Good News Club starts on Wednesday\, September 11th at Lien Elementary School (Amery) right after school (3:15pm) until 4:30pm and will continue every Wednesday that Amery Schools are in session. \nGood News Club is open to students Kindergarten to 5th grade. Students attending the Intermediate School should ride the transfer bus to the Elementary School. Registration Forms must be filled out (below).   Questions? Contact Mary Schussman. \neastlincolnalliance.com/ninja-forms/10okpn/
URL:https://eastlincolnalliance.com/event/after-school-good-news-club-66/
LOCATION:Lien Elementary School\, 469 Minneapolis Ave S\, Amery\, WI\, 54001\, United States
END:VEVENT
BEGIN:VEVENT
DTSTART;TZID=UTC:20241030T180000
DTEND;TZID=UTC:20241030T200000
DTSTAMP:20260425T132125
CREATED:20240805T142050Z
LAST-MODIFIED:20240805T142050Z
UID:9586-1730311200-1730318400@eastlincolnalliance.com
SUMMARY:Recharge
DESCRIPTION:All students 6-12th grade are invited to attend.  Make sure to invite your friends!
URL:https://eastlincolnalliance.com/event/recharge-90/
LOCATION:East Lincoln Alliance Church\, 735 70th Avenue\, Amery\, WI\, 54001\, United States
END:VEVENT
BEGIN:VEVENT
DTSTART;TZID=UTC:20241030T180000
DTEND;TZID=UTC:20241030T200000
DTSTAMP:20260425T132125
CREATED:20240805T145338Z
LAST-MODIFIED:20240805T145338Z
UID:9614-1730311200-1730318400@eastlincolnalliance.com
SUMMARY:Son Seekers
DESCRIPTION:Son Seekers is a program for K-5th graders.  Programming is 6-8pm every Wednesday at East Lincoln Alliance Church. We will have games\, stories\, songs\, crafts.
URL:https://eastlincolnalliance.com/event/son-seekers-27/
LOCATION:East Lincoln Alliance Church\, 735 70th Avenue\, Amery\, WI\, 54001\, United States
END:VEVENT
BEGIN:VEVENT
DTSTART;TZID=UTC:20241103T073000
DTEND;TZID=UTC:20241103T083000
DTSTAMP:20260425T132125
CREATED:20241007T155006Z
LAST-MODIFIED:20241007T155006Z
UID:9875-1730619000-1730622600@eastlincolnalliance.com
SUMMARY:Men's Breakfast
DESCRIPTION:1st Sunday of every month.  All men/boys are invited!
URL:https://eastlincolnalliance.com/event/mens-breakfast-12/
LOCATION:East Lincoln Alliance Church\, 735 70th Avenue\, Amery\, WI\, 54001\, United States
END:VEVENT
BEGIN:VEVENT
DTSTART;TZID=UTC:20241103T084500
DTEND;TZID=UTC:20241103T094500
DTSTAMP:20260425T132125
CREATED:20240923T151914Z
LAST-MODIFIED:20240923T151914Z
UID:9798-1730623500-1730627100@eastlincolnalliance.com
SUMMARY:Discipleship Hour
DESCRIPTION:Join us for Discipleship Hour from 8:45-9:45am.  All 6th grade and up are invited.
URL:https://eastlincolnalliance.com/event/discipleship-hour-26/
LOCATION:East Lincoln Alliance Church\, 735 70th Avenue\, Amery\, WI\, 54001\, United States
END:VEVENT
BEGIN:VEVENT
DTSTART;TZID=UTC:20241103T100000
DTEND;TZID=UTC:20241103T111500
DTSTAMP:20260425T132125
CREATED:20240925T204853Z
LAST-MODIFIED:20240925T204853Z
UID:9831-1730628000-1730632500@eastlincolnalliance.com
SUMMARY:Worship Service
DESCRIPTION:We welcome you to our regular worship service every Sunday @ 10:00am.\n\n\n\nWe offer the following services for kids during the Worship Service: \nEarly Childhood care for 1-3 year olds in the East Wing \n4 years old-Kindergarten in the West Wing (Discovery Land) \n1st-5th Grade in the East Wing (Discovery Land)
URL:https://eastlincolnalliance.com/event/worship-service-124/
LOCATION:East Lincoln Alliance Church\, 735 70th Avenue\, Amery\, WI\, 54001\, United States
END:VEVENT
BEGIN:VEVENT
DTSTART;TZID=UTC:20241104T180000
DTEND;TZID=UTC:20241104T203000
DTSTAMP:20260425T132125
CREATED:20240819T220233Z
LAST-MODIFIED:20240819T220233Z
UID:9675-1730743200-1730752200@eastlincolnalliance.com
SUMMARY:Bible Quiz Practice
DESCRIPTION:Junior quizzing 6-7pm (5th grade and younger) \nRegular quizzing 7-8:30pm (6th-12th grade) \nWhether you’re a seasoned quizzing champion or new to the world of Bible trivia\, this event promises fun and friendly competition. Come challenge your knowledge\, deepen your understanding of Scripture\, and connect with fellow Bible enthusiasts.
URL:https://eastlincolnalliance.com/event/bible-quiz-practice-10/
LOCATION:East Lincoln Alliance Church\, 735 70th Avenue\, Amery\, WI\, 54001\, United States
END:VEVENT
BEGIN:VEVENT
DTSTART;TZID=UTC:20241106T151500
DTEND;TZID=UTC:20241106T163000
DTSTAMP:20260425T132125
CREATED:20240907T161432Z
LAST-MODIFIED:20240907T161432Z
UID:9747-1730906100-1730910600@eastlincolnalliance.com
SUMMARY:After School Good News Club
DESCRIPTION:After School Good News Club starts on Wednesday\, September 11th at Lien Elementary School (Amery) right after school (3:15pm) until 4:30pm and will continue every Wednesday that Amery Schools are in session. \nGood News Club is open to students Kindergarten to 5th grade. Students attending the Intermediate School should ride the transfer bus to the Elementary School. Registration Forms must be filled out (below).   Questions? Contact Mary Schussman. \neastlincolnalliance.com/ninja-forms/10okpn/
URL:https://eastlincolnalliance.com/event/after-school-good-news-club-67/
LOCATION:Lien Elementary School\, 469 Minneapolis Ave S\, Amery\, WI\, 54001\, United States
END:VEVENT
BEGIN:VEVENT
DTSTART;TZID=UTC:20241106T180000
DTEND;TZID=UTC:20241106T200000
DTSTAMP:20260425T132125
CREATED:20240805T142115Z
LAST-MODIFIED:20240805T142115Z
UID:9588-1730916000-1730923200@eastlincolnalliance.com
SUMMARY:Recharge
DESCRIPTION:All students 6-12th grade are invited to attend.  Make sure to invite your friends!
URL:https://eastlincolnalliance.com/event/recharge-91/
LOCATION:East Lincoln Alliance Church\, 735 70th Avenue\, Amery\, WI\, 54001\, United States
END:VEVENT
BEGIN:VEVENT
DTSTART;TZID=UTC:20241106T180000
DTEND;TZID=UTC:20241106T200000
DTSTAMP:20260425T132125
CREATED:20240805T145612Z
LAST-MODIFIED:20240805T145612Z
UID:9616-1730916000-1730923200@eastlincolnalliance.com
SUMMARY:Son Seekers
DESCRIPTION:Son Seekers is a program for K-5th graders.  Programming is 6-8pm every Wednesday at East Lincoln Alliance Church. We will have games\, stories\, songs\, crafts.
URL:https://eastlincolnalliance.com/event/son-seekers-28/
LOCATION:East Lincoln Alliance Church\, 735 70th Avenue\, Amery\, WI\, 54001\, United States
END:VEVENT
BEGIN:VEVENT
DTSTART;TZID=UTC:20241109T173000
DTEND;TZID=UTC:20241109T200000
DTSTAMP:20260425T132125
CREATED:20241011T185834Z
LAST-MODIFIED:20241011T185834Z
UID:9881-1731173400-1731182400@eastlincolnalliance.com
SUMMARY:Dinners for Six
DESCRIPTION:All women are invited to gather and grow together at our next Dinners for Six.  Sign up to be a hostess or a guest on Saturday\, November 9th at 5:30pm.
URL:https://eastlincolnalliance.com/event/dinners-for-six-2/
LOCATION:WI
END:VEVENT
BEGIN:VEVENT
DTSTART;TZID=UTC:20241110T084500
DTEND;TZID=UTC:20241110T094500
DTSTAMP:20260425T132125
CREATED:20240925T203112Z
LAST-MODIFIED:20240925T203112Z
UID:9806-1731228300-1731231900@eastlincolnalliance.com
SUMMARY:Discipleship Hour
DESCRIPTION:Join us for Discipleship Hour from 8:45-9:45am.  All 6th grade and up are invited.
URL:https://eastlincolnalliance.com/event/discipleship-hour-28/
LOCATION:East Lincoln Alliance Church\, 735 70th Avenue\, Amery\, WI\, 54001\, United States
END:VEVENT
BEGIN:VEVENT
DTSTART;TZID=UTC:20241110T100000
DTEND;TZID=UTC:20241110T111500
DTSTAMP:20260425T132125
CREATED:20240925T204925Z
LAST-MODIFIED:20240925T204925Z
UID:9833-1731232800-1731237300@eastlincolnalliance.com
SUMMARY:Worship Service
DESCRIPTION:We welcome you to our regular worship service every Sunday @ 10:00am.\n\n\n\nWe offer the following services for kids during the Worship Service: \nEarly Childhood care for 1-3 year olds in the East Wing \n4 years old-Kindergarten in the West Wing (Discovery Land) \n1st-5th Grade in the East Wing (Discovery Land)
URL:https://eastlincolnalliance.com/event/worship-service-125/
LOCATION:East Lincoln Alliance Church\, 735 70th Avenue\, Amery\, WI\, 54001\, United States
END:VEVENT
BEGIN:VEVENT
DTSTART;TZID=UTC:20241111T180000
DTEND;TZID=UTC:20241111T203000
DTSTAMP:20260425T132125
CREATED:20240819T220255Z
LAST-MODIFIED:20240819T220255Z
UID:9677-1731348000-1731357000@eastlincolnalliance.com
SUMMARY:Bible Quiz Practice
DESCRIPTION:Junior quizzing 6-7pm (5th grade and younger) \nRegular quizzing 7-8:30pm (6th-12th grade) \nWhether you’re a seasoned quizzing champion or new to the world of Bible trivia\, this event promises fun and friendly competition. Come challenge your knowledge\, deepen your understanding of Scripture\, and connect with fellow Bible enthusiasts.
URL:https://eastlincolnalliance.com/event/bible-quiz-practice-11/
LOCATION:East Lincoln Alliance Church\, 735 70th Avenue\, Amery\, WI\, 54001\, United States
END:VEVENT
BEGIN:VEVENT
DTSTART;TZID=UTC:20241113T151500
DTEND;TZID=UTC:20241113T163000
DTSTAMP:20260425T132125
CREATED:20240907T161459Z
LAST-MODIFIED:20240907T161459Z
UID:9749-1731510900-1731515400@eastlincolnalliance.com
SUMMARY:After School Good News Club
DESCRIPTION:After School Good News Club starts on Wednesday\, September 11th at Lien Elementary School (Amery) right after school (3:15pm) until 4:30pm and will continue every Wednesday that Amery Schools are in session. \nGood News Club is open to students Kindergarten to 5th grade. Students attending the Intermediate School should ride the transfer bus to the Elementary School. Registration Forms must be filled out (below).   Questions? Contact Mary Schussman. \neastlincolnalliance.com/ninja-forms/10okpn/
URL:https://eastlincolnalliance.com/event/after-school-good-news-club-68/
LOCATION:Lien Elementary School\, 469 Minneapolis Ave S\, Amery\, WI\, 54001\, United States
END:VEVENT
BEGIN:VEVENT
DTSTART;TZID=UTC:20241113T180000
DTEND;TZID=UTC:20241113T200000
DTSTAMP:20260425T132125
CREATED:20240805T142139Z
LAST-MODIFIED:20240805T142139Z
UID:9590-1731520800-1731528000@eastlincolnalliance.com
SUMMARY:Recharge
DESCRIPTION:All students 6-12th grade are invited to attend.  Make sure to invite your friends!
URL:https://eastlincolnalliance.com/event/recharge-92/
LOCATION:East Lincoln Alliance Church\, 735 70th Avenue\, Amery\, WI\, 54001\, United States
END:VEVENT
END:VCALENDAR