BEGIN:VCALENDAR
VERSION:2.0
PRODID:-//East Lincoln Alliance Church - ECPv6.15.20//NONSGML v1.0//EN
CALSCALE:GREGORIAN
METHOD:PUBLISH
X-ORIGINAL-URL:https://eastlincolnalliance.com
X-WR-CALDESC:Events for East Lincoln Alliance Church
REFRESH-INTERVAL;VALUE=DURATION:PT1H
X-Robots-Tag:noindex
X-PUBLISHED-TTL:PT1H
BEGIN:VTIMEZONE
TZID:UTC
BEGIN:STANDARD
TZOFFSETFROM:+0000
TZOFFSETTO:+0000
TZNAME:UTC
DTSTART:20240101T000000
END:STANDARD
END:VTIMEZONE
BEGIN:VEVENT
DTSTART;TZID=UTC:20250824T084500
DTEND;TZID=UTC:20250824T094500
DTSTAMP:20260424T113841
CREATED:20250603T173641Z
LAST-MODIFIED:20250603T173641Z
UID:10587-1756025100-1756028700@eastlincolnalliance.com
SUMMARY:Discipleship Hour
DESCRIPTION:Join us for Discipleship Hour from 8:45-9:45am.  All 6th grade and up are invited.
URL:https://eastlincolnalliance.com/event/discipleship-hour-68/
LOCATION:East Lincoln Alliance Church\, 735 70th Avenue\, Amery\, WI\, 54001\, United States
END:VEVENT
BEGIN:VEVENT
DTSTART;TZID=UTC:20250824T100000
DTEND;TZID=UTC:20250824T111500
DTSTAMP:20260424T113841
CREATED:20250603T174737Z
LAST-MODIFIED:20250603T174737Z
UID:10611-1756029600-1756034100@eastlincolnalliance.com
SUMMARY:Worship Service
DESCRIPTION:We welcome you to our regular worship service every Sunday @ 10:00am.\n\n\n\nWe offer the following services for kids during the Worship Service: \nEarly Childhood care for 1-3 year olds in the East Wing \n4 years old-Kindergarten in the West Wing (Discovery Land) \n1st-5th Grade in the East Wing (Discovery Land)
URL:https://eastlincolnalliance.com/event/worship-service-164/
LOCATION:East Lincoln Alliance Church\, 735 70th Avenue\, Amery\, WI\, 54001\, United States
END:VEVENT
BEGIN:VEVENT
DTSTART;TZID=UTC:20250824T113000
DTEND;TZID=UTC:20250824T133000
DTSTAMP:20260424T113841
CREATED:20250728T160758Z
LAST-MODIFIED:20250728T160758Z
UID:10785-1756035000-1756042200@eastlincolnalliance.com
SUMMARY:Church Picnic
DESCRIPTION:All are invited to an End of Summer Picnic/Potluck on Sunday\, August 24th after the Worship Service. Please bring a dish to share!
URL:https://eastlincolnalliance.com/event/church-picnic/
LOCATION:East Lincoln Alliance Church\, 735 70th Avenue\, Amery\, WI\, 54001\, United States
END:VEVENT
BEGIN:VEVENT
DTSTART;TZID=UTC:20250825T180000
DTEND;TZID=UTC:20250825T200000
DTSTAMP:20260424T113841
CREATED:20250819T001330Z
LAST-MODIFIED:20250819T004548Z
UID:10819-1756144800-1756152000@eastlincolnalliance.com
SUMMARY:HOPE aLIVE Prayer Walk & Door to Door Invite
DESCRIPTION:Please join us for a Prayer Walk at Michael Park on Monday\, August 25th.  After the prayer walk\, we invite all who would like to go door-to-door to hand out invitations. \n 
URL:https://eastlincolnalliance.com/event/hope-alive-prayer-walk-door-to-door-invite/
LOCATION:Michael Park\, 132 Central Street\, Amery\, WI\, 54001\, United States
END:VEVENT
BEGIN:VEVENT
DTSTART;TZID=UTC:20250826T170000
DTEND;TZID=UTC:20250826T203000
DTSTAMP:20260424T113841
CREATED:20250617T145220Z
LAST-MODIFIED:20250818T235428Z
UID:10689-1756227600-1756240200@eastlincolnalliance.com
SUMMARY:HOPE aLIVE
DESCRIPTION:Mark your calendar for HOPE aLIVE on Tuesday\, August 26th* 5-8:30pm at Michael Park in Amery! \nFREE Music\n– East Lincoln All Stars\n– Stumbling Saints\n– Elise and Taylor Simpson\nFREE Food\n– walking tacos\n– hot dogs\n– ice cream\n– church lady cookies\n– chips\n– beverages\nFREE games\n– inflatables\n– obstacle course\n– yard games \nNEW THIS YEAR a karaoke tent! \nHOPE aLIVE is sponsored by the following churches: East Lincoln Alliance Church\, Journey Church\, Apple River Community Church\, Amery Free Lutheran Church\, First Lutheran Church of Clear Lake and United Covenant Church. \n*Rain date August 27th
URL:https://eastlincolnalliance.com/event/hope-alive-7/
LOCATION:Michael Park\, 132 Central Street\, Amery\, WI\, 54001\, United States
END:VEVENT
BEGIN:VEVENT
DTSTART;TZID=UTC:20250828T103000
DTEND;TZID=UTC:20250828T150000
DTSTAMP:20260424T113841
CREATED:20250611T145737Z
LAST-MODIFIED:20250611T145737Z
UID:10681-1756377000-1756393200@eastlincolnalliance.com
SUMMARY:Group Learning
DESCRIPTION:Kayla Nelson
URL:https://eastlincolnalliance.com/event/group-learning-9/
LOCATION:East Lincoln Alliance Church\, 735 70th Avenue\, Amery\, WI\, 54001\, United States
END:VEVENT
BEGIN:VEVENT
DTSTART;TZID=UTC:20250828T173000
DTEND;TZID=UTC:20250828T193000
DTSTAMP:20260424T113841
CREATED:20250808T181251Z
LAST-MODIFIED:20250808T181251Z
UID:10798-1756402200-1756409400@eastlincolnalliance.com
SUMMARY:Group Learning - Orientation & Information Night
DESCRIPTION:Kayla Nelson
URL:https://eastlincolnalliance.com/event/group-learning-orientation-information-night/
LOCATION:East Lincoln Alliance Church\, 735 70th Avenue\, Amery\, WI\, 54001\, United States
END:VEVENT
BEGIN:VEVENT
DTSTART;TZID=UTC:20250830T170000
DTEND;TZID=UTC:20250830T190000
DTSTAMP:20260424T113841
CREATED:20250611T145804Z
LAST-MODIFIED:20250611T145804Z
UID:10683-1756573200-1756580400@eastlincolnalliance.com
SUMMARY:Group Learning
DESCRIPTION:Kayla Nelson
URL:https://eastlincolnalliance.com/event/group-learning-10/
LOCATION:East Lincoln Alliance Church\, 735 70th Avenue\, Amery\, WI\, 54001\, United States
END:VEVENT
BEGIN:VEVENT
DTSTART;TZID=UTC:20250831T084500
DTEND;TZID=UTC:20250831T094500
DTSTAMP:20260424T113841
CREATED:20250603T173709Z
LAST-MODIFIED:20250603T173709Z
UID:10589-1756629900-1756633500@eastlincolnalliance.com
SUMMARY:Discipleship Hour
DESCRIPTION:Join us for Discipleship Hour from 8:45-9:45am.  All 6th grade and up are invited.
URL:https://eastlincolnalliance.com/event/discipleship-hour-69/
LOCATION:East Lincoln Alliance Church\, 735 70th Avenue\, Amery\, WI\, 54001\, United States
END:VEVENT
BEGIN:VEVENT
DTSTART;TZID=UTC:20250831T100000
DTEND;TZID=UTC:20250831T111500
DTSTAMP:20260424T113841
CREATED:20250603T174806Z
LAST-MODIFIED:20250603T174806Z
UID:10613-1756634400-1756638900@eastlincolnalliance.com
SUMMARY:Worship Service
DESCRIPTION:We welcome you to our regular worship service every Sunday @ 10:00am.\n\n\n\nWe offer the following services for kids during the Worship Service: \nEarly Childhood care for 1-3 year olds in the East Wing \n4 years old-Kindergarten in the West Wing (Discovery Land) \n1st-5th Grade in the East Wing (Discovery Land)
URL:https://eastlincolnalliance.com/event/worship-service-165/
LOCATION:East Lincoln Alliance Church\, 735 70th Avenue\, Amery\, WI\, 54001\, United States
END:VEVENT
BEGIN:VEVENT
DTSTART;TZID=UTC:20250902T183000
DTEND;TZID=UTC:20250902T193000
DTSTAMP:20260424T113841
CREATED:20250603T181214Z
LAST-MODIFIED:20250603T181340Z
UID:10641-1756837800-1756841400@eastlincolnalliance.com
SUMMARY:Prayer Gathering
DESCRIPTION:All are invited to join as we pray for each other\, our community and world.  Every Tuesday\, 6:30pm
URL:https://eastlincolnalliance.com/event/prayer-gathering-74/
LOCATION:East Lincoln Alliance Church\, 735 70th Avenue\, Amery\, WI\, 54001\, United States
END:VEVENT
BEGIN:VEVENT
DTSTART;TZID=UTC:20250907T084500
DTEND;TZID=UTC:20250907T094500
DTSTAMP:20260424T113841
CREATED:20250603T173734Z
LAST-MODIFIED:20250603T173734Z
UID:10591-1757234700-1757238300@eastlincolnalliance.com
SUMMARY:Discipleship Hour
DESCRIPTION:Join us for Discipleship Hour from 8:45-9:45am.  All 6th grade and up are invited.
URL:https://eastlincolnalliance.com/event/discipleship-hour-70/
LOCATION:East Lincoln Alliance Church\, 735 70th Avenue\, Amery\, WI\, 54001\, United States
END:VEVENT
BEGIN:VEVENT
DTSTART;TZID=UTC:20250907T100000
DTEND;TZID=UTC:20250907T111500
DTSTAMP:20260424T113841
CREATED:20250603T180017Z
LAST-MODIFIED:20250603T180017Z
UID:10615-1757239200-1757243700@eastlincolnalliance.com
SUMMARY:Worship Service
DESCRIPTION:We welcome you to our regular worship service every Sunday @ 10:00am.\n\n\n\nWe offer the following services for kids during the Worship Service: \nEarly Childhood care for 1-3 year olds in the East Wing \n4 years old-Kindergarten in the West Wing (Discovery Land) \n1st-5th Grade in the East Wing (Discovery Land)
URL:https://eastlincolnalliance.com/event/worship-service-166/
LOCATION:East Lincoln Alliance Church\, 735 70th Avenue\, Amery\, WI\, 54001\, United States
END:VEVENT
BEGIN:VEVENT
DTSTART;TZID=UTC:20250909T183000
DTEND;TZID=UTC:20250909T193000
DTSTAMP:20260424T113841
CREATED:20250603T181240Z
LAST-MODIFIED:20250603T181358Z
UID:10643-1757442600-1757446200@eastlincolnalliance.com
SUMMARY:Prayer Gathering
DESCRIPTION:All are invited to join as we pray for each other\, our community and world.  Every Tuesday\, 6:30pm
URL:https://eastlincolnalliance.com/event/prayer-gathering-75/
LOCATION:East Lincoln Alliance Church\, 735 70th Avenue\, Amery\, WI\, 54001\, United States
END:VEVENT
BEGIN:VEVENT
DTSTART;TZID=UTC:20250910T151500
DTEND;TZID=UTC:20250910T163000
DTSTAMP:20260424T113841
CREATED:20250818T235244Z
LAST-MODIFIED:20250818T235244Z
UID:10815-1757517300-1757521800@eastlincolnalliance.com
SUMMARY:After School Good News Club
DESCRIPTION:After School Good News Club starts on Wednesday\, September 10th at Lien Elementary School (Amery) right after school (3:15pm) until 4:30pm and will continue every Wednesday that Amery Schools are in session. \nGood News Club is open to students Kindergarten to 5th grade. Students attending the Intermediate School should ride the transfer bus to the Elementary School. Registration Forms must be filled out (below).   Questions? Contact Mary Schussman. \neastlincolnalliance.com/ninja-forms/10okpn/
URL:https://eastlincolnalliance.com/event/after-school-good-news-club-84/
LOCATION:Lien Elementary School\, 469 Minneapolis Ave S\, Amery\, WI\, 54001\, United States
END:VEVENT
BEGIN:VEVENT
DTSTART;TZID=UTC:20250910T180000
DTEND;TZID=UTC:20250910T200000
DTSTAMP:20260424T113841
CREATED:20250819T002307Z
LAST-MODIFIED:20250819T002307Z
UID:10821-1757527200-1757534400@eastlincolnalliance.com
SUMMARY:Son Seekers
DESCRIPTION:Son Seekers is a program for K-5th graders.  Programming is 6-8pm every Wednesday at East Lincoln Alliance Church. We will have games\, stories\, songs\, crafts.
URL:https://eastlincolnalliance.com/event/son-seekers-53/
LOCATION:East Lincoln Alliance Church\, 735 70th Avenue\, Amery\, WI\, 54001\, United States
END:VEVENT
BEGIN:VEVENT
DTSTART;TZID=UTC:20250910T180000
DTEND;TZID=UTC:20250910T200000
DTSTAMP:20260424T113841
CREATED:20250819T002437Z
LAST-MODIFIED:20250819T002437Z
UID:10823-1757527200-1757534400@eastlincolnalliance.com
SUMMARY:Recharge
DESCRIPTION:All students 6-12th grade are invited to attend.  Make sure to invite your friends!
URL:https://eastlincolnalliance.com/event/recharge-113/
LOCATION:East Lincoln Alliance Church\, 735 70th Avenue\, Amery\, WI\, 54001\, United States
END:VEVENT
BEGIN:VEVENT
DTSTART;TZID=UTC:20250914T084500
DTEND;TZID=UTC:20250914T094500
DTSTAMP:20260424T113841
CREATED:20250603T173805Z
LAST-MODIFIED:20250603T173805Z
UID:10593-1757839500-1757843100@eastlincolnalliance.com
SUMMARY:Discipleship Hour
DESCRIPTION:Join us for Discipleship Hour from 8:45-9:45am.  All 6th grade and up are invited.
URL:https://eastlincolnalliance.com/event/discipleship-hour-71/
LOCATION:East Lincoln Alliance Church\, 735 70th Avenue\, Amery\, WI\, 54001\, United States
END:VEVENT
BEGIN:VEVENT
DTSTART;TZID=UTC:20250914T100000
DTEND;TZID=UTC:20250914T111500
DTSTAMP:20260424T113841
CREATED:20250603T180110Z
LAST-MODIFIED:20250603T180110Z
UID:10617-1757844000-1757848500@eastlincolnalliance.com
SUMMARY:Worship Service
DESCRIPTION:We welcome you to our regular worship service every Sunday @ 10:00am.\n\n\n\nWe offer the following services for kids during the Worship Service: \nEarly Childhood care for 1-3 year olds in the East Wing \n4 years old-Kindergarten in the West Wing (Discovery Land) \n1st-5th Grade in the East Wing (Discovery Land)
URL:https://eastlincolnalliance.com/event/worship-service-167/
LOCATION:East Lincoln Alliance Church\, 735 70th Avenue\, Amery\, WI\, 54001\, United States
END:VEVENT
BEGIN:VEVENT
DTSTART;TZID=UTC:20250915T180000
DTEND;TZID=UTC:20250915T203000
DTSTAMP:20260424T113841
CREATED:20250603T181718Z
LAST-MODIFIED:20250603T181718Z
UID:10655-1757959200-1757968200@eastlincolnalliance.com
SUMMARY:Elder Meeting
DESCRIPTION:
URL:https://eastlincolnalliance.com/event/elder-meeting-15/
LOCATION:WI
END:VEVENT
BEGIN:VEVENT
DTSTART;TZID=UTC:20250916T183000
DTEND;TZID=UTC:20250916T193000
DTSTAMP:20260424T113841
CREATED:20250603T181311Z
LAST-MODIFIED:20250603T181311Z
UID:10645-1758047400-1758051000@eastlincolnalliance.com
SUMMARY:Prayer Gathering
DESCRIPTION:All are invited to join as we pray for each other\, our community and world.  Every Tuesday\, 6:30pm
URL:https://eastlincolnalliance.com/event/prayer-gathering-76/
LOCATION:East Lincoln Alliance Church\, 735 70th Avenue\, Amery\, WI\, 54001\, United States
END:VEVENT
BEGIN:VEVENT
DTSTART;TZID=UTC:20250917T151500
DTEND;TZID=UTC:20250917T163000
DTSTAMP:20260424T113841
CREATED:20250902T204020Z
LAST-MODIFIED:20250902T204331Z
UID:10896-1758122100-1758126600@eastlincolnalliance.com
SUMMARY:After School Good News Club
DESCRIPTION:All K-5th grade students are invited to After School Good News Club at Lien Elementary School (Amery) right after school (3:15pm) until 4:30pm every Wednesday that Amery Schools are in session. \nStudents attending the Intermediate School should ride the transfer bus to the Elementary School. Registration Forms must be filled out (below).   Questions? Contact Mary Schussman. \neastlincolnalliance.com/ninja-forms/10okpn/
URL:https://eastlincolnalliance.com/event/after-school-good-news-club-85/
LOCATION:Lien Elementary School\, 469 Minneapolis Ave S\, Amery\, WI\, 54001\, United States
END:VEVENT
BEGIN:VEVENT
DTSTART;TZID=UTC:20250917T180000
DTEND;TZID=UTC:20250917T200000
DTSTAMP:20260424T113841
CREATED:20250902T175158Z
LAST-MODIFIED:20250902T175158Z
UID:10843-1758132000-1758139200@eastlincolnalliance.com
SUMMARY:Recharge
DESCRIPTION:All students 6-12th grade are invited to attend.  Make sure to invite your friends!
URL:https://eastlincolnalliance.com/event/recharge-114/
LOCATION:East Lincoln Alliance Church\, 735 70th Avenue\, Amery\, WI\, 54001\, United States
END:VEVENT
BEGIN:VEVENT
DTSTART;TZID=UTC:20250917T180000
DTEND;TZID=UTC:20250917T200000
DTSTAMP:20260424T113841
CREATED:20250902T203443Z
LAST-MODIFIED:20250902T203443Z
UID:10870-1758132000-1758139200@eastlincolnalliance.com
SUMMARY:Son Seekers
DESCRIPTION:Son Seekers is a program for K-5th graders.  Programming is 6-8pm every Wednesday at East Lincoln Alliance Church. We will have games\, stories\, songs\, crafts.
URL:https://eastlincolnalliance.com/event/son-seekers-54/
LOCATION:East Lincoln Alliance Church\, 735 70th Avenue\, Amery\, WI\, 54001\, United States
END:VEVENT
BEGIN:VEVENT
DTSTART;TZID=UTC:20250918T180000
DTEND;TZID=UTC:20250918T200000
DTSTAMP:20260424T113841
CREATED:20250908T160500Z
LAST-MODIFIED:20250908T160500Z
UID:10928-1758218400-1758225600@eastlincolnalliance.com
SUMMARY:Mens & Boys Beast Feast
DESCRIPTION:All boys/men are invited to hear our international worker Bob speak.  Bring your favorite wild game dish to share or if that’s not your thing\, bring a side dish to share!
URL:https://eastlincolnalliance.com/event/mens-boys-beast-feast/
LOCATION:East Lincoln Alliance Church\, 735 70th Avenue\, Amery\, WI\, 54001\, United States
END:VEVENT
BEGIN:VEVENT
DTSTART;TZID=UTC:20250919T180000
DTEND;TZID=UTC:20250919T200000
DTSTAMP:20260424T113841
CREATED:20250721T132839Z
LAST-MODIFIED:20250721T132839Z
UID:10754-1758304800-1758312000@eastlincolnalliance.com
SUMMARY:Grace Marriage
DESCRIPTION:
URL:https://eastlincolnalliance.com/event/grace-marriage-8/
LOCATION:East Lincoln Alliance Church\, 735 70th Avenue\, Amery\, WI\, 54001\, United States
END:VEVENT
BEGIN:VEVENT
DTSTART;TZID=UTC:20250920T100000
DTEND;TZID=UTC:20250920T120000
DTSTAMP:20260424T113841
CREATED:20250908T160822Z
LAST-MODIFIED:20250908T160822Z
UID:10930-1758362400-1758369600@eastlincolnalliance.com
SUMMARY:Fall Conference Women's Event
DESCRIPTION:Ladies Meet Up With Molly & Penelope Midgette\nSaturday\, September 20th at 10:00am\n*Bring your young ladies if they will be willing to sit and listen.\n*We will be serving warm beverages and light snacks.
URL:https://eastlincolnalliance.com/event/fall-conference-womens-event/
LOCATION:East Lincoln Alliance Church\, 735 70th Avenue\, Amery\, WI\, 54001\, United States
END:VEVENT
BEGIN:VEVENT
DTSTART;TZID=UTC:20250920T190000
DTEND;TZID=UTC:20250920T210000
DTSTAMP:20260424T113841
CREATED:20250908T161039Z
LAST-MODIFIED:20250908T161039Z
UID:10932-1758394800-1758402000@eastlincolnalliance.com
SUMMARY:Fall Conference Family Night
DESCRIPTION:Family Night – birthday party\, serving cake and ice cream.  All young and old are invited!!
URL:https://eastlincolnalliance.com/event/fall-conference-family-night-2/
LOCATION:East Lincoln Alliance Church\, 735 70th Avenue\, Amery\, WI\, 54001\, United States
END:VEVENT
BEGIN:VEVENT
DTSTART;TZID=UTC:20250921T084500
DTEND;TZID=UTC:20250921T094500
DTSTAMP:20260424T113841
CREATED:20250603T173829Z
LAST-MODIFIED:20250603T173829Z
UID:10595-1758444300-1758447900@eastlincolnalliance.com
SUMMARY:Discipleship Hour
DESCRIPTION:Join us for Discipleship Hour from 8:45-9:45am.  All 6th grade and up are invited.
URL:https://eastlincolnalliance.com/event/discipleship-hour-72/
LOCATION:East Lincoln Alliance Church\, 735 70th Avenue\, Amery\, WI\, 54001\, United States
END:VEVENT
BEGIN:VEVENT
DTSTART;TZID=UTC:20250921T100000
DTEND;TZID=UTC:20250921T111500
DTSTAMP:20260424T113841
CREATED:20250603T180148Z
LAST-MODIFIED:20250908T161717Z
UID:10619-1758448800-1758453300@eastlincolnalliance.com
SUMMARY:Worship Service & Potluck Meal
DESCRIPTION:We welcome you to our regular worship service every Sunday @ 10:00am.\n\n\n\nWe offer the following services for kids during the Worship Service: \nEarly Childhood care for 1-3 year olds in the East Wing \n4 years old-Kindergarten in the West Wing (Discovery Land) \n1st-5th Grade in the East Wing (Discovery Land)
URL:https://eastlincolnalliance.com/event/worship-service-168/
LOCATION:East Lincoln Alliance Church\, 735 70th Avenue\, Amery\, WI\, 54001\, United States
END:VEVENT
END:VCALENDAR