BEGIN:VCALENDAR
VERSION:2.0
PRODID:-//East Lincoln Alliance Church - ECPv6.15.20//NONSGML v1.0//EN
CALSCALE:GREGORIAN
METHOD:PUBLISH
X-WR-CALNAME:East Lincoln Alliance Church
X-ORIGINAL-URL:https://eastlincolnalliance.com
X-WR-CALDESC:Events for East Lincoln Alliance Church
REFRESH-INTERVAL;VALUE=DURATION:PT1H
X-Robots-Tag:noindex
X-PUBLISHED-TTL:PT1H
BEGIN:VTIMEZONE
TZID:UTC
BEGIN:STANDARD
TZOFFSETFROM:+0000
TZOFFSETTO:+0000
TZNAME:UTC
DTSTART:20220101T000000
END:STANDARD
END:VTIMEZONE
BEGIN:VEVENT
DTSTART;TZID=UTC:20231101T090000
DTEND;TZID=UTC:20231101T160000
DTSTAMP:20260425T164745
CREATED:20231030T145915Z
LAST-MODIFIED:20231030T145915Z
UID:8756-1698829200-1698854400@eastlincolnalliance.com
SUMMARY:Women's Craft Day
DESCRIPTION:Women are invited to join on Wednesday\, November 1st from 9am-4pm for a day of crafting and fellowship. Bring whatever project you are working on\, or just come and visit! We will be meeting at Bonnie Williamson’s. Pack a lunch.\nContact Julie Anderson if you have questions or would like to host a craft day. 715-607-8022
URL:https://eastlincolnalliance.com/event/womens-craft-day-23/
LOCATION:Vern & Bonnie Williamson\, 759 Golf Way\, Amery\, WI\, 54001\, United States
END:VEVENT
BEGIN:VEVENT
DTSTART;TZID=UTC:20231101T151500
DTEND;TZID=UTC:20231101T163000
DTSTAMP:20260425T164745
CREATED:20230821T154246Z
LAST-MODIFIED:20230821T154246Z
UID:8435-1698851700-1698856200@eastlincolnalliance.com
SUMMARY:After School Good News Club
DESCRIPTION:After School Good News Club will be at Lien Elementary School (Amery) every Wednesday right after school until 4:30pm.  This is open to students Kindergarten to 5th grade.  Students attending the Intermediate School should ride the transfer bus to the Elementary School. Parent permission slips must be filled out.  Forms can be found here: Parent Permission Form \n*Note – if Amery Schools are closed on a Wednesday\, there will be no GNC
URL:https://eastlincolnalliance.com/event/after-school-good-news-club-42/
LOCATION:Lien Elementary School\, 469 Minneapolis Ave S\, Amery\, WI\, 54001\, United States
END:VEVENT
BEGIN:VEVENT
DTSTART;TZID=UTC:20231101T180000
DTEND;TZID=UTC:20231101T200000
DTSTAMP:20260425T164745
CREATED:20230821T153345Z
LAST-MODIFIED:20230821T153345Z
UID:8404-1698861600-1698868800@eastlincolnalliance.com
SUMMARY:Recharge/Youth Group
DESCRIPTION:All students 6-12th grade are invited to attend.  Make sure to invite your friends!
URL:https://eastlincolnalliance.com/event/recharge-youth-group-41/
LOCATION:East Lincoln Alliance Church\, 735 70th Avenue\, Amery\, WI\, 54001\, United States
END:VEVENT
BEGIN:VEVENT
DTSTART;TZID=UTC:20231101T180000
DTEND;TZID=UTC:20231101T200000
DTSTAMP:20260425T164745
CREATED:20230821T163626Z
LAST-MODIFIED:20230821T163626Z
UID:8472-1698861600-1698868800@eastlincolnalliance.com
SUMMARY:SonSeekers
DESCRIPTION:SonSeekers is a program for K-5th graders. We will be learning the 40 names of God. Programming will be from 6-8pm every Wednesday at East Lincoln Alliance Church. We will have games\, stories\, songs\, crafts.\nCost is $20 per child\, with a max amount of $40 per family
URL:https://eastlincolnalliance.com/event/sonseekers-9/
LOCATION:East Lincoln Alliance Church\, 735 70th Avenue\, Amery\, WI\, 54001\, United States
END:VEVENT
BEGIN:VEVENT
DTSTART;TZID=UTC:20231104T110000
DTEND;TZID=UTC:20231104T140000
DTSTAMP:20260425T164745
CREATED:20230915T191638Z
LAST-MODIFIED:20231014T193008Z
UID:8691-1699095600-1699106400@eastlincolnalliance.com
SUMMARY:Beginning Sewing
DESCRIPTION:Rosemary Sheffel is offering beginning sewing every Saturday at the church. Please\, no youth under 12. Sewing machines are available\, but if you have one\, please bring it.  We will be making pillowcase dresses for little girls in Uganda.  Rosemary will bring the dresses with her when she travels to Uganda in January. \nIf you have any pillowcases to donate or are interested in joining\, please contact Rosemary.  (715) 220-8924 \nClass size is limited.
URL:https://eastlincolnalliance.com/event/beginning-sewing-4/
LOCATION:East Lincoln Alliance Church\, 735 70th Avenue\, Amery\, WI\, 54001\, United States
END:VEVENT
BEGIN:VEVENT
DTSTART;TZID=UTC:20231105T083000
DTEND;TZID=UTC:20231105T093000
DTSTAMP:20260425T164745
CREATED:20230919T141348Z
LAST-MODIFIED:20230919T141348Z
UID:8707-1699173000-1699176600@eastlincolnalliance.com
SUMMARY:Men's Breakfast
DESCRIPTION:1st Sunday of every month.
URL:https://eastlincolnalliance.com/event/mens-breakfast-2/
LOCATION:East Lincoln Alliance Church\, 735 70th Avenue\, Amery\, WI\, 54001\, United States
END:VEVENT
BEGIN:VEVENT
DTSTART;TZID=UTC:20231105T093000
DTEND;TZID=UTC:20231105T110000
DTSTAMP:20260425T164745
CREATED:20230904T155504Z
LAST-MODIFIED:20230904T155504Z
UID:8658-1699176600-1699182000@eastlincolnalliance.com
SUMMARY:Worship Service
DESCRIPTION:We welcome you to our regular worship service every Sunday @ 9:30am. \nWe offer the following services for kids during the Worship Service: \nEarly Childhood care for 1-3 year olds in the East Wing \n4 years old-Kindergarten in the West Wing (Discovery Land) \n1st-5th Grade in the East Wing (Discovery Land)
URL:https://eastlincolnalliance.com/event/worship-service-74/
LOCATION:East Lincoln Alliance Church\, 735 70th Avenue\, Amery\, WI\, 54001\, United States
END:VEVENT
BEGIN:VEVENT
DTSTART;TZID=UTC:20231107T083000
DTEND;TZID=UTC:20231107T143000
DTSTAMP:20260425T164745
CREATED:20230821T165326Z
LAST-MODIFIED:20230821T165326Z
UID:8506-1699345800-1699367400@eastlincolnalliance.com
SUMMARY:Homeschool Co-op Classes
DESCRIPTION:
URL:https://eastlincolnalliance.com/event/homeschool-co-op-classes-10/
LOCATION:East Lincoln Alliance Church\, 735 70th Avenue\, Amery\, WI\, 54001\, United States
END:VEVENT
BEGIN:VEVENT
DTSTART;TZID=UTC:20231108T151500
DTEND;TZID=UTC:20231108T163000
DTSTAMP:20260425T164745
CREATED:20230821T154315Z
LAST-MODIFIED:20230821T154315Z
UID:8437-1699456500-1699461000@eastlincolnalliance.com
SUMMARY:After School Good News Club
DESCRIPTION:After School Good News Club will be at Lien Elementary School (Amery) every Wednesday right after school until 4:30pm.  This is open to students Kindergarten to 5th grade.  Students attending the Intermediate School should ride the transfer bus to the Elementary School. Parent permission slips must be filled out.  Forms can be found here: Parent Permission Form \n*Note – if Amery Schools are closed on a Wednesday\, there will be no GNC
URL:https://eastlincolnalliance.com/event/after-school-good-news-club-43/
LOCATION:Lien Elementary School\, 469 Minneapolis Ave S\, Amery\, WI\, 54001\, United States
END:VEVENT
BEGIN:VEVENT
DTSTART;TZID=UTC:20231108T180000
DTEND;TZID=UTC:20231108T200000
DTSTAMP:20260425T164745
CREATED:20230821T153413Z
LAST-MODIFIED:20230821T153413Z
UID:8406-1699466400-1699473600@eastlincolnalliance.com
SUMMARY:Recharge/Youth Group
DESCRIPTION:All students 6-12th grade are invited to attend.  Make sure to invite your friends!
URL:https://eastlincolnalliance.com/event/recharge-youth-group-42/
LOCATION:East Lincoln Alliance Church\, 735 70th Avenue\, Amery\, WI\, 54001\, United States
END:VEVENT
BEGIN:VEVENT
DTSTART;TZID=UTC:20231108T180000
DTEND;TZID=UTC:20231108T200000
DTSTAMP:20260425T164745
CREATED:20230821T163648Z
LAST-MODIFIED:20230821T163648Z
UID:8474-1699466400-1699473600@eastlincolnalliance.com
SUMMARY:SonSeekers
DESCRIPTION:SonSeekers is a program for K-5th graders. We will be learning the 40 names of God. Programming will be from 6-8pm every Wednesday at East Lincoln Alliance Church. We will have games\, stories\, songs\, crafts.\nCost is $20 per child\, with a max amount of $40 per family
URL:https://eastlincolnalliance.com/event/sonseekers-10/
LOCATION:East Lincoln Alliance Church\, 735 70th Avenue\, Amery\, WI\, 54001\, United States
END:VEVENT
BEGIN:VEVENT
DTSTART;TZID=UTC:20231111T110000
DTEND;TZID=UTC:20231111T140000
DTSTAMP:20260425T164745
CREATED:20231014T193056Z
LAST-MODIFIED:20231014T193056Z
UID:8728-1699700400-1699711200@eastlincolnalliance.com
SUMMARY:Beginning Sewing
DESCRIPTION:Rosemary Sheffel is offering beginning sewing every Saturday at the church. Please\, no youth under 12. Sewing machines are available\, but if you have one\, please bring it.  We will be making pillowcase dresses for little girls in Uganda.  Rosemary will bring the dresses with her when she travels to Uganda in January. \nIf you have any pillowcases to donate or are interested in joining\, please contact Rosemary.  (715) 220-8924 \nClass size is limited.
URL:https://eastlincolnalliance.com/event/beginning-sewing-8/
LOCATION:East Lincoln Alliance Church\, 735 70th Avenue\, Amery\, WI\, 54001\, United States
END:VEVENT
BEGIN:VEVENT
DTSTART;TZID=UTC:20231112T093000
DTEND;TZID=UTC:20231112T110000
DTSTAMP:20260425T164745
CREATED:20231117T235212Z
LAST-MODIFIED:20231117T235212Z
UID:8780-1699781400-1699786800@eastlincolnalliance.com
SUMMARY:Worship Service
DESCRIPTION:We welcome you to our regular worship service every Sunday @ 9:30am.\n\n\n\nWe offer the following services for kids during the Worship Service: \nEarly Childhood care for 1-3 year olds in the East Wing \n4 years old-Kindergarten in the West Wing (Discovery Land) \n1st-5th Grade in the East Wing (Discovery Land)
URL:https://eastlincolnalliance.com/event/worship-service-75/
LOCATION:East Lincoln Alliance Church\, 735 70th Avenue\, Amery\, WI\, 54001\, United States
END:VEVENT
BEGIN:VEVENT
DTSTART;TZID=UTC:20231112T093000
DTEND;TZID=UTC:20231112T123000
DTSTAMP:20260425T164745
CREATED:20231014T193932Z
LAST-MODIFIED:20231014T193932Z
UID:8740-1699781400-1699792200@eastlincolnalliance.com
SUMMARY:MN Adult & Teen Challenge Choir
DESCRIPTION:We will be hosting MN Adult & Teen Challenge Choir on Sunday\, November 12th.  Choir members will share testimonies and music that testify of God’s transforming power in their lives.  We will enjoy a potluck meal after the service.
URL:https://eastlincolnalliance.com/event/mn-adult-teen-challenge-choir-3/
LOCATION:East Lincoln Alliance Church\, 735 70th Avenue\, Amery\, WI\, 54001\, United States
END:VEVENT
BEGIN:VEVENT
DTSTART;TZID=UTC:20231114T083000
DTEND;TZID=UTC:20231114T143000
DTSTAMP:20260425T164745
CREATED:20230821T165345Z
LAST-MODIFIED:20230821T165345Z
UID:8508-1699950600-1699972200@eastlincolnalliance.com
SUMMARY:Homeschool Co-op Classes
DESCRIPTION:
URL:https://eastlincolnalliance.com/event/homeschool-co-op-classes-11/
LOCATION:East Lincoln Alliance Church\, 735 70th Avenue\, Amery\, WI\, 54001\, United States
END:VEVENT
BEGIN:VEVENT
DTSTART;TZID=UTC:20231115T151500
DTEND;TZID=UTC:20231115T163000
DTSTAMP:20260425T164745
CREATED:20230821T154341Z
LAST-MODIFIED:20230821T154341Z
UID:8439-1700061300-1700065800@eastlincolnalliance.com
SUMMARY:After School Good News Club
DESCRIPTION:After School Good News Club will be at Lien Elementary School (Amery) every Wednesday right after school until 4:30pm.  This is open to students Kindergarten to 5th grade.  Students attending the Intermediate School should ride the transfer bus to the Elementary School. Parent permission slips must be filled out.  Forms can be found here: Parent Permission Form \n*Note – if Amery Schools are closed on a Wednesday\, there will be no GNC
URL:https://eastlincolnalliance.com/event/after-school-good-news-club-44/
LOCATION:Lien Elementary School\, 469 Minneapolis Ave S\, Amery\, WI\, 54001\, United States
END:VEVENT
BEGIN:VEVENT
DTSTART;TZID=UTC:20231115T180000
DTEND;TZID=UTC:20231115T200000
DTSTAMP:20260425T164745
CREATED:20230821T153439Z
LAST-MODIFIED:20230821T153439Z
UID:8408-1700071200-1700078400@eastlincolnalliance.com
SUMMARY:Recharge/Youth Group
DESCRIPTION:All students 6-12th grade are invited to attend.  Make sure to invite your friends!
URL:https://eastlincolnalliance.com/event/recharge-youth-group-43/
LOCATION:East Lincoln Alliance Church\, 735 70th Avenue\, Amery\, WI\, 54001\, United States
END:VEVENT
BEGIN:VEVENT
DTSTART;TZID=UTC:20231115T180000
DTEND;TZID=UTC:20231115T200000
DTSTAMP:20260425T164745
CREATED:20230821T163711Z
LAST-MODIFIED:20230821T163711Z
UID:8476-1700071200-1700078400@eastlincolnalliance.com
SUMMARY:SonSeekers
DESCRIPTION:SonSeekers is a program for K-5th graders. We will be learning the 40 names of God. Programming will be from 6-8pm every Wednesday at East Lincoln Alliance Church. We will have games\, stories\, songs\, crafts.\nCost is $20 per child\, with a max amount of $40 per family
URL:https://eastlincolnalliance.com/event/sonseekers-11/
LOCATION:East Lincoln Alliance Church\, 735 70th Avenue\, Amery\, WI\, 54001\, United States
END:VEVENT
BEGIN:VEVENT
DTSTART;TZID=UTC:20231118T110000
DTEND;TZID=UTC:20231118T140000
DTSTAMP:20260425T164745
CREATED:20230915T191706Z
LAST-MODIFIED:20231014T193122Z
UID:8693-1700305200-1700316000@eastlincolnalliance.com
SUMMARY:Beginning Sewing
DESCRIPTION:Rosemary Sheffel is offering beginning sewing every Saturday at the church. Please\, no youth under 12. Sewing machines are available\, but if you have one\, please bring it.  We will be making pillowcase dresses for little girls in Uganda.  Rosemary will bring the dresses with her when she travels to Uganda in January. \nIf you have any pillowcases to donate or are interested in joining\, please contact Rosemary.  (715) 220-8924 \nClass size is limited.
URL:https://eastlincolnalliance.com/event/beginning-sewing-5/
LOCATION:East Lincoln Alliance Church\, 735 70th Avenue\, Amery\, WI\, 54001\, United States
END:VEVENT
BEGIN:VEVENT
DTSTART;TZID=UTC:20231119T093000
DTEND;TZID=UTC:20231119T110000
DTSTAMP:20260425T164745
CREATED:20231117T235233Z
LAST-MODIFIED:20231117T235233Z
UID:8782-1700386200-1700391600@eastlincolnalliance.com
SUMMARY:Worship Service
DESCRIPTION:We welcome you to our regular worship service every Sunday @ 9:30am.\n\n\n\nWe offer the following services for kids during the Worship Service: \nEarly Childhood care for 1-3 year olds in the East Wing \n4 years old-Kindergarten in the West Wing (Discovery Land) \n1st-5th Grade in the East Wing (Discovery Land)
URL:https://eastlincolnalliance.com/event/worship-service-76/
LOCATION:East Lincoln Alliance Church\, 735 70th Avenue\, Amery\, WI\, 54001\, United States
END:VEVENT
BEGIN:VEVENT
DTSTART;TZID=UTC:20231119T110000
DTEND;TZID=UTC:20231119T120000
DTSTAMP:20260425T164745
CREATED:20231014T193515Z
LAST-MODIFIED:20231014T193515Z
UID:8738-1700391600-1700395200@eastlincolnalliance.com
SUMMARY:Fall Congregational Meeting
DESCRIPTION:Our Fall Congregational Meeting is Sunday\, November 19th right after church.  At this meeting\, we will approve the budget and ministry leaders for 2024.  We will have refreshments and bars during the meeting.
URL:https://eastlincolnalliance.com/event/fall-congregational-meeting-4/
LOCATION:East Lincoln Alliance Church\, 735 70th Avenue\, Amery\, WI\, 54001\, United States
END:VEVENT
BEGIN:VEVENT
DTSTART;TZID=UTC:20231121T083000
DTEND;TZID=UTC:20231121T143000
DTSTAMP:20260425T164745
CREATED:20230821T165408Z
LAST-MODIFIED:20230821T165408Z
UID:8510-1700555400-1700577000@eastlincolnalliance.com
SUMMARY:Homeschool Co-op Classes
DESCRIPTION:
URL:https://eastlincolnalliance.com/event/homeschool-co-op-classes-12/
LOCATION:East Lincoln Alliance Church\, 735 70th Avenue\, Amery\, WI\, 54001\, United States
END:VEVENT
BEGIN:VEVENT
DTSTART;TZID=UTC:20231122T190000
DTEND;TZID=UTC:20231122T203000
DTSTAMP:20260425T164745
CREATED:20231113T153829Z
LAST-MODIFIED:20231113T153829Z
UID:8778-1700679600-1700685000@eastlincolnalliance.com
SUMMARY:Thanksgiving Eve Service
DESCRIPTION:
URL:https://eastlincolnalliance.com/event/thanksgiving-eve-service-3/
LOCATION:East Lincoln Alliance Church\, 735 70th Avenue\, Amery\, WI\, 54001\, United States
END:VEVENT
BEGIN:VEVENT
DTSTART;TZID=UTC:20231125T110000
DTEND;TZID=UTC:20231125T140000
DTSTAMP:20260425T164745
CREATED:20231014T193147Z
LAST-MODIFIED:20231014T193147Z
UID:8731-1700910000-1700920800@eastlincolnalliance.com
SUMMARY:Beginning Sewing
DESCRIPTION:Rosemary Sheffel is offering beginning sewing every Saturday at the church. Please\, no youth under 12. Sewing machines are available\, but if you have one\, please bring it.  We will be making pillowcase dresses for little girls in Uganda.  Rosemary will bring the dresses with her when she travels to Uganda in January. \nIf you have any pillowcases to donate or are interested in joining\, please contact Rosemary.  (715) 220-8924 \nClass size is limited.
URL:https://eastlincolnalliance.com/event/beginning-sewing-9/
LOCATION:East Lincoln Alliance Church\, 735 70th Avenue\, Amery\, WI\, 54001\, United States
END:VEVENT
BEGIN:VEVENT
DTSTART;TZID=UTC:20231126T093000
DTEND;TZID=UTC:20231126T110000
DTSTAMP:20260425T164745
CREATED:20231120T161944Z
LAST-MODIFIED:20231120T161944Z
UID:8800-1700991000-1700996400@eastlincolnalliance.com
SUMMARY:Worship Service
DESCRIPTION:We welcome you to our regular worship service every Sunday @ 9:30am.\n\n\n\nWe offer the following services for kids during the Worship Service: \nEarly Childhood care for 1-3 year olds in the East Wing \n4 years old-Kindergarten in the West Wing (Discovery Land) \n1st-5th Grade in the East Wing (Discovery Land)
URL:https://eastlincolnalliance.com/event/worship-service-81/
LOCATION:East Lincoln Alliance Church\, 735 70th Avenue\, Amery\, WI\, 54001\, United States
END:VEVENT
BEGIN:VEVENT
DTSTART;TZID=UTC:20231126T110000
DTEND;TZID=UTC:20231126T113000
DTSTAMP:20260425T164745
CREATED:20231120T162200Z
LAST-MODIFIED:20231120T162200Z
UID:8804-1700996400-1700998200@eastlincolnalliance.com
SUMMARY:Hymn Sing
DESCRIPTION:Join us for a Hymn Sing on Sunday\, November 26th\, 11-11:30am.
URL:https://eastlincolnalliance.com/event/hymn-sing-12/
LOCATION:East Lincoln Alliance Church\, 735 70th Avenue\, Amery\, WI\, 54001\, United States
END:VEVENT
BEGIN:VEVENT
DTSTART;TZID=UTC:20231126T111500
DTEND;TZID=UTC:20231126T123000
DTSTAMP:20260425T164745
CREATED:20231113T153218Z
LAST-MODIFIED:20231113T153218Z
UID:8770-1700997300-1701001800@eastlincolnalliance.com
SUMMARY:"How To..." Sunday Study
DESCRIPTION:November 26th – Standing Firm in Non-Christian Circles. \nThe final topic of the year will be on December 10th & 17th and is TBD. \nJoin Perry Anderson\, Barry Iverson and esteemed colleagues on Sundays 11:15am-12:30pm in the East Wing Youth/Discovery Land room. The study will focus on different “how to” topics. This class will be in a discussion format and is intended for ages 6th grade to adult. Bring a sack lunch if you want to eat during study. \nEach week one topic will be discussed and likely plan is to discuss that topic after study of scripture\, commentaries\, videos\, etc. in more depth the following week or weeks depending on need.  Each student is invited to study\, explore\, ask questions of others regarding the topic to share the following week.
URL:https://eastlincolnalliance.com/event/how-to-sunday-study-9/
LOCATION:East Lincoln Alliance Church\, 735 70th Avenue\, Amery\, WI\, 54001\, United States
END:VEVENT
BEGIN:VEVENT
DTSTART;TZID=UTC:20231126T113000
DTEND;TZID=UTC:20231126T123000
DTSTAMP:20260425T164745
CREATED:20231120T162238Z
LAST-MODIFIED:20231120T162238Z
UID:8806-1700998200-1701001800@eastlincolnalliance.com
SUMMARY:Single Women's Fellowship
DESCRIPTION:All single women are invited to join on Sunday\, November 26th at 11:30am at ELAC for a potluck and time of fellowship.
URL:https://eastlincolnalliance.com/event/single-womens-fellowship-11/
LOCATION:East Lincoln Alliance Church\, 735 70th Avenue\, Amery\, WI\, 54001\, United States
END:VEVENT
BEGIN:VEVENT
DTSTART;TZID=UTC:20231129T151500
DTEND;TZID=UTC:20231129T163000
DTSTAMP:20260425T164745
CREATED:20230821T154412Z
LAST-MODIFIED:20230821T154412Z
UID:8441-1701270900-1701275400@eastlincolnalliance.com
SUMMARY:After School Good News Club
DESCRIPTION:After School Good News Club will be at Lien Elementary School (Amery) every Wednesday right after school until 4:30pm.  This is open to students Kindergarten to 5th grade.  Students attending the Intermediate School should ride the transfer bus to the Elementary School. Parent permission slips must be filled out.  Forms can be found here: Parent Permission Form \n*Note – if Amery Schools are closed on a Wednesday\, there will be no GNC
URL:https://eastlincolnalliance.com/event/after-school-good-news-club-45/
LOCATION:Lien Elementary School\, 469 Minneapolis Ave S\, Amery\, WI\, 54001\, United States
END:VEVENT
BEGIN:VEVENT
DTSTART;TZID=UTC:20231129T180000
DTEND;TZID=UTC:20231129T200000
DTSTAMP:20260425T164745
CREATED:20230821T153513Z
LAST-MODIFIED:20230821T153513Z
UID:8410-1701280800-1701288000@eastlincolnalliance.com
SUMMARY:Recharge/Youth Group
DESCRIPTION:All students 6-12th grade are invited to attend.  Make sure to invite your friends!
URL:https://eastlincolnalliance.com/event/recharge-youth-group-44/
LOCATION:East Lincoln Alliance Church\, 735 70th Avenue\, Amery\, WI\, 54001\, United States
END:VEVENT
END:VCALENDAR