BEGIN:VCALENDAR
VERSION:2.0
PRODID:-//East Lincoln Alliance Church - ECPv6.15.20//NONSGML v1.0//EN
CALSCALE:GREGORIAN
METHOD:PUBLISH
X-WR-CALNAME:East Lincoln Alliance Church
X-ORIGINAL-URL:https://eastlincolnalliance.com
X-WR-CALDESC:Events for East Lincoln Alliance Church
REFRESH-INTERVAL;VALUE=DURATION:PT1H
X-Robots-Tag:noindex
X-PUBLISHED-TTL:PT1H
BEGIN:VTIMEZONE
TZID:UTC
BEGIN:STANDARD
TZOFFSETFROM:+0000
TZOFFSETTO:+0000
TZNAME:UTC
DTSTART:20250101T000000
END:STANDARD
END:VTIMEZONE
BEGIN:VEVENT
DTSTART;TZID=UTC:20260219T090000
DTEND;TZID=UTC:20260219T150000
DTSTAMP:20260423T215410
CREATED:20260105T152928Z
LAST-MODIFIED:20260105T152928Z
UID:11370-1771491600-1771513200@eastlincolnalliance.com
SUMMARY:Homeschool Group
DESCRIPTION:Kayla Nelson
URL:https://eastlincolnalliance.com/event/homeschool-group-6/
LOCATION:East Lincoln Alliance Church\, 735 70th Avenue\, Amery\, WI\, 54001\, United States
END:VEVENT
BEGIN:VEVENT
DTSTART;TZID=UTC:20260218T180000
DTEND;TZID=UTC:20260218T200000
DTSTAMP:20260423T215410
CREATED:20251208T152246Z
LAST-MODIFIED:20251208T152246Z
UID:11311-1771437600-1771444800@eastlincolnalliance.com
SUMMARY:Son Seekers
DESCRIPTION:Son Seekers is a program for K-5th graders.  Programming is 6-8pm every Wednesday at East Lincoln Alliance Church. We will have games\, stories\, songs\, crafts.
URL:https://eastlincolnalliance.com/event/son-seekers-73/
LOCATION:East Lincoln Alliance Church\, 735 70th Avenue\, Amery\, WI\, 54001\, United States
END:VEVENT
BEGIN:VEVENT
DTSTART;TZID=UTC:20260218T180000
DTEND;TZID=UTC:20260218T200000
DTSTAMP:20260423T215410
CREATED:20251202T214455Z
LAST-MODIFIED:20251202T214455Z
UID:11285-1771437600-1771444800@eastlincolnalliance.com
SUMMARY:Recharge
DESCRIPTION:All students 6-12th grade are invited to attend.  Make sure to invite your friends!
URL:https://eastlincolnalliance.com/event/recharge-133/
LOCATION:East Lincoln Alliance Church\, 735 70th Avenue\, Amery\, WI\, 54001\, United States
END:VEVENT
BEGIN:VEVENT
DTSTART;TZID=UTC:20260218T151500
DTEND;TZID=UTC:20260218T163000
DTSTAMP:20260423T215410
CREATED:20251202T213905Z
LAST-MODIFIED:20251202T213905Z
UID:11261-1771427700-1771432200@eastlincolnalliance.com
SUMMARY:After School Good News Club
DESCRIPTION:All K-5th grade students are invited to After School Good News Club at Lien Elementary School (Amery) right after school (3:15pm) until 4:30pm every Wednesday that Amery Schools are in session. \nStudents attending the Intermediate School should ride the transfer bus to the Elementary School. Registration Forms must be filled out (below).   Questions? Contact Mary Schussman. \neastlincolnalliance.com/ninja-forms/10okpn/
URL:https://eastlincolnalliance.com/event/after-school-good-news-club-99/
LOCATION:Lien Elementary School\, 469 Minneapolis Ave S\, Amery\, WI\, 54001\, United States
END:VEVENT
BEGIN:VEVENT
DTSTART;TZID=UTC:20260218T090000
DTEND;TZID=UTC:20260218T160000
DTSTAMP:20260423T215410
CREATED:20260205T222419Z
LAST-MODIFIED:20260205T222419Z
UID:11512-1771405200-1771430400@eastlincolnalliance.com
SUMMARY:Women's Craft Day
DESCRIPTION:Women are invited to join on Wednesday\, February 18th 9am-4pm at Wendy Bachman’s for a day of crafting and fellowship. Bring whatever project you are working on or just come and visit! Pack a lunch. Contact Julie Anderson if you have questions\, 715-607-8022.
URL:https://eastlincolnalliance.com/event/womens-craft-day-43/
LOCATION:Wendy Bachman’s
END:VEVENT
BEGIN:VEVENT
DTSTART;TZID=UTC:20260217T183000
DTEND;TZID=UTC:20260217T193000
DTSTAMP:20260423T215410
CREATED:20251202T213147Z
LAST-MODIFIED:20251202T213147Z
UID:11237-1771353000-1771356600@eastlincolnalliance.com
SUMMARY:Prayer Gathering
DESCRIPTION:All are invited to join as we pray for each other\, our community and world.  Every Tuesday\, 6:30pm
URL:https://eastlincolnalliance.com/event/prayer-gathering-95/
LOCATION:East Lincoln Alliance Church\, 735 70th Avenue\, Amery\, WI\, 54001\, United States
END:VEVENT
BEGIN:VEVENT
DTSTART;TZID=UTC:20260216T180000
DTEND;TZID=UTC:20260216T203000
DTSTAMP:20260423T215410
CREATED:20251202T213547Z
LAST-MODIFIED:20251202T213547Z
UID:11253-1771264800-1771273800@eastlincolnalliance.com
SUMMARY:Elder Meeting
DESCRIPTION:
URL:https://eastlincolnalliance.com/event/elder-meeting-20/
LOCATION:WI
END:VEVENT
BEGIN:VEVENT
DTSTART;TZID=UTC:20260215T100000
DTEND;TZID=UTC:20260215T111500
DTSTAMP:20260423T215410
CREATED:20251202T210556Z
LAST-MODIFIED:20251202T210556Z
UID:11211-1771149600-1771154100@eastlincolnalliance.com
SUMMARY:Worship Service
DESCRIPTION:We offer the following services for kids during the Worship Service: \nEarly Childhood care for 1-3 year olds in the East Wing \n4 years old-Kindergarten in the West Wing (Discovery Land) \n1st-5th Grade in the East Wing (Discovery Land)
URL:https://eastlincolnalliance.com/event/worship-service-189/
LOCATION:East Lincoln Alliance Church\, 735 70th Avenue\, Amery\, WI\, 54001\, United States
END:VEVENT
BEGIN:VEVENT
DTSTART;TZID=UTC:20260215T084500
DTEND;TZID=UTC:20260215T094500
DTSTAMP:20260423T215410
CREATED:20251202T205942Z
LAST-MODIFIED:20251202T205942Z
UID:11185-1771145100-1771148700@eastlincolnalliance.com
SUMMARY:Discipleship Hour
DESCRIPTION:Join us for Discipleship Hour from 8:45-9:45am.  All 6th grade and up are invited.
URL:https://eastlincolnalliance.com/event/discipleship-hour-93/
LOCATION:East Lincoln Alliance Church\, 735 70th Avenue\, Amery\, WI\, 54001\, United States
END:VEVENT
BEGIN:VEVENT
DTSTART;VALUE=DATE:20260214
DTEND;VALUE=DATE:20260222
DTSTAMP:20260423T215410
CREATED:20260205T221021Z
LAST-MODIFIED:20260205T221021Z
UID:11504-1771027200-1771718399@eastlincolnalliance.com
SUMMARY:Mexico Missions Trip
DESCRIPTION:
URL:https://eastlincolnalliance.com/event/mexico-missions-trip-2/
LOCATION:WI
END:VEVENT
BEGIN:VEVENT
DTSTART;TZID=UTC:20260212T090000
DTEND;TZID=UTC:20260212T150000
DTSTAMP:20260423T215410
CREATED:20260105T152906Z
LAST-MODIFIED:20260105T152906Z
UID:11368-1770886800-1770908400@eastlincolnalliance.com
SUMMARY:Homeschool Group
DESCRIPTION:Kayla Nelson
URL:https://eastlincolnalliance.com/event/homeschool-group-5/
LOCATION:East Lincoln Alliance Church\, 735 70th Avenue\, Amery\, WI\, 54001\, United States
END:VEVENT
BEGIN:VEVENT
DTSTART;TZID=UTC:20260211T180000
DTEND;TZID=UTC:20260211T200000
DTSTAMP:20260423T215410
CREATED:20251208T152222Z
LAST-MODIFIED:20251208T152222Z
UID:11309-1770832800-1770840000@eastlincolnalliance.com
SUMMARY:Son Seekers
DESCRIPTION:Son Seekers is a program for K-5th graders.  Programming is 6-8pm every Wednesday at East Lincoln Alliance Church. We will have games\, stories\, songs\, crafts.
URL:https://eastlincolnalliance.com/event/son-seekers-72/
LOCATION:East Lincoln Alliance Church\, 735 70th Avenue\, Amery\, WI\, 54001\, United States
END:VEVENT
BEGIN:VEVENT
DTSTART;TZID=UTC:20260211T180000
DTEND;TZID=UTC:20260211T200000
DTSTAMP:20260423T215410
CREATED:20251202T214433Z
LAST-MODIFIED:20251202T214433Z
UID:11283-1770832800-1770840000@eastlincolnalliance.com
SUMMARY:Recharge
DESCRIPTION:All students 6-12th grade are invited to attend.  Make sure to invite your friends!
URL:https://eastlincolnalliance.com/event/recharge-132/
LOCATION:East Lincoln Alliance Church\, 735 70th Avenue\, Amery\, WI\, 54001\, United States
END:VEVENT
BEGIN:VEVENT
DTSTART;TZID=UTC:20260211T151500
DTEND;TZID=UTC:20260211T163000
DTSTAMP:20260423T215410
CREATED:20251202T213829Z
LAST-MODIFIED:20251202T213829Z
UID:11259-1770822900-1770827400@eastlincolnalliance.com
SUMMARY:After School Good News Club
DESCRIPTION:All K-5th grade students are invited to After School Good News Club at Lien Elementary School (Amery) right after school (3:15pm) until 4:30pm every Wednesday that Amery Schools are in session. \nStudents attending the Intermediate School should ride the transfer bus to the Elementary School. Registration Forms must be filled out (below).   Questions? Contact Mary Schussman. \neastlincolnalliance.com/ninja-forms/10okpn/
URL:https://eastlincolnalliance.com/event/after-school-good-news-club-98/
LOCATION:Lien Elementary School\, 469 Minneapolis Ave S\, Amery\, WI\, 54001\, United States
END:VEVENT
BEGIN:VEVENT
DTSTART;TZID=UTC:20260210T183000
DTEND;TZID=UTC:20260210T193000
DTSTAMP:20260423T215410
CREATED:20251202T213117Z
LAST-MODIFIED:20251202T213117Z
UID:11235-1770748200-1770751800@eastlincolnalliance.com
SUMMARY:Prayer Gathering
DESCRIPTION:All are invited to join as we pray for each other\, our community and world.  Every Tuesday\, 6:30pm
URL:https://eastlincolnalliance.com/event/prayer-gathering-94/
LOCATION:East Lincoln Alliance Church\, 735 70th Avenue\, Amery\, WI\, 54001\, United States
END:VEVENT
BEGIN:VEVENT
DTSTART;TZID=UTC:20260209T180000
DTEND;TZID=UTC:20260209T200000
DTSTAMP:20260423T215410
CREATED:20260131T193615Z
LAST-MODIFIED:20260131T193615Z
UID:11495-1770660000-1770667200@eastlincolnalliance.com
SUMMARY:Assessment Meeting
DESCRIPTION:
URL:https://eastlincolnalliance.com/event/assessment-meeting/
LOCATION:East Lincoln Alliance Church\, 735 70th Avenue\, Amery\, WI\, 54001\, United States
END:VEVENT
BEGIN:VEVENT
DTSTART;TZID=UTC:20260208T113000
DTEND;TZID=UTC:20260208T133000
DTSTAMP:20260423T215410
CREATED:20260105T142332Z
LAST-MODIFIED:20260105T142354Z
UID:11357-1770550200-1770557400@eastlincolnalliance.com
SUMMARY:Annual Meeting
DESCRIPTION:Please plan to attend East Lincoln Alliance Church’s annual meeting on Sunday\, February 8th. \nWe will enjoy a potluck meal together before the meeting. \nCulinary Group #3 is in charge of the potluck duties: \nMichelle Grosskreutz and Lori Mewes – Leaders \nTerri Anderson\, Kris Chew\, Amy Danielson\, Josje Ditschler\, Kandy Krahulec\, Josie Ludovico\, Molli Noel\, Anna Ochoa\, Nicole Perkins\, Tina Riley\, Rosemary Sheffel\, Ginni Springett \nAnnual reports will be in your church mailbox on Sunday\, January 25th.
URL:https://eastlincolnalliance.com/event/annual-meeting-4/
LOCATION:East Lincoln Alliance Church\, 735 70th Avenue\, Amery\, WI\, 54001\, United States
END:VEVENT
BEGIN:VEVENT
DTSTART;TZID=UTC:20260208T100000
DTEND;TZID=UTC:20260208T111500
DTSTAMP:20260423T215410
CREATED:20251202T210531Z
LAST-MODIFIED:20251202T210531Z
UID:11209-1770544800-1770549300@eastlincolnalliance.com
SUMMARY:Worship Service
DESCRIPTION:We offer the following services for kids during the Worship Service: \nEarly Childhood care for 1-3 year olds in the East Wing \n4 years old-Kindergarten in the West Wing (Discovery Land) \n1st-5th Grade in the East Wing (Discovery Land)
URL:https://eastlincolnalliance.com/event/worship-service-188/
LOCATION:East Lincoln Alliance Church\, 735 70th Avenue\, Amery\, WI\, 54001\, United States
END:VEVENT
BEGIN:VEVENT
DTSTART;TZID=UTC:20260208T084500
DTEND;TZID=UTC:20260208T094500
DTSTAMP:20260423T215410
CREATED:20251202T205916Z
LAST-MODIFIED:20251202T205916Z
UID:11183-1770540300-1770543900@eastlincolnalliance.com
SUMMARY:Discipleship Hour
DESCRIPTION:Join us for Discipleship Hour from 8:45-9:45am.  All 6th grade and up are invited.
URL:https://eastlincolnalliance.com/event/discipleship-hour-92/
LOCATION:East Lincoln Alliance Church\, 735 70th Avenue\, Amery\, WI\, 54001\, United States
END:VEVENT
BEGIN:VEVENT
DTSTART;TZID=UTC:20260205T183000
DTEND;TZID=UTC:20260205T203000
DTSTAMP:20260423T215410
CREATED:20260131T193646Z
LAST-MODIFIED:20260131T193646Z
UID:11497-1770316200-1770323400@eastlincolnalliance.com
SUMMARY:Mission Trip Dinner
DESCRIPTION:
URL:https://eastlincolnalliance.com/event/mission-trip-dinner/
LOCATION:East Lincoln Alliance Church\, 735 70th Avenue\, Amery\, WI\, 54001\, United States
END:VEVENT
BEGIN:VEVENT
DTSTART;TZID=UTC:20260205T090000
DTEND;TZID=UTC:20260205T150000
DTSTAMP:20260423T215410
CREATED:20260105T152846Z
LAST-MODIFIED:20260105T152846Z
UID:11366-1770282000-1770303600@eastlincolnalliance.com
SUMMARY:Homeschool Group
DESCRIPTION:Kayla Nelson
URL:https://eastlincolnalliance.com/event/homeschool-group-4/
LOCATION:East Lincoln Alliance Church\, 735 70th Avenue\, Amery\, WI\, 54001\, United States
END:VEVENT
BEGIN:VEVENT
DTSTART;TZID=UTC:20260204T180000
DTEND;TZID=UTC:20260204T200000
DTSTAMP:20260423T215410
CREATED:20251208T152156Z
LAST-MODIFIED:20251208T152156Z
UID:11307-1770228000-1770235200@eastlincolnalliance.com
SUMMARY:Son Seekers
DESCRIPTION:Son Seekers is a program for K-5th graders.  Programming is 6-8pm every Wednesday at East Lincoln Alliance Church. We will have games\, stories\, songs\, crafts.
URL:https://eastlincolnalliance.com/event/son-seekers-71/
LOCATION:East Lincoln Alliance Church\, 735 70th Avenue\, Amery\, WI\, 54001\, United States
END:VEVENT
BEGIN:VEVENT
DTSTART;TZID=UTC:20260204T180000
DTEND;TZID=UTC:20260204T200000
DTSTAMP:20260423T215410
CREATED:20251202T214406Z
LAST-MODIFIED:20251202T214406Z
UID:11281-1770228000-1770235200@eastlincolnalliance.com
SUMMARY:Recharge
DESCRIPTION:All students 6-12th grade are invited to attend.  Make sure to invite your friends!
URL:https://eastlincolnalliance.com/event/recharge-131/
LOCATION:East Lincoln Alliance Church\, 735 70th Avenue\, Amery\, WI\, 54001\, United States
END:VEVENT
BEGIN:VEVENT
DTSTART;TZID=UTC:20260204T151500
DTEND;TZID=UTC:20260204T163000
DTSTAMP:20260423T215410
CREATED:20251202T213755Z
LAST-MODIFIED:20251202T213755Z
UID:11257-1770218100-1770222600@eastlincolnalliance.com
SUMMARY:After School Good News Club
DESCRIPTION:All K-5th grade students are invited to After School Good News Club at Lien Elementary School (Amery) right after school (3:15pm) until 4:30pm every Wednesday that Amery Schools are in session. \nStudents attending the Intermediate School should ride the transfer bus to the Elementary School. Registration Forms must be filled out (below).   Questions? Contact Mary Schussman. \neastlincolnalliance.com/ninja-forms/10okpn/
URL:https://eastlincolnalliance.com/event/after-school-good-news-club-97/
LOCATION:Lien Elementary School\, 469 Minneapolis Ave S\, Amery\, WI\, 54001\, United States
END:VEVENT
BEGIN:VEVENT
DTSTART;TZID=UTC:20260203T183000
DTEND;TZID=UTC:20260203T193000
DTSTAMP:20260423T215410
CREATED:20251202T212814Z
LAST-MODIFIED:20251202T212814Z
UID:11233-1770143400-1770147000@eastlincolnalliance.com
SUMMARY:Prayer Gathering
DESCRIPTION:All are invited to join as we pray for each other\, our community and world.  Every Tuesday\, 6:30pm
URL:https://eastlincolnalliance.com/event/prayer-gathering-93/
LOCATION:East Lincoln Alliance Church\, 735 70th Avenue\, Amery\, WI\, 54001\, United States
END:VEVENT
BEGIN:VEVENT
DTSTART;TZID=UTC:20260201T100000
DTEND;TZID=UTC:20260201T111500
DTSTAMP:20260423T215410
CREATED:20251202T210506Z
LAST-MODIFIED:20251202T210506Z
UID:11207-1769940000-1769944500@eastlincolnalliance.com
SUMMARY:Worship Service
DESCRIPTION:We offer the following services for kids during the Worship Service: \nEarly Childhood care for 1-3 year olds in the East Wing \n4 years old-Kindergarten in the West Wing (Discovery Land) \n1st-5th Grade in the East Wing (Discovery Land)
URL:https://eastlincolnalliance.com/event/worship-service-187/
LOCATION:East Lincoln Alliance Church\, 735 70th Avenue\, Amery\, WI\, 54001\, United States
END:VEVENT
BEGIN:VEVENT
DTSTART;TZID=UTC:20260201T084500
DTEND;TZID=UTC:20260201T094500
DTSTAMP:20260423T215410
CREATED:20251202T205846Z
LAST-MODIFIED:20251202T205846Z
UID:11181-1769935500-1769939100@eastlincolnalliance.com
SUMMARY:Discipleship Hour
DESCRIPTION:Join us for Discipleship Hour from 8:45-9:45am.  All 6th grade and up are invited.
URL:https://eastlincolnalliance.com/event/discipleship-hour-91/
LOCATION:East Lincoln Alliance Church\, 735 70th Avenue\, Amery\, WI\, 54001\, United States
END:VEVENT
BEGIN:VEVENT
DTSTART;TZID=UTC:20260131T120000
DTEND;TZID=UTC:20260131T133000
DTSTAMP:20260423T215410
CREATED:20260119T175548Z
LAST-MODIFIED:20260119T175548Z
UID:11455-1769860800-1769866200@eastlincolnalliance.com
SUMMARY:Hi-Rise Meal
DESCRIPTION:We will be serving our monthly meal to the residents of the Amery Hi-Rise on Saturday\, January 31st at 12pm. We are looking for help with the meal. \nFood can be dropped off at the Hi-Rise (300 Harriman Ave N\, Amery) on the 16th at 11:30am or text Kim Davis for alternate arrangements (320-266-4859). \nWe are also needing 5-7 people to help set up\, serve food/mingle and clean up. Please arrive at the Hi-Rise at 11:30am and should be done between 1-1:30pm. \nThere is a sign-up sheet at the Information Table at church or contact the church office to get your name added.  Any questions\, contact Kim Davis at 320-266-4859 or any of the planning team.
URL:https://eastlincolnalliance.com/event/hi-rise-meal-14/
LOCATION:Amery Hi Rise\, 300 Harriman Ave\, Amery\, 54001\, United States
END:VEVENT
BEGIN:VEVENT
DTSTART;TZID=UTC:20260131T100000
DTEND;TZID=UTC:20260131T120000
DTSTAMP:20260423T215410
CREATED:20260119T180523Z
LAST-MODIFIED:20260119T180523Z
UID:11457-1769853600-1769860800@eastlincolnalliance.com
SUMMARY:The Page Turners Meeting
DESCRIPTION:The Page Turners Reading Group is a group of women that share in their love for books and reading.  The group is always taking new members\, and women can join if a book looks interesting. Contact Jolene Wester if you have questions or would like to join the group 715-553-0002 or bookwomanjw@gmail.com. \nBook List \n\nJanuary – 1984 by George Orwell\nFebruary – Watchfulness: Recovering a Lost Spiritual Discipline by Brian Hedges\nMarch – A Shepherd Looks at 23rd Psalm by W. Philip Keller\nApril – The Watchmaker’s Daughter: The True Story of World War II Heroine Corrie ten Boom by Larry Loftis\nMay – Trusting God by Jerry Bridges\nJune – The Grapes of Wrath by John Steinbeck\nJuly – Waiting Isn’t a Waste: The Surprising Comfort of Trusting God in the Uncertainties of Life by Mark Vroegop\nAugust – The Pastor’s Wife by Sabina Wurmbrand\nSeptember – Tactics: A Game Plan for Discussing Your Christian Convictions by       Gregory Koukl\nOctober – Hudson Taylor & Maria: A Match Made in Heaven by John Charles Pollock\nNovember – A Walk in the Woods: Rediscovering America on the Appalachian Trail by Bill Bryson\nDecember – Pontius Pilate by Paul Maier\n\nPage Turners will meet the last Saturday\, of every month at ELAC at 10 am to discuss the book of the month.
URL:https://eastlincolnalliance.com/event/the-page-turners-meeting-12/
LOCATION:East Lincoln Alliance Church\, 735 70th Avenue\, Amery\, WI\, 54001\, United States
END:VEVENT
BEGIN:VEVENT
DTSTART;TZID=UTC:20260129T090000
DTEND;TZID=UTC:20260129T150000
DTSTAMP:20260423T215410
CREATED:20260105T152824Z
LAST-MODIFIED:20260105T152824Z
UID:11364-1769677200-1769698800@eastlincolnalliance.com
SUMMARY:Homeschool Group
DESCRIPTION:Kayla Nelson
URL:https://eastlincolnalliance.com/event/homeschool-group-3/
LOCATION:East Lincoln Alliance Church\, 735 70th Avenue\, Amery\, WI\, 54001\, United States
END:VEVENT
END:VCALENDAR