BEGIN:VCALENDAR
VERSION:2.0
PRODID:-//East Lincoln Alliance Church - ECPv6.15.20//NONSGML v1.0//EN
CALSCALE:GREGORIAN
METHOD:PUBLISH
X-WR-CALNAME:East Lincoln Alliance Church
X-ORIGINAL-URL:https://eastlincolnalliance.com
X-WR-CALDESC:Events for East Lincoln Alliance Church
REFRESH-INTERVAL;VALUE=DURATION:PT1H
X-Robots-Tag:noindex
X-PUBLISHED-TTL:PT1H
BEGIN:VTIMEZONE
TZID:UTC
BEGIN:STANDARD
TZOFFSETFROM:+0000
TZOFFSETTO:+0000
TZNAME:UTC
DTSTART:20250101T000000
END:STANDARD
END:VTIMEZONE
BEGIN:VEVENT
DTSTART;TZID=UTC:20260201T100000
DTEND;TZID=UTC:20260201T111500
DTSTAMP:20260423T231536
CREATED:20251202T210506Z
LAST-MODIFIED:20251202T210506Z
UID:11207-1769940000-1769944500@eastlincolnalliance.com
SUMMARY:Worship Service
DESCRIPTION:We offer the following services for kids during the Worship Service: \nEarly Childhood care for 1-3 year olds in the East Wing \n4 years old-Kindergarten in the West Wing (Discovery Land) \n1st-5th Grade in the East Wing (Discovery Land)
URL:https://eastlincolnalliance.com/event/worship-service-187/
LOCATION:East Lincoln Alliance Church\, 735 70th Avenue\, Amery\, WI\, 54001\, United States
END:VEVENT
BEGIN:VEVENT
DTSTART;TZID=UTC:20260201T084500
DTEND;TZID=UTC:20260201T094500
DTSTAMP:20260423T231536
CREATED:20251202T205846Z
LAST-MODIFIED:20251202T205846Z
UID:11181-1769935500-1769939100@eastlincolnalliance.com
SUMMARY:Discipleship Hour
DESCRIPTION:Join us for Discipleship Hour from 8:45-9:45am.  All 6th grade and up are invited.
URL:https://eastlincolnalliance.com/event/discipleship-hour-91/
LOCATION:East Lincoln Alliance Church\, 735 70th Avenue\, Amery\, WI\, 54001\, United States
END:VEVENT
BEGIN:VEVENT
DTSTART;TZID=UTC:20260131T120000
DTEND;TZID=UTC:20260131T133000
DTSTAMP:20260423T231536
CREATED:20260119T175548Z
LAST-MODIFIED:20260119T175548Z
UID:11455-1769860800-1769866200@eastlincolnalliance.com
SUMMARY:Hi-Rise Meal
DESCRIPTION:We will be serving our monthly meal to the residents of the Amery Hi-Rise on Saturday\, January 31st at 12pm. We are looking for help with the meal. \nFood can be dropped off at the Hi-Rise (300 Harriman Ave N\, Amery) on the 16th at 11:30am or text Kim Davis for alternate arrangements (320-266-4859). \nWe are also needing 5-7 people to help set up\, serve food/mingle and clean up. Please arrive at the Hi-Rise at 11:30am and should be done between 1-1:30pm. \nThere is a sign-up sheet at the Information Table at church or contact the church office to get your name added.  Any questions\, contact Kim Davis at 320-266-4859 or any of the planning team.
URL:https://eastlincolnalliance.com/event/hi-rise-meal-14/
LOCATION:Amery Hi Rise\, 300 Harriman Ave\, Amery\, 54001\, United States
END:VEVENT
BEGIN:VEVENT
DTSTART;TZID=UTC:20260131T100000
DTEND;TZID=UTC:20260131T120000
DTSTAMP:20260423T231536
CREATED:20260119T180523Z
LAST-MODIFIED:20260119T180523Z
UID:11457-1769853600-1769860800@eastlincolnalliance.com
SUMMARY:The Page Turners Meeting
DESCRIPTION:The Page Turners Reading Group is a group of women that share in their love for books and reading.  The group is always taking new members\, and women can join if a book looks interesting. Contact Jolene Wester if you have questions or would like to join the group 715-553-0002 or bookwomanjw@gmail.com. \nBook List \n\nJanuary – 1984 by George Orwell\nFebruary – Watchfulness: Recovering a Lost Spiritual Discipline by Brian Hedges\nMarch – A Shepherd Looks at 23rd Psalm by W. Philip Keller\nApril – The Watchmaker’s Daughter: The True Story of World War II Heroine Corrie ten Boom by Larry Loftis\nMay – Trusting God by Jerry Bridges\nJune – The Grapes of Wrath by John Steinbeck\nJuly – Waiting Isn’t a Waste: The Surprising Comfort of Trusting God in the Uncertainties of Life by Mark Vroegop\nAugust – The Pastor’s Wife by Sabina Wurmbrand\nSeptember – Tactics: A Game Plan for Discussing Your Christian Convictions by       Gregory Koukl\nOctober – Hudson Taylor & Maria: A Match Made in Heaven by John Charles Pollock\nNovember – A Walk in the Woods: Rediscovering America on the Appalachian Trail by Bill Bryson\nDecember – Pontius Pilate by Paul Maier\n\nPage Turners will meet the last Saturday\, of every month at ELAC at 10 am to discuss the book of the month.
URL:https://eastlincolnalliance.com/event/the-page-turners-meeting-12/
LOCATION:East Lincoln Alliance Church\, 735 70th Avenue\, Amery\, WI\, 54001\, United States
END:VEVENT
BEGIN:VEVENT
DTSTART;TZID=UTC:20260129T090000
DTEND;TZID=UTC:20260129T150000
DTSTAMP:20260423T231536
CREATED:20260105T152824Z
LAST-MODIFIED:20260105T152824Z
UID:11364-1769677200-1769698800@eastlincolnalliance.com
SUMMARY:Homeschool Group
DESCRIPTION:Kayla Nelson
URL:https://eastlincolnalliance.com/event/homeschool-group-3/
LOCATION:East Lincoln Alliance Church\, 735 70th Avenue\, Amery\, WI\, 54001\, United States
END:VEVENT
BEGIN:VEVENT
DTSTART;TZID=UTC:20260128T180000
DTEND;TZID=UTC:20260128T200000
DTSTAMP:20260423T231536
CREATED:20251208T152121Z
LAST-MODIFIED:20251208T152121Z
UID:11305-1769623200-1769630400@eastlincolnalliance.com
SUMMARY:Son Seekers
DESCRIPTION:Son Seekers is a program for K-5th graders.  Programming is 6-8pm every Wednesday at East Lincoln Alliance Church. We will have games\, stories\, songs\, crafts.
URL:https://eastlincolnalliance.com/event/son-seekers-70/
LOCATION:East Lincoln Alliance Church\, 735 70th Avenue\, Amery\, WI\, 54001\, United States
END:VEVENT
BEGIN:VEVENT
DTSTART;TZID=UTC:20260128T180000
DTEND;TZID=UTC:20260128T200000
DTSTAMP:20260423T231536
CREATED:20251202T214342Z
LAST-MODIFIED:20251202T214342Z
UID:11279-1769623200-1769630400@eastlincolnalliance.com
SUMMARY:Recharge
DESCRIPTION:All students 6-12th grade are invited to attend.  Make sure to invite your friends!
URL:https://eastlincolnalliance.com/event/recharge-130/
LOCATION:East Lincoln Alliance Church\, 735 70th Avenue\, Amery\, WI\, 54001\, United States
END:VEVENT
BEGIN:VEVENT
DTSTART;TZID=UTC:20260127T183000
DTEND;TZID=UTC:20260127T193000
DTSTAMP:20260423T231536
CREATED:20251202T212743Z
LAST-MODIFIED:20251202T212743Z
UID:11231-1769538600-1769542200@eastlincolnalliance.com
SUMMARY:Prayer Gathering
DESCRIPTION:All are invited to join as we pray for each other\, our community and world.  Every Tuesday\, 6:30pm
URL:https://eastlincolnalliance.com/event/prayer-gathering-92/
LOCATION:East Lincoln Alliance Church\, 735 70th Avenue\, Amery\, WI\, 54001\, United States
END:VEVENT
BEGIN:VEVENT
DTSTART;TZID=UTC:20260125T173000
DTEND;TZID=UTC:20260125T200000
DTSTAMP:20260423T231536
CREATED:20251124T161140Z
LAST-MODIFIED:20251124T161140Z
UID:11157-1769362200-1769371200@eastlincolnalliance.com
SUMMARY:Small Group
DESCRIPTION:Kathy Schwanke
URL:https://eastlincolnalliance.com/event/small-group-9/
LOCATION:East Lincoln Alliance Church\, 735 70th Avenue\, Amery\, WI\, 54001\, United States
END:VEVENT
BEGIN:VEVENT
DTSTART;TZID=UTC:20260125T113000
DTEND;TZID=UTC:20260125T133000
DTSTAMP:20260423T231536
CREATED:20260108T210728Z
LAST-MODIFIED:20260108T210728Z
UID:11388-1769340600-1769347800@eastlincolnalliance.com
SUMMARY:Single Women's Fellowship
DESCRIPTION:All single women are invited to a time of fellowship after church on Sunday\, January 25th. We will enjoy lunch together and play games at Wendy Bachman’s.
URL:https://eastlincolnalliance.com/event/single-womens-fellowship-26/
LOCATION:WI
END:VEVENT
BEGIN:VEVENT
DTSTART;TZID=UTC:20260125T100000
DTEND;TZID=UTC:20260125T111500
DTSTAMP:20260423T231536
CREATED:20251202T210435Z
LAST-MODIFIED:20251202T210435Z
UID:11205-1769335200-1769339700@eastlincolnalliance.com
SUMMARY:Worship Service
DESCRIPTION:We offer the following services for kids during the Worship Service: \nEarly Childhood care for 1-3 year olds in the East Wing \n4 years old-Kindergarten in the West Wing (Discovery Land) \n1st-5th Grade in the East Wing (Discovery Land)
URL:https://eastlincolnalliance.com/event/worship-service-186/
LOCATION:East Lincoln Alliance Church\, 735 70th Avenue\, Amery\, WI\, 54001\, United States
END:VEVENT
BEGIN:VEVENT
DTSTART;TZID=UTC:20260125T084500
DTEND;TZID=UTC:20260125T094500
DTSTAMP:20260423T231536
CREATED:20251202T205819Z
LAST-MODIFIED:20251202T205819Z
UID:11179-1769330700-1769334300@eastlincolnalliance.com
SUMMARY:Discipleship Hour
DESCRIPTION:Join us for Discipleship Hour from 8:45-9:45am.  All 6th grade and up are invited.
URL:https://eastlincolnalliance.com/event/discipleship-hour-90/
LOCATION:East Lincoln Alliance Church\, 735 70th Avenue\, Amery\, WI\, 54001\, United States
END:VEVENT
BEGIN:VEVENT
DTSTART;TZID=UTC:20260123T180000
DTEND;TZID=UTC:20260123T210000
DTSTAMP:20260423T231536
CREATED:20260105T141436Z
LAST-MODIFIED:20260105T141436Z
UID:11350-1769191200-1769202000@eastlincolnalliance.com
SUMMARY:Ladies Winter Refresher
DESCRIPTION:All women are invited to the Winter Refresher on Friday\, January 23rd 6-9pm at ELAC. Join us for a meal\, friendship\, inspiration and fun! The theme for this year is Renew & Revive Us O Lord.
URL:https://eastlincolnalliance.com/event/ladies-winter-refresher-2/
LOCATION:East Lincoln Alliance Church\, 735 70th Avenue\, Amery\, WI\, 54001\, United States
END:VEVENT
BEGIN:VEVENT
DTSTART;TZID=UTC:20260122T090000
DTEND;TZID=UTC:20260122T150000
DTSTAMP:20260423T231536
CREATED:20260105T152709Z
LAST-MODIFIED:20260105T152709Z
UID:11362-1769072400-1769094000@eastlincolnalliance.com
SUMMARY:Homeschool Group
DESCRIPTION:Kayla Nelson
URL:https://eastlincolnalliance.com/event/homeschool-group-2/
LOCATION:East Lincoln Alliance Church\, 735 70th Avenue\, Amery\, WI\, 54001\, United States
END:VEVENT
BEGIN:VEVENT
DTSTART;TZID=UTC:20260121T180000
DTEND;TZID=UTC:20260121T200000
DTSTAMP:20260423T231536
CREATED:20251208T152058Z
LAST-MODIFIED:20251208T152058Z
UID:11303-1769018400-1769025600@eastlincolnalliance.com
SUMMARY:Son Seekers
DESCRIPTION:Son Seekers is a program for K-5th graders.  Programming is 6-8pm every Wednesday at East Lincoln Alliance Church. We will have games\, stories\, songs\, crafts.
URL:https://eastlincolnalliance.com/event/son-seekers-69/
LOCATION:East Lincoln Alliance Church\, 735 70th Avenue\, Amery\, WI\, 54001\, United States
END:VEVENT
BEGIN:VEVENT
DTSTART;TZID=UTC:20260121T180000
DTEND;TZID=UTC:20260121T200000
DTSTAMP:20260423T231536
CREATED:20251202T214318Z
LAST-MODIFIED:20251202T214318Z
UID:11277-1769018400-1769025600@eastlincolnalliance.com
SUMMARY:Recharge
DESCRIPTION:All students 6-12th grade are invited to attend.  Make sure to invite your friends!
URL:https://eastlincolnalliance.com/event/recharge-129/
LOCATION:East Lincoln Alliance Church\, 735 70th Avenue\, Amery\, WI\, 54001\, United States
END:VEVENT
BEGIN:VEVENT
DTSTART;TZID=UTC:20260120T183000
DTEND;TZID=UTC:20260120T193000
DTSTAMP:20260423T231536
CREATED:20251202T212717Z
LAST-MODIFIED:20251202T212717Z
UID:11229-1768933800-1768937400@eastlincolnalliance.com
SUMMARY:Prayer Gathering
DESCRIPTION:All are invited to join as we pray for each other\, our community and world.  Every Tuesday\, 6:30pm
URL:https://eastlincolnalliance.com/event/prayer-gathering-91/
LOCATION:East Lincoln Alliance Church\, 735 70th Avenue\, Amery\, WI\, 54001\, United States
END:VEVENT
BEGIN:VEVENT
DTSTART;TZID=UTC:20260119T180000
DTEND;TZID=UTC:20260119T203000
DTSTAMP:20260423T231536
CREATED:20251202T213518Z
LAST-MODIFIED:20251202T213518Z
UID:11251-1768845600-1768854600@eastlincolnalliance.com
SUMMARY:Elder Meeting
DESCRIPTION:
URL:https://eastlincolnalliance.com/event/elder-meeting-19/
LOCATION:WI
END:VEVENT
BEGIN:VEVENT
DTSTART;TZID=UTC:20260118T173000
DTEND;TZID=UTC:20260118T200000
DTSTAMP:20260423T231536
CREATED:20251124T161215Z
LAST-MODIFIED:20251124T161215Z
UID:11159-1768757400-1768766400@eastlincolnalliance.com
SUMMARY:Small Group
DESCRIPTION:Kathy Schwanke
URL:https://eastlincolnalliance.com/event/small-group-10/
LOCATION:East Lincoln Alliance Church\, 735 70th Avenue\, Amery\, WI\, 54001\, United States
END:VEVENT
BEGIN:VEVENT
DTSTART;TZID=UTC:20260118T110000
DTEND;TZID=UTC:20260118T130000
DTSTAMP:20260423T231536
CREATED:20251219T191215Z
LAST-MODIFIED:20251219T191215Z
UID:11337-1768734000-1768741200@eastlincolnalliance.com
SUMMARY:Winter Potluck
DESCRIPTION:Warm up your heart and your stomach this season at our Church Winter Potluck on Sunday\, January 18th after church!  \nBring your favorite dish to share\, and let’s enjoy a feast of delicious homemade meals together! Whether it’s soup\, casserole\, or dessert\, we can’t wait to try your specialty and celebrate the season of warmth\, community\, and joy.  \nCulinary Group #3 is in charge of the potluck duties. \nGrosskreutz\, Michelle    \nMewes\, Lori                     \nAnderson\, Terri \nChew\, Kris \nDanielson\, Amy \nDitschler\, Josje \nKrahulec\, Kandy \nLudovico\, Josie \nNoel\, Molli \nOchoa\, Anna \nPerkins\, Nicole\nRiley\, Tina \nSheffel\, Rosemary \nSpringett\, Ginni
URL:https://eastlincolnalliance.com/event/winter-potluck-3/
LOCATION:East Lincoln Alliance Church\, 735 70th Avenue\, Amery\, WI\, 54001\, United States
END:VEVENT
BEGIN:VEVENT
DTSTART;TZID=UTC:20260118T100000
DTEND;TZID=UTC:20260118T111500
DTSTAMP:20260423T231536
CREATED:20251202T210411Z
LAST-MODIFIED:20251202T210411Z
UID:11203-1768730400-1768734900@eastlincolnalliance.com
SUMMARY:Worship Service
DESCRIPTION:We offer the following services for kids during the Worship Service: \nEarly Childhood care for 1-3 year olds in the East Wing \n4 years old-Kindergarten in the West Wing (Discovery Land) \n1st-5th Grade in the East Wing (Discovery Land)
URL:https://eastlincolnalliance.com/event/worship-service-185/
LOCATION:East Lincoln Alliance Church\, 735 70th Avenue\, Amery\, WI\, 54001\, United States
END:VEVENT
BEGIN:VEVENT
DTSTART;TZID=UTC:20260118T084500
DTEND;TZID=UTC:20260118T094500
DTSTAMP:20260423T231536
CREATED:20251125T200113Z
LAST-MODIFIED:20251125T200113Z
UID:11165-1768725900-1768729500@eastlincolnalliance.com
SUMMARY:Discipleship Hour
DESCRIPTION:Join us for Discipleship Hour from 8:45-9:45am.  All 6th grade and up are invited.
URL:https://eastlincolnalliance.com/event/discipleship-hour-89/
LOCATION:East Lincoln Alliance Church\, 735 70th Avenue\, Amery\, WI\, 54001\, United States
END:VEVENT
BEGIN:VEVENT
DTSTART;TZID=UTC:20260116T180000
DTEND;TZID=UTC:20260116T200000
DTSTAMP:20260423T231536
CREATED:20260108T211746Z
LAST-MODIFIED:20260108T211746Z
UID:11424-1768586400-1768593600@eastlincolnalliance.com
SUMMARY:Grace Marriage
DESCRIPTION:
URL:https://eastlincolnalliance.com/event/grace-marriage-12/
LOCATION:East Lincoln Alliance Church\, 735 70th Avenue\, Amery\, WI\, 54001\, United States
END:VEVENT
BEGIN:VEVENT
DTSTART;TZID=UTC:20260115T180000
DTEND;TZID=UTC:20260115T203000
DTSTAMP:20260423T231536
CREATED:20260101T162401Z
LAST-MODIFIED:20260101T162401Z
UID:11346-1768500000-1768509000@eastlincolnalliance.com
SUMMARY:Homeschool Orientation - Kayla Nelson
DESCRIPTION:
URL:https://eastlincolnalliance.com/event/homeschool-orientation-kayla-nelson/
LOCATION:East Lincoln Alliance Church\, 735 70th Avenue\, Amery\, WI\, 54001\, United States
END:VEVENT
BEGIN:VEVENT
DTSTART;TZID=UTC:20260114T180000
DTEND;TZID=UTC:20260114T200000
DTSTAMP:20260423T231536
CREATED:20251208T152036Z
LAST-MODIFIED:20251208T152036Z
UID:11301-1768413600-1768420800@eastlincolnalliance.com
SUMMARY:Son Seekers
DESCRIPTION:Son Seekers is a program for K-5th graders.  Programming is 6-8pm every Wednesday at East Lincoln Alliance Church. We will have games\, stories\, songs\, crafts.
URL:https://eastlincolnalliance.com/event/son-seekers-68/
LOCATION:East Lincoln Alliance Church\, 735 70th Avenue\, Amery\, WI\, 54001\, United States
END:VEVENT
BEGIN:VEVENT
DTSTART;TZID=UTC:20260114T180000
DTEND;TZID=UTC:20260114T200000
DTSTAMP:20260423T231536
CREATED:20251202T214250Z
LAST-MODIFIED:20251202T214250Z
UID:11275-1768413600-1768420800@eastlincolnalliance.com
SUMMARY:Recharge
DESCRIPTION:All students 6-12th grade are invited to attend.  Make sure to invite your friends!
URL:https://eastlincolnalliance.com/event/recharge-128/
LOCATION:East Lincoln Alliance Church\, 735 70th Avenue\, Amery\, WI\, 54001\, United States
END:VEVENT
BEGIN:VEVENT
DTSTART;TZID=UTC:20260113T183000
DTEND;TZID=UTC:20260113T193000
DTSTAMP:20260423T231536
CREATED:20251202T212653Z
LAST-MODIFIED:20251202T212653Z
UID:11227-1768329000-1768332600@eastlincolnalliance.com
SUMMARY:Prayer Gathering
DESCRIPTION:All are invited to join as we pray for each other\, our community and world.  Every Tuesday\, 6:30pm
URL:https://eastlincolnalliance.com/event/prayer-gathering-90/
LOCATION:East Lincoln Alliance Church\, 735 70th Avenue\, Amery\, WI\, 54001\, United States
END:VEVENT
BEGIN:VEVENT
DTSTART;TZID=UTC:20260111T173000
DTEND;TZID=UTC:20260111T200000
DTSTAMP:20260423T231536
CREATED:20251124T161119Z
LAST-MODIFIED:20251124T161119Z
UID:11155-1768152600-1768161600@eastlincolnalliance.com
SUMMARY:Small Group
DESCRIPTION:Kathy Schwanke
URL:https://eastlincolnalliance.com/event/small-group-8/
LOCATION:East Lincoln Alliance Church\, 735 70th Avenue\, Amery\, WI\, 54001\, United States
END:VEVENT
BEGIN:VEVENT
DTSTART;TZID=UTC:20260111T100000
DTEND;TZID=UTC:20260111T111500
DTSTAMP:20260423T231536
CREATED:20251202T210344Z
LAST-MODIFIED:20251202T210344Z
UID:11201-1768125600-1768130100@eastlincolnalliance.com
SUMMARY:Worship Service
DESCRIPTION:We offer the following services for kids during the Worship Service: \nEarly Childhood care for 1-3 year olds in the East Wing \n4 years old-Kindergarten in the West Wing (Discovery Land) \n1st-5th Grade in the East Wing (Discovery Land)
URL:https://eastlincolnalliance.com/event/worship-service-184/
LOCATION:East Lincoln Alliance Church\, 735 70th Avenue\, Amery\, WI\, 54001\, United States
END:VEVENT
BEGIN:VEVENT
DTSTART;TZID=UTC:20260111T084500
DTEND;TZID=UTC:20260111T094500
DTSTAMP:20260423T231536
CREATED:20251125T200045Z
LAST-MODIFIED:20251125T200045Z
UID:11163-1768121100-1768124700@eastlincolnalliance.com
SUMMARY:Discipleship Hour
DESCRIPTION:Join us for Discipleship Hour from 8:45-9:45am.  All 6th grade and up are invited.
URL:https://eastlincolnalliance.com/event/discipleship-hour-88/
LOCATION:East Lincoln Alliance Church\, 735 70th Avenue\, Amery\, WI\, 54001\, United States
END:VEVENT
END:VCALENDAR