BEGIN:VCALENDAR
VERSION:2.0
PRODID:-//East Lincoln Alliance Church - ECPv6.15.20//NONSGML v1.0//EN
CALSCALE:GREGORIAN
METHOD:PUBLISH
X-ORIGINAL-URL:https://eastlincolnalliance.com
X-WR-CALDESC:Events for East Lincoln Alliance Church
REFRESH-INTERVAL;VALUE=DURATION:PT1H
X-Robots-Tag:noindex
X-PUBLISHED-TTL:PT1H
BEGIN:VTIMEZONE
TZID:UTC
BEGIN:STANDARD
TZOFFSETFROM:+0000
TZOFFSETTO:+0000
TZNAME:UTC
DTSTART:20170101T000000
END:STANDARD
END:VTIMEZONE
BEGIN:VEVENT
DTSTART;TZID=UTC:20180328T180000
DTEND;TZID=UTC:20180328T200000
DTSTAMP:20260424T120646
CREATED:20180224T022608Z
LAST-MODIFIED:20180224T022608Z
UID:3717-1522260000-1522267200@eastlincolnalliance.com
SUMMARY:Recharge
DESCRIPTION:
URL:https://eastlincolnalliance.com/event/recharge-4/
LOCATION:East Lincoln Alliance Church\, 735 70th Avenue\, Amery\, WI\, 54001\, United States
CATEGORIES:Youth
END:VEVENT
BEGIN:VEVENT
DTSTART;TZID=UTC:20180321T180000
DTEND;TZID=UTC:20180321T200000
DTSTAMP:20260424T120646
CREATED:20180224T022406Z
LAST-MODIFIED:20180224T022406Z
UID:3711-1521655200-1521662400@eastlincolnalliance.com
SUMMARY:Recharge
DESCRIPTION:
URL:https://eastlincolnalliance.com/event/recharge-3/
LOCATION:East Lincoln Alliance Church\, 735 70th Avenue\, Amery\, WI\, 54001\, United States
CATEGORIES:Youth
END:VEVENT
BEGIN:VEVENT
DTSTART;TZID=UTC:20180314T180000
DTEND;TZID=UTC:20180314T200000
DTSTAMP:20260424T120646
CREATED:20180224T022042Z
LAST-MODIFIED:20180224T022042Z
UID:3705-1521050400-1521057600@eastlincolnalliance.com
SUMMARY:Recharge
DESCRIPTION:
URL:https://eastlincolnalliance.com/event/recharge-2/
LOCATION:East Lincoln Alliance Church\, 735 70th Avenue\, Amery\, WI\, 54001\, United States
CATEGORIES:Youth
END:VEVENT
BEGIN:VEVENT
DTSTART;TZID=UTC:20180307T180000
DTEND;TZID=UTC:20180307T200000
DTSTAMP:20260424T120646
CREATED:20180224T021810Z
LAST-MODIFIED:20180224T021810Z
UID:3699-1520445600-1520452800@eastlincolnalliance.com
SUMMARY:Recharge
DESCRIPTION:
URL:https://eastlincolnalliance.com/event/recharge/
LOCATION:East Lincoln Alliance Church\, 735 70th Avenue\, Amery\, WI\, 54001\, United States
CATEGORIES:Youth
END:VEVENT
END:VCALENDAR