BEGIN:VCALENDAR
VERSION:2.0
PRODID:-//East Lincoln Alliance Church - ECPv6.15.20//NONSGML v1.0//EN
CALSCALE:GREGORIAN
METHOD:PUBLISH
X-ORIGINAL-URL:https://eastlincolnalliance.com
X-WR-CALDESC:Events for East Lincoln Alliance Church
REFRESH-INTERVAL;VALUE=DURATION:PT1H
X-Robots-Tag:noindex
X-PUBLISHED-TTL:PT1H
BEGIN:VTIMEZONE
TZID:UTC
BEGIN:STANDARD
TZOFFSETFROM:+0000
TZOFFSETTO:+0000
TZNAME:UTC
DTSTART:20170101T000000
END:STANDARD
END:VTIMEZONE
BEGIN:VEVENT
DTSTART;TZID=UTC:20180330T190000
DTEND;TZID=UTC:20180330T200000
DTSTAMP:20260424T134825
CREATED:20180224T022658Z
LAST-MODIFIED:20180321T150645Z
UID:3719-1522436400-1522440000@eastlincolnalliance.com
SUMMARY:Good Friday Service
DESCRIPTION:
URL:https://eastlincolnalliance.com/event/good-friday/
LOCATION:Apple River Community Church\, 942 Hwy 8\, Amery\, WI\, 54001
CATEGORIES:Holiday
END:VEVENT
END:VCALENDAR