BEGIN:VCALENDAR
VERSION:2.0
PRODID:-//East Lincoln Alliance Church - ECPv6.15.20//NONSGML v1.0//EN
CALSCALE:GREGORIAN
METHOD:PUBLISH
X-WR-CALNAME:East Lincoln Alliance Church
X-ORIGINAL-URL:https://eastlincolnalliance.com
X-WR-CALDESC:Events for East Lincoln Alliance Church
REFRESH-INTERVAL;VALUE=DURATION:PT1H
X-Robots-Tag:noindex
X-PUBLISHED-TTL:PT1H
BEGIN:VTIMEZONE
TZID:UTC
BEGIN:STANDARD
TZOFFSETFROM:+0000
TZOFFSETTO:+0000
TZNAME:UTC
DTSTART:20170101T000000
END:STANDARD
END:VTIMEZONE
BEGIN:VEVENT
DTSTART;TZID=UTC:20180321T150000
DTEND;TZID=UTC:20180321T160000
DTSTAMP:20260424T110026
CREATED:20180224T022329Z
LAST-MODIFIED:20180224T022329Z
UID:3709-1521644400-1521648000@eastlincolnalliance.com
SUMMARY:Good News Clubs
DESCRIPTION:
URL:https://eastlincolnalliance.com/event/good-news-clubs-3/
LOCATION:Amery Schools\, Minneapolis Ave\, Amery\, WI\, 54001\, United States
CATEGORIES:Children
END:VEVENT
BEGIN:VEVENT
DTSTART;TZID=UTC:20180314T150000
DTEND;TZID=UTC:20180314T160000
DTSTAMP:20260424T110026
CREATED:20180224T021951Z
LAST-MODIFIED:20180224T021951Z
UID:3703-1521039600-1521043200@eastlincolnalliance.com
SUMMARY:Good News Clubs
DESCRIPTION:
URL:https://eastlincolnalliance.com/event/good-news-clubs-2/
LOCATION:Amery Schools\, Minneapolis Ave\, Amery\, WI\, 54001\, United States
CATEGORIES:Children
END:VEVENT
BEGIN:VEVENT
DTSTART;TZID=UTC:20180307T150000
DTEND;TZID=UTC:20180307T160000
DTSTAMP:20260424T110026
CREATED:20180224T021726Z
LAST-MODIFIED:20180224T021726Z
UID:3696-1520434800-1520438400@eastlincolnalliance.com
SUMMARY:Good News Clubs
DESCRIPTION:
URL:https://eastlincolnalliance.com/event/good-news-clubs/
LOCATION:Amery Schools\, Minneapolis Ave\, Amery\, WI\, 54001\, United States
CATEGORIES:Children
END:VEVENT
END:VCALENDAR