BEGIN:VCALENDAR
VERSION:2.0
PRODID:-//East Lincoln Alliance Church - ECPv6.15.20//NONSGML v1.0//EN
CALSCALE:GREGORIAN
METHOD:PUBLISH
X-ORIGINAL-URL:https://eastlincolnalliance.com
X-WR-CALDESC:Events for East Lincoln Alliance Church
REFRESH-INTERVAL;VALUE=DURATION:PT1H
X-Robots-Tag:noindex
X-PUBLISHED-TTL:PT1H
BEGIN:VTIMEZONE
TZID:UTC
BEGIN:STANDARD
TZOFFSETFROM:+0000
TZOFFSETTO:+0000
TZNAME:UTC
DTSTART:20250101T000000
END:STANDARD
END:VTIMEZONE
BEGIN:VEVENT
DTSTART;TZID=UTC:20260606T093000
DTEND;TZID=UTC:20260606T170000
DTSTAMP:20260423T171638
CREATED:20260330T163828Z
LAST-MODIFIED:20260330T163828Z
UID:11786-1780738200-1780765200@eastlincolnalliance.com
SUMMARY:Brat Stand
DESCRIPTION:The youth will be running the brat stand at Dick’s Market on June 5th & 6th. Plan to stop by to support them as they raise money for fun youth events!
URL:https://eastlincolnalliance.com/event/brat-stand-2/
LOCATION:Dick’s Market\, 1050 River Place Mall\, Amery\, WI\, 54001\, United States
END:VEVENT
END:VCALENDAR