BEGIN:VCALENDAR
VERSION:2.0
PRODID:-//East Lincoln Alliance Church - ECPv6.15.20//NONSGML v1.0//EN
CALSCALE:GREGORIAN
METHOD:PUBLISH
X-ORIGINAL-URL:https://eastlincolnalliance.com
X-WR-CALDESC:Events for East Lincoln Alliance Church
REFRESH-INTERVAL;VALUE=DURATION:PT1H
X-Robots-Tag:noindex
X-PUBLISHED-TTL:PT1H
BEGIN:VTIMEZONE
TZID:UTC
BEGIN:STANDARD
TZOFFSETFROM:+0000
TZOFFSETTO:+0000
TZNAME:UTC
DTSTART:20250101T000000
END:STANDARD
END:VTIMEZONE
BEGIN:VEVENT
DTSTART;TZID=UTC:20260524T084500
DTEND;TZID=UTC:20260524T094500
DTSTAMP:20260423T171742
CREATED:20260304T162732Z
LAST-MODIFIED:20260304T162732Z
UID:11602-1779612300-1779615900@eastlincolnalliance.com
SUMMARY:Discipleship Hour
DESCRIPTION:Join us for Discipleship Hour from 8:45-9:45am.  All 6th grade and up are invited.
URL:https://eastlincolnalliance.com/event/discipleship-hour-106/
LOCATION:East Lincoln Alliance Church\, 735 70th Avenue\, Amery\, WI\, 54001\, United States
END:VEVENT
BEGIN:VEVENT
DTSTART;TZID=UTC:20260524T100000
DTEND;TZID=UTC:20260524T111500
DTSTAMP:20260423T171742
CREATED:20260304T163509Z
LAST-MODIFIED:20260304T163509Z
UID:11628-1779616800-1779621300@eastlincolnalliance.com
SUMMARY:Worship Service
DESCRIPTION:We offer the following services for kids during the Worship Service: \nEarly Childhood care for 1-3 year olds in the East Wing \n4 years old-Kindergarten in the West Wing (Discovery Land) \n1st-3rd Grade in the East Wing (Discovery Land)
URL:https://eastlincolnalliance.com/event/worship-service-202/
LOCATION:East Lincoln Alliance Church\, 735 70th Avenue\, Amery\, WI\, 54001\, United States
END:VEVENT
BEGIN:VEVENT
DTSTART;TZID=UTC:20260524T130000
DTEND;TZID=UTC:20260524T150000
DTSTAMP:20260423T171742
CREATED:20260304T161927Z
LAST-MODIFIED:20260304T161927Z
UID:11588-1779627600-1779634800@eastlincolnalliance.com
SUMMARY:Reserved
DESCRIPTION:set up for grad party
URL:https://eastlincolnalliance.com/event/reserved-2/
LOCATION:East Lincoln Alliance Church\, 735 70th Avenue\, Amery\, WI\, 54001\, United States
END:VEVENT
BEGIN:VEVENT
DTSTART;TZID=UTC:20260524T150000
DTEND;TZID=UTC:20260524T190000
DTSTAMP:20260423T171742
CREATED:20260304T161840Z
LAST-MODIFIED:20260304T161840Z
UID:11586-1779634800-1779649200@eastlincolnalliance.com
SUMMARY:Nour Saleh Graduation Party
DESCRIPTION:
URL:https://eastlincolnalliance.com/event/nour-saleh-graduation-party/
LOCATION:East Lincoln Alliance Church\, 735 70th Avenue\, Amery\, WI\, 54001\, United States
END:VEVENT
END:VCALENDAR