BEGIN:VCALENDAR
VERSION:2.0
PRODID:-//East Lincoln Alliance Church - ECPv6.15.20//NONSGML v1.0//EN
CALSCALE:GREGORIAN
METHOD:PUBLISH
X-ORIGINAL-URL:https://eastlincolnalliance.com
X-WR-CALDESC:Events for East Lincoln Alliance Church
REFRESH-INTERVAL;VALUE=DURATION:PT1H
X-Robots-Tag:noindex
X-PUBLISHED-TTL:PT1H
BEGIN:VTIMEZONE
TZID:UTC
BEGIN:STANDARD
TZOFFSETFROM:+0000
TZOFFSETTO:+0000
TZNAME:UTC
DTSTART:20250101T000000
END:STANDARD
END:VTIMEZONE
BEGIN:VEVENT
DTSTART;TZID=UTC:20260429T151500
DTEND;TZID=UTC:20260429T163000
DTSTAMP:20260423T171659
CREATED:20260304T165103Z
LAST-MODIFIED:20260304T165103Z
UID:11680-1777475700-1777480200@eastlincolnalliance.com
SUMMARY:After School Good News Club
DESCRIPTION:All K-5th grade students are invited to After School Good News Club at Lien Elementary School (Amery) right after school (3:15pm) until 4:30pm every Wednesday that Amery Schools are in session. \nStudents attending the Intermediate School should ride the transfer bus to the Elementary School. Registration Forms must be filled out (below).   Questions? Contact Mary Schussman. \neastlincolnalliance.com/ninja-forms/10okpn/
URL:https://eastlincolnalliance.com/event/after-school-good-news-club-108/
LOCATION:Lien Elementary School\, 469 Minneapolis Ave S\, Amery\, WI\, 54001\, United States
END:VEVENT
BEGIN:VEVENT
DTSTART;TZID=UTC:20260429T173000
DTEND;TZID=UTC:20260429T193000
DTSTAMP:20260423T171659
CREATED:20260330T162636Z
LAST-MODIFIED:20260330T162636Z
UID:11780-1777483800-1777491000@eastlincolnalliance.com
SUMMARY:Mexican Fiesta
DESCRIPTION:The youth will be preparing a taco meal for all to enjoy on Wednesday\, April 30th from 5:30-7:30pm. \nPlease join us for a meal and fellowship! Free will offering\, will proceeds going to support youth events.
URL:https://eastlincolnalliance.com/event/mexican-fiesta-6/
LOCATION:East Lincoln Alliance Church\, 735 70th Avenue\, Amery\, WI\, 54001\, United States
END:VEVENT
BEGIN:VEVENT
DTSTART;TZID=UTC:20260429T180000
DTEND;TZID=UTC:20260429T200000
DTSTAMP:20260423T171659
CREATED:20260309T140720Z
LAST-MODIFIED:20260309T140720Z
UID:11728-1777485600-1777492800@eastlincolnalliance.com
SUMMARY:Son Seekers
DESCRIPTION:Son Seekers is a program for K-5th graders.  Programming is 6-8pm every Wednesday at East Lincoln Alliance Church. We will have games\, stories\, songs\, crafts.
URL:https://eastlincolnalliance.com/event/son-seekers-82/
LOCATION:East Lincoln Alliance Church\, 735 70th Avenue\, Amery\, WI\, 54001\, United States
END:VEVENT
END:VCALENDAR