BEGIN:VCALENDAR
VERSION:2.0
PRODID:-//East Lincoln Alliance Church - ECPv6.15.20//NONSGML v1.0//EN
CALSCALE:GREGORIAN
METHOD:PUBLISH
X-ORIGINAL-URL:https://eastlincolnalliance.com
X-WR-CALDESC:Events for East Lincoln Alliance Church
REFRESH-INTERVAL;VALUE=DURATION:PT1H
X-Robots-Tag:noindex
X-PUBLISHED-TTL:PT1H
BEGIN:VTIMEZONE
TZID:UTC
BEGIN:STANDARD
TZOFFSETFROM:+0000
TZOFFSETTO:+0000
TZNAME:UTC
DTSTART:20250101T000000
END:STANDARD
END:VTIMEZONE
BEGIN:VEVENT
DTSTART;TZID=UTC:20260426T084500
DTEND;TZID=UTC:20260426T094500
DTSTAMP:20260423T160025
CREATED:20260304T162529Z
LAST-MODIFIED:20260304T162529Z
UID:11594-1777193100-1777196700@eastlincolnalliance.com
SUMMARY:Discipleship Hour
DESCRIPTION:Join us for Discipleship Hour from 8:45-9:45am.  All 6th grade and up are invited.
URL:https://eastlincolnalliance.com/event/discipleship-hour-102/
LOCATION:East Lincoln Alliance Church\, 735 70th Avenue\, Amery\, WI\, 54001\, United States
END:VEVENT
BEGIN:VEVENT
DTSTART;TZID=UTC:20260426T100000
DTEND;TZID=UTC:20260426T111500
DTSTAMP:20260423T160025
CREATED:20260304T163247Z
LAST-MODIFIED:20260304T163247Z
UID:11620-1777197600-1777202100@eastlincolnalliance.com
SUMMARY:Worship Service
DESCRIPTION:We offer the following services for kids during the Worship Service: \nEarly Childhood care for 1-3 year olds in the East Wing \n4 years old-Kindergarten in the West Wing (Discovery Land) \n1st-3rd Grade in the East Wing (Discovery Land)
URL:https://eastlincolnalliance.com/event/worship-service-198/
LOCATION:East Lincoln Alliance Church\, 735 70th Avenue\, Amery\, WI\, 54001\, United States
END:VEVENT
BEGIN:VEVENT
DTSTART;TZID=UTC:20260426T113000
DTEND;TZID=UTC:20260426T140000
DTSTAMP:20260423T160025
CREATED:20260108T211253Z
LAST-MODIFIED:20260108T211253Z
UID:11406-1777203000-1777212000@eastlincolnalliance.com
SUMMARY:Single Women's Fellowship
DESCRIPTION:All single women are invited to a time of fellowship after church. We will enjoy lunch together and play games at Wendy Bachman’s.
URL:https://eastlincolnalliance.com/event/single-womens-fellowship-29/
LOCATION:WI
END:VEVENT
END:VCALENDAR