BEGIN:VCALENDAR
VERSION:2.0
PRODID:-//East Lincoln Alliance Church - ECPv6.15.20//NONSGML v1.0//EN
CALSCALE:GREGORIAN
METHOD:PUBLISH
X-ORIGINAL-URL:https://eastlincolnalliance.com
X-WR-CALDESC:Events for East Lincoln Alliance Church
REFRESH-INTERVAL;VALUE=DURATION:PT1H
X-Robots-Tag:noindex
X-PUBLISHED-TTL:PT1H
BEGIN:VTIMEZONE
TZID:UTC
BEGIN:STANDARD
TZOFFSETFROM:+0000
TZOFFSETTO:+0000
TZNAME:UTC
DTSTART:20250101T000000
END:STANDARD
END:VTIMEZONE
BEGIN:VEVENT
DTSTART;TZID=UTC:20260403T190000
DTEND;TZID=UTC:20260403T200000
DTSTAMP:20260423T155953
CREATED:20260228T172539Z
LAST-MODIFIED:20260228T172539Z
UID:11571-1775242800-1775246400@eastlincolnalliance.com
SUMMARY:Good Friday Service
DESCRIPTION:Journey Church (131 Broadway Street E\, Amery) will be hosting the Community Good Friday Service on Friday\, April 3rd at 7:00pm. All are welcome to attend. \nJoin together with other churches as we begin our Easter celebrations.
URL:https://eastlincolnalliance.com/event/good-friday-service-3/
LOCATION:Journey Church\, 131 Broadway Street East\, Amery\, WI\, 54001\, United States
END:VEVENT
END:VCALENDAR