BEGIN:VCALENDAR
VERSION:2.0
PRODID:-//East Lincoln Alliance Church - ECPv6.15.20//NONSGML v1.0//EN
CALSCALE:GREGORIAN
METHOD:PUBLISH
X-WR-CALNAME:East Lincoln Alliance Church
X-ORIGINAL-URL:https://eastlincolnalliance.com
X-WR-CALDESC:Events for East Lincoln Alliance Church
REFRESH-INTERVAL;VALUE=DURATION:PT1H
X-Robots-Tag:noindex
X-PUBLISHED-TTL:PT1H
BEGIN:VTIMEZONE
TZID:UTC
BEGIN:STANDARD
TZOFFSETFROM:+0000
TZOFFSETTO:+0000
TZNAME:UTC
DTSTART:20250101T000000
END:STANDARD
END:VTIMEZONE
BEGIN:VEVENT
DTSTART;VALUE=DATE:20260308
DTEND;VALUE=DATE:20260330
DTSTAMP:20260423T171643
CREATED:20260205T222253Z
LAST-MODIFIED:20260321T192245Z
UID:11510-1772928000-1774828799@eastlincolnalliance.com
SUMMARY:Missions Fundraiser Silent Auction
DESCRIPTION:
URL:https://eastlincolnalliance.com/event/missions-fundraiser-silent-auction/
LOCATION:East Lincoln Alliance Church\, 735 70th Avenue\, Amery\, WI\, 54001\, United States
END:VEVENT
BEGIN:VEVENT
DTSTART;TZID=UTC:20260308T084500
DTEND;TZID=UTC:20260308T094500
DTSTAMP:20260423T171643
CREATED:20251202T210103Z
LAST-MODIFIED:20251202T210103Z
UID:11191-1772959500-1772963100@eastlincolnalliance.com
SUMMARY:Discipleship Hour
DESCRIPTION:Join us for Discipleship Hour from 8:45-9:45am.  All 6th grade and up are invited.
URL:https://eastlincolnalliance.com/event/discipleship-hour-96/
LOCATION:East Lincoln Alliance Church\, 735 70th Avenue\, Amery\, WI\, 54001\, United States
END:VEVENT
BEGIN:VEVENT
DTSTART;TZID=UTC:20260308T100000
DTEND;TZID=UTC:20260308T111500
DTSTAMP:20260423T171643
CREATED:20251202T211645Z
LAST-MODIFIED:20251202T211645Z
UID:11217-1772964000-1772968500@eastlincolnalliance.com
SUMMARY:Worship Service
DESCRIPTION:We offer the following services for kids during the Worship Service: \nEarly Childhood care for 1-3 year olds in the East Wing \n4 years old-Kindergarten in the West Wing (Discovery Land) \n1st-5th Grade in the East Wing (Discovery Land)
URL:https://eastlincolnalliance.com/event/worship-service-192/
LOCATION:East Lincoln Alliance Church\, 735 70th Avenue\, Amery\, WI\, 54001\, United States
END:VEVENT
END:VCALENDAR