BEGIN:VCALENDAR
VERSION:2.0
PRODID:-//East Lincoln Alliance Church - ECPv6.15.20//NONSGML v1.0//EN
CALSCALE:GREGORIAN
METHOD:PUBLISH
X-ORIGINAL-URL:https://eastlincolnalliance.com
X-WR-CALDESC:Events for East Lincoln Alliance Church
REFRESH-INTERVAL;VALUE=DURATION:PT1H
X-Robots-Tag:noindex
X-PUBLISHED-TTL:PT1H
BEGIN:VTIMEZONE
TZID:UTC
BEGIN:STANDARD
TZOFFSETFROM:+0000
TZOFFSETTO:+0000
TZNAME:UTC
DTSTART:20250101T000000
END:STANDARD
END:VTIMEZONE
BEGIN:VEVENT
DTSTART;TZID=UTC:20260205T090000
DTEND;TZID=UTC:20260205T150000
DTSTAMP:20260423T185924
CREATED:20260105T152846Z
LAST-MODIFIED:20260105T152846Z
UID:11366-1770282000-1770303600@eastlincolnalliance.com
SUMMARY:Homeschool Group
DESCRIPTION:Kayla Nelson
URL:https://eastlincolnalliance.com/event/homeschool-group-4/
LOCATION:East Lincoln Alliance Church\, 735 70th Avenue\, Amery\, WI\, 54001\, United States
END:VEVENT
BEGIN:VEVENT
DTSTART;TZID=UTC:20260205T183000
DTEND;TZID=UTC:20260205T203000
DTSTAMP:20260423T185924
CREATED:20260131T193646Z
LAST-MODIFIED:20260131T193646Z
UID:11497-1770316200-1770323400@eastlincolnalliance.com
SUMMARY:Mission Trip Dinner
DESCRIPTION:
URL:https://eastlincolnalliance.com/event/mission-trip-dinner/
LOCATION:East Lincoln Alliance Church\, 735 70th Avenue\, Amery\, WI\, 54001\, United States
END:VEVENT
END:VCALENDAR