BEGIN:VCALENDAR
VERSION:2.0
PRODID:-//East Lincoln Alliance Church - ECPv6.15.20//NONSGML v1.0//EN
CALSCALE:GREGORIAN
METHOD:PUBLISH
X-WR-CALNAME:East Lincoln Alliance Church
X-ORIGINAL-URL:https://eastlincolnalliance.com
X-WR-CALDESC:Events for East Lincoln Alliance Church
REFRESH-INTERVAL;VALUE=DURATION:PT1H
X-Robots-Tag:noindex
X-PUBLISHED-TTL:PT1H
BEGIN:VTIMEZONE
TZID:UTC
BEGIN:STANDARD
TZOFFSETFROM:+0000
TZOFFSETTO:+0000
TZNAME:UTC
DTSTART:20240101T000000
END:STANDARD
END:VTIMEZONE
BEGIN:VEVENT
DTSTART;TZID=UTC:20251228T084500
DTEND;TZID=UTC:20251228T094500
DTSTAMP:20260424T001705
CREATED:20250909T194326Z
LAST-MODIFIED:20250909T194326Z
UID:10989-1766911500-1766915100@eastlincolnalliance.com
SUMMARY:Discipleship Hour
DESCRIPTION:Join us for Discipleship Hour from 8:45-9:45am.  All 6th grade and up are invited.
URL:https://eastlincolnalliance.com/event/discipleship-hour-86/
LOCATION:East Lincoln Alliance Church\, 735 70th Avenue\, Amery\, WI\, 54001\, United States
END:VEVENT
BEGIN:VEVENT
DTSTART;TZID=UTC:20251228T100000
DTEND;TZID=UTC:20251228T111500
DTSTAMP:20260424T001705
CREATED:20250909T195657Z
LAST-MODIFIED:20250909T195657Z
UID:11015-1766916000-1766920500@eastlincolnalliance.com
SUMMARY:Worship Service
DESCRIPTION:We welcome you to our regular worship service every Sunday @ 10:00am.\n\n\n\nWe offer the following services for kids during the Worship Service: \nEarly Childhood care for 1-3 year olds in the East Wing \n4 years old-Kindergarten in the West Wing (Discovery Land) \n1st-5th Grade in the East Wing (Discovery Land)
URL:https://eastlincolnalliance.com/event/worship-service-182/
LOCATION:East Lincoln Alliance Church\, 735 70th Avenue\, Amery\, WI\, 54001\, United States
END:VEVENT
BEGIN:VEVENT
DTSTART;TZID=UTC:20251228T113000
DTEND;TZID=UTC:20251228T150000
DTSTAMP:20260424T001705
CREATED:20251219T191026Z
LAST-MODIFIED:20251219T191026Z
UID:11335-1766921400-1766934000@eastlincolnalliance.com
SUMMARY:Single Women's Fellowship
DESCRIPTION:All single women are invited to a time of fellowship after church on Sunday\, December 28th. We will a lunch out and then play games at Wendy Bachman’s.
URL:https://eastlincolnalliance.com/event/single-womens-fellowship-25/
LOCATION:Wendy Bachman’s
END:VEVENT
BEGIN:VEVENT
DTSTART;TZID=UTC:20251228T173000
DTEND;TZID=UTC:20251228T200000
DTSTAMP:20260424T001705
CREATED:20251124T161036Z
LAST-MODIFIED:20251124T161036Z
UID:11151-1766943000-1766952000@eastlincolnalliance.com
SUMMARY:Small Group
DESCRIPTION:Kathy Schwanke
URL:https://eastlincolnalliance.com/event/small-group-6/
LOCATION:East Lincoln Alliance Church\, 735 70th Avenue\, Amery\, WI\, 54001\, United States
END:VEVENT
END:VCALENDAR