BEGIN:VCALENDAR
VERSION:2.0
PRODID:-//East Lincoln Alliance Church - ECPv6.15.20//NONSGML v1.0//EN
CALSCALE:GREGORIAN
METHOD:PUBLISH
X-WR-CALNAME:East Lincoln Alliance Church
X-ORIGINAL-URL:https://eastlincolnalliance.com
X-WR-CALDESC:Events for East Lincoln Alliance Church
REFRESH-INTERVAL;VALUE=DURATION:PT1H
X-Robots-Tag:noindex
X-PUBLISHED-TTL:PT1H
BEGIN:VTIMEZONE
TZID:UTC
BEGIN:STANDARD
TZOFFSETFROM:+0000
TZOFFSETTO:+0000
TZNAME:UTC
DTSTART:20240101T000000
END:STANDARD
END:VTIMEZONE
BEGIN:VEVENT
DTSTART;TZID=UTC:20251214T084500
DTEND;TZID=UTC:20251214T094500
DTSTAMP:20260424T025735
CREATED:20250909T193948Z
LAST-MODIFIED:20250909T193948Z
UID:10985-1765701900-1765705500@eastlincolnalliance.com
SUMMARY:Discipleship Hour
DESCRIPTION:Join us for Discipleship Hour from 8:45-9:45am.  All 6th grade and up are invited.
URL:https://eastlincolnalliance.com/event/discipleship-hour-84/
LOCATION:East Lincoln Alliance Church\, 735 70th Avenue\, Amery\, WI\, 54001\, United States
END:VEVENT
BEGIN:VEVENT
DTSTART;TZID=UTC:20251214T100000
DTEND;TZID=UTC:20251214T111500
DTSTAMP:20260424T025735
CREATED:20250909T195612Z
LAST-MODIFIED:20250909T195612Z
UID:11011-1765706400-1765710900@eastlincolnalliance.com
SUMMARY:Worship Service
DESCRIPTION:We welcome you to our regular worship service every Sunday @ 10:00am.\n\n\n\nWe offer the following services for kids during the Worship Service: \nEarly Childhood care for 1-3 year olds in the East Wing \n4 years old-Kindergarten in the West Wing (Discovery Land) \n1st-5th Grade in the East Wing (Discovery Land)
URL:https://eastlincolnalliance.com/event/worship-service-180/
LOCATION:East Lincoln Alliance Church\, 735 70th Avenue\, Amery\, WI\, 54001\, United States
END:VEVENT
BEGIN:VEVENT
DTSTART;TZID=UTC:20251214T110000
DTEND;TZID=UTC:20251214T120000
DTSTAMP:20260424T025735
CREATED:20251103T180608Z
LAST-MODIFIED:20251103T180608Z
UID:11109-1765710000-1765713600@eastlincolnalliance.com
SUMMARY:Fundraiser Bake Sale
DESCRIPTION:SAVE THE DATE!  December 14th following our church service! \nThere will be a “Free Will Offering” Christmas Bake Sale \nfor Rosemary and Erika on their upcoming Uganda Mission Trip \nin January\, 2026.  We are asking for donations of cookies\, bars\, and \nother goodies and crafts.  More details to follow later! \nPlease message or call Rita Bailey (601-946-4613) with any questions.
URL:https://eastlincolnalliance.com/event/fundraiser-bake-sale/
LOCATION:East Lincoln Alliance Church\, 735 70th Avenue\, Amery\, WI\, 54001\, United States
END:VEVENT
BEGIN:VEVENT
DTSTART;TZID=UTC:20251214T173000
DTEND;TZID=UTC:20251214T200000
DTSTAMP:20260424T025735
CREATED:20251124T160121Z
LAST-MODIFIED:20251124T160121Z
UID:11147-1765733400-1765742400@eastlincolnalliance.com
SUMMARY:Small Group
DESCRIPTION:Kathy Schwanke
URL:https://eastlincolnalliance.com/event/small-group-4/
LOCATION:East Lincoln Alliance Church\, 735 70th Avenue\, Amery\, WI\, 54001\, United States
END:VEVENT
END:VCALENDAR